Workbook

Sheet Full list
A1: Product Analysis Data
A2: Please note the highlighted fields indicate PCNs where there are multiple practices (see PCN tab') however it is currently unknown which practices within that PCN are using which products so ICBs will need to confirm this with each PCN
A4: ICB | B4: Region | C4: Organisation Type | D4: Practices - Account Name | E4: ODS Code | F4: Status | G4: Licence Start | H4: SP Contract Type | I4: Source Row | J4: Status OC | K4: Status Website | L4: Date/Time checked | M4: Population | P4: Practices affected population | R4: Total Population | T4: Percent affected
A5: Betsi Cadwaladr University Health Board | B5: Wales | C5: GP Practice | D5: Queensferry Medical Practice | E5: W91051 | F5: Active | G5: 18/05 | H5: Direct | I5: 548 | J5: Running | K5: Running | M5: =_xlfn.XLOOKUP(AnalysisData[[#This Row],[ODS Code]],'gp-reg-pat-prac-all'!$F$2:$F$6125,'gp-reg-pat-prac-all'!$J$2:$J$6125) -> #N/A
A6: NHS BATH AND NORTH EAST SOMERSET, SWINDON AND WILTSHIRE INTEGRATED CARE BOARD | B6: South West | C6: GP Practice | D6: Barcroft Medical Centre | E6: J83005 | F6: Active | G6: 01/04 | H6: Direct | I6: 396 | M6: =_xlfn.XLOOKUP(AnalysisData[[#This Row],[ODS Code]],'gp-reg-pat-prac-all'!$F$2:$F$6125,'gp-reg-pat-prac-all'!$J$2:$J$6125) -> 10640 | P6: =SUBTOTAL(9,M6:M653) -> #N/A | R6: =SUM('gp-reg-pat-prac-all'!J2:J6125) -> 63013969 | T6: =P6/R6 -> #N/A
A7: NHS BATH AND NORTH EAST SOMERSET, SWINDON AND WILTSHIRE INTEGRATED CARE BOARD | B7: South West | C7: Branch surgery | D7: Cherry Orchard Surgery | E7: J83019001 | F7: Active | G7: 01/10 | H7: Direct | I7: 413 | M7: =_xlfn.XLOOKUP(AnalysisData[[#This Row],[ODS Code]],'gp-reg-pat-prac-all'!$F$2:$F$6125,'gp-reg-pat-prac-all'!$J$2:$J$6125) -> #N/A
A8: NHS BATH AND NORTH EAST SOMERSET, SWINDON AND WILTSHIRE INTEGRATED CARE BOARD | B8: South West | C8: GP Practice | D8: Courtyard Surgery | E8: J83619 | F8: Active | G8: 01/10 | H8: Direct | I8: 418 | M8: =_xlfn.XLOOKUP(AnalysisData[[#This Row],[ODS Code]],'gp-reg-pat-prac-all'!$F$2:$F$6125,'gp-reg-pat-prac-all'!$J$2:$J$6125) -> 3447
A9: NHS BATH AND NORTH EAST SOMERSET, SWINDON AND WILTSHIRE INTEGRATED CARE BOARD | B9: South West | C9: GP Practice | D9: New Court Surgery | E9: J83055 | F9: Active | G9: 01/04 | H9: Direct | I9: 442 | M9: =_xlfn.XLOOKUP(AnalysisData[[#This Row],[ODS Code]],'gp-reg-pat-prac-all'!$F$2:$F$6125,'gp-reg-pat-prac-all'!$J$2:$J$6125) -> 9960
A10: NHS BATH AND NORTH EAST SOMERSET, SWINDON AND WILTSHIRE INTEGRATED CARE BOARD | B10: South West | C10: GP Practice | D10: Old Orchard Surgery | E10: J83019 | F10: Active | G10: 01/10 | H10: Direct | I10: 444 | M10: =_xlfn.XLOOKUP(AnalysisData[[#This Row],[ODS Code]],'gp-reg-pat-prac-all'!$F$2:$F$6125,'gp-reg-pat-prac-all'!$J$2:$J$6125) -> 12344
A11: NHS BATH AND NORTH EAST SOMERSET, SWINDON AND WILTSHIRE INTEGRATED CARE BOARD | B11: South West | C11: GP Practice | D11: Silton Surgery | E11: J83629 | F11: Active | G11: 01/10 | H11: Direct | I11: 457 | M11: =_xlfn.XLOOKUP(AnalysisData[[#This Row],[ODS Code]],'gp-reg-pat-prac-all'!$F$2:$F$6125,'gp-reg-pat-prac-all'!$J$2:$J$6125) -> 2432
A12: NHS BATH AND NORTH EAST SOMERSET, SWINDON AND WILTSHIRE INTEGRATED CARE BOARD | B12: South West | C12: Branch surgery | D12: Spring Orchard Surgery | E12: J83019002 | F12: Active | G12: 01/10 | H12: Direct | I12: 459 | M12: =_xlfn.XLOOKUP(AnalysisData[[#This Row],[ODS Code]],'gp-reg-pat-prac-all'!$F$2:$F$6125,'gp-reg-pat-prac-all'!$J$2:$J$6125) -> #N/A
A13: NHS BATH AND NORTH EAST SOMERSET, SWINDON AND WILTSHIRE INTEGRATED CARE BOARD | B13: South West | C13: GP Practice | D13: St Melor House Surgery | E13: J83048 | F13: Active | G13: 01/04 | H13: Direct | I13: 462 | M13: =_xlfn.XLOOKUP(AnalysisData[[#This Row],[ODS Code]],'gp-reg-pat-prac-all'!$F$2:$F$6125,'gp-reg-pat-prac-all'!$J$2:$J$6125) -> 6906
A14: NHS BATH AND NORTH EAST SOMERSET, SWINDON AND WILTSHIRE INTEGRATED CARE BOARD | B14: South West | C14: GP Practice | D14: The Castle Practice (Ludgershall) | E14: J83014 | F14: Active | G14: 01/04 | H14: Direct | I14: 465 | M14: =_xlfn.XLOOKUP(AnalysisData[[#This Row],[ODS Code]],'gp-reg-pat-prac-all'!$F$2:$F$6125,'gp-reg-pat-prac-all'!$J$2:$J$6125) -> 16333
A15: NHS BATH AND NORTH EAST SOMERSET, SWINDON AND WILTSHIRE INTEGRATED CARE BOARD | B15: South West | C15: Branch surgery | D15: Till Orchard Surgery | E15: J83019003 | F15: Active | G15: 01/10 | H15: Direct | I15: 475 | M15: =_xlfn.XLOOKUP(AnalysisData[[#This Row],[ODS Code]],'gp-reg-pat-prac-all'!$F$2:$F$6125,'gp-reg-pat-prac-all'!$J$2:$J$6125) -> #N/A
A16: NHS CENTRAL EAST INTEGRATED CARE BOARD | B16: East of England | C16: GP Practice | D16: Bassett Road Surgery | E16: E81003 | F16: Active | G16: 19/11 | H16: Direct | I16: 495 | M16: =_xlfn.XLOOKUP(AnalysisData[[#This Row],[ODS Code]],'gp-reg-pat-prac-all'!$F$2:$F$6125,'gp-reg-pat-prac-all'!$J$2:$J$6125) -> 21483
A17: NHS CENTRAL EAST INTEGRATED CARE BOARD | B17: East of England | C17: GP Practice | D17: Bedford Street Surgery | E17: K82039 | F17: Active | G17: 30/06 | H17: Direct | I17: 600 | M17: =_xlfn.XLOOKUP(AnalysisData[[#This Row],[ODS Code]],'gp-reg-pat-prac-all'!$F$2:$F$6125,'gp-reg-pat-prac-all'!$J$2:$J$6125) -> 16050
A18: NHS CENTRAL EAST INTEGRATED CARE BOARD | B18: East of England | C18: GP Practice | D18: Castle Street Surgery (Luton) | E18: E81013 | F18: Active | G18: 23/08 | H18: Direct | I18: 384 | M18: =_xlfn.XLOOKUP(AnalysisData[[#This Row],[ODS Code]],'gp-reg-pat-prac-all'!$F$2:$F$6125,'gp-reg-pat-prac-all'!$J$2:$J$6125) -> 14059
... A38: NHS BIRMINGHAM AND SOLIHULL INTEGRATED CARE BOARD | B38: Midlands | C38: GP Practice | D38: Aylesbury Surgery | E38: M85779 | F38: Active | G38: 30/11 | H38: Direct | I38: 515 | M38: =_xlfn.XLOOKUP(AnalysisData[[#This Row],[ODS Code]],'gp-reg-pat-prac-all'!$F$2:$F$6125,'gp-reg-pat-prac-all'!$J$2:$J$6125) -> 2949
A39: NHS BIRMINGHAM AND SOLIHULL INTEGRATED CARE BOARD | B39: Midlands | C39: PCN | D39: Birmingham East Central PCN | E39: U79433 | F39: Active | H39: Direct | I39: 494 | M39: =_xlfn.XLOOKUP(AnalysisData[[#This Row],[ODS Code]],'gp-reg-pat-prac-all'!$F$2:$F$6125,'gp-reg-pat-prac-all'!$J$2:$J$6125) -> #N/A
A40: NHS BIRMINGHAM AND SOLIHULL INTEGRATED CARE BOARD | B40: Midlands | C40: GP Practice | D40: Bucklands End Lane Surgery | E40: M85113 | F40: Active | G40: 24/10 | H40: Direct | I40: 482 | M40: =_xlfn.XLOOKUP(AnalysisData[[#This Row],[ODS Code]],'gp-reg-pat-prac-all'!$F$2:$F$6125,'gp-reg-pat-prac-all'!$J$2:$J$6125) -> 5912
A41: NHS BIRMINGHAM AND SOLIHULL INTEGRATED CARE BOARD | B41: Midlands | C41: GP Practice | D41: Church Lane Khan | E41: M85013 | F41: Active | G41: 24/10 | H41: Direct | I41: 484 | M41: =_xlfn.XLOOKUP(AnalysisData[[#This Row],[ODS Code]],'gp-reg-pat-prac-all'!$F$2:$F$6125,'gp-reg-pat-prac-all'!$J$2:$J$6125) -> 4557
A42: NHS BIRMINGHAM AND SOLIHULL INTEGRATED CARE BOARD | B42: Midlands | C42: GP Practice | D42: Church Road Surgery | E42: M85048 | F42: Active | G42: 01/05 | H42: Direct | I42: 516 | M42: =_xlfn.XLOOKUP(AnalysisData[[#This Row],[ODS Code]],'gp-reg-pat-prac-all'!$F$2:$F$6125,'gp-reg-pat-prac-all'!$J$2:$J$6125) -> 10914
A43: NHS BIRMINGHAM AND SOLIHULL INTEGRATED CARE BOARD | B43: Midlands | C43: GP Practice | D43: Cotmore Surgery | E43: M85792 | F43: Active | G43: 30/11 | H43: Direct | I43: 496 | M43: =_xlfn.XLOOKUP(AnalysisData[[#This Row],[ODS Code]],'gp-reg-pat-prac-all'!$F$2:$F$6125,'gp-reg-pat-prac-all'!$J$2:$J$6125) -> 3336
A44: NHS BIRMINGHAM AND SOLIHULL INTEGRATED CARE BOARD | B44: Midlands | C44: GP Practice | D44: Dr Khuroo's Practice | E44: M85716 | F44: Active | G44: 21/09 | H44: Direct | I44: 411 | M44: =_xlfn.XLOOKUP(AnalysisData[[#This Row],[ODS Code]],'gp-reg-pat-prac-all'!$F$2:$F$6125,'gp-reg-pat-prac-all'!$J$2:$J$6125) -> 5410
A45: NHS BIRMINGHAM AND SOLIHULL INTEGRATED CARE BOARD | B45: Midlands | C45: GP Practice | D45: Druid Group | E45: M85706 | F45: Active | G45: 24/10 | H45: Direct | I45: 485 | M45: =_xlfn.XLOOKUP(AnalysisData[[#This Row],[ODS Code]],'gp-reg-pat-prac-all'!$F$2:$F$6125,'gp-reg-pat-prac-all'!$J$2:$J$6125) -> 13672
A46: NHS BIRMINGHAM AND SOLIHULL INTEGRATED CARE BOARD | B46: Midlands | C46: GP Practice | D46: Eden Court Medical Practice | E46: M85079 | F46: Active | G46: 01/05 | H46: Direct | I46: 518 | M46: =_xlfn.XLOOKUP(AnalysisData[[#This Row],[ODS Code]],'gp-reg-pat-prac-all'!$F$2:$F$6125,'gp-reg-pat-prac-all'!$J$2:$J$6125) -> 10820
A47: NHS BIRMINGHAM AND SOLIHULL INTEGRATED CARE BOARD | B47: Midlands | C47: PCN | D47: Gosk PCN | E47: U82305 | F47: Active | G47: 30/11 | H47: Direct | I47: 517 | M47: =_xlfn.XLOOKUP(AnalysisData[[#This Row],[ODS Code]],'gp-reg-pat-prac-all'!$F$2:$F$6125,'gp-reg-pat-prac-all'!$J$2:$J$6125) -> #N/A
A48: NHS BIRMINGHAM AND SOLIHULL INTEGRATED CARE BOARD | B48: Midlands | C48: GP Practice | D48: Harlequin Surgery | E48: M85031 | F48: Active | G48: 01/05 | H48: Direct | I48: 520 | M48: =_xlfn.XLOOKUP(AnalysisData[[#This Row],[ODS Code]],'gp-reg-pat-prac-all'!$F$2:$F$6125,'gp-reg-pat-prac-all'!$J$2:$J$6125) -> 10438
A49: NHS BIRMINGHAM AND SOLIHULL INTEGRATED CARE BOARD | B49: Midlands | C49: GP Practice | D49: Hodge Hill Family Practice | E49: Y02567 | F49: Active | G49: 01/05 | H49: Direct | I49: 522 | M49: =_xlfn.XLOOKUP(AnalysisData[[#This Row],[ODS Code]],'gp-reg-pat-prac-all'!$F$2:$F$6125,'gp-reg-pat-prac-all'!$J$2:$J$6125) -> 5916
A50: NHS BIRMINGHAM AND SOLIHULL INTEGRATED CARE BOARD | B50: Midlands | C50: GP Practice | D50: Kingsbury Road Surgery | E50: M85014 | F50: Active | G50: 30/11 | H50: Direct | I50: 519 | M50: =_xlfn.XLOOKUP(AnalysisData[[#This Row],[ODS Code]],'gp-reg-pat-prac-all'!$F$2:$F$6125,'gp-reg-pat-prac-all'!$J$2:$J$6125) -> 4710
A51: NHS BIRMINGHAM AND SOLIHULL INTEGRATED CARE BOARD | B51: Midlands | C51: GP Practice | D51: Kingstanding Circle Surgery | E51: M85155 | F51: Active | G51: 30/11 | H51: Direct | I51: 521 | M51: =_xlfn.XLOOKUP(AnalysisData[[#This Row],[ODS Code]],'gp-reg-pat-prac-all'!$F$2:$F$6125,'gp-reg-pat-prac-all'!$J$2:$J$6125) -> 6587
... A213: NHS GREATER MANCHESTER INTEGRATED CARE BOARD | B213: North West | C213: GP Practice | D213: Chorlton Family Practice | E213: P84068 | F213: Active | G213: 01/10 | H213: Direct | I213: 416 | M213: =_xlfn.XLOOKUP(AnalysisData[[#This Row],[ODS Code]],'gp-reg-pat-prac-all'!$F$2:$F$6125,'gp-reg-pat-prac-all'!$J$2:$J$6125) -> 21612
A214: NHS GREATER MANCHESTER INTEGRATED CARE BOARD | B214: North West | C214: Other | D214: Salford Digital Team | F214: Active | H214: DFOCVC | I214: 498 | M214: =_xlfn.XLOOKUP(AnalysisData[[#This Row],[ODS Code]],'gp-reg-pat-prac-all'!$F$2:$F$6125,'gp-reg-pat-prac-all'!$J$2:$J$6125) -> #N/A
A215: NHS GREATER MANCHESTER INTEGRATED CARE BOARD | B215: North West | C215: GP Practice | D215: The Delamere Medical Practice | E215: P91018 | F215: Active | G215: 02/04 & 02/10 | H215: Direct | I215: 539 | M215: =_xlfn.XLOOKUP(AnalysisData[[#This Row],[ODS Code]],'gp-reg-pat-prac-all'!$F$2:$F$6125,'gp-reg-pat-prac-all'!$J$2:$J$6125) -> 14429
A216: NHS GREATER MANCHESTER INTEGRATED CARE BOARD | B216: North West | C216: GP Practice | D216: The Elms Medical Centre | E216: P83608 | F216: Active | G216: 01/04 | H216: Direct | I216: 466 | M216: =_xlfn.XLOOKUP(AnalysisData[[#This Row],[ODS Code]],'gp-reg-pat-prac-all'!$F$2:$F$6125,'gp-reg-pat-prac-all'!$J$2:$J$6125) -> 6219
A217: NHS GREATER MANCHESTER INTEGRATED CARE BOARD | B217: North West | C217: GP Practice | D217: The Robert Darbishire Practice | E217: P84072 | F217: Active | G217: 01/10 | H217: Direct | I217: 470 | M217: =_xlfn.XLOOKUP(AnalysisData[[#This Row],[ODS Code]],'gp-reg-pat-prac-all'!$F$2:$F$6125,'gp-reg-pat-prac-all'!$J$2:$J$6125) -> 36572
A218: NHS GREATER MANCHESTER INTEGRATED CARE BOARD | B218: North West | C218: GP Practice | D218: The Whitswood Practice | E218: P84635 | F218: Active | G218: 01/10 | H218: Direct | I218: 472 | M218: =_xlfn.XLOOKUP(AnalysisData[[#This Row],[ODS Code]],'gp-reg-pat-prac-all'!$F$2:$F$6125,'gp-reg-pat-prac-all'!$J$2:$J$6125) -> 5006
A219: NHS GREATER MANCHESTER INTEGRATED CARE BOARD | B219: North West | C219: GP Practice | D219: Unsworth Medical Centre | E219: P83011 | F219: In Preview | G219: 01/04 | H219: Direct | I219: 379 | M219: =_xlfn.XLOOKUP(AnalysisData[[#This Row],[ODS Code]],'gp-reg-pat-prac-all'!$F$2:$F$6125,'gp-reg-pat-prac-all'!$J$2:$J$6125) -> 7423
A220: NHS GREATER MANCHESTER INTEGRATED CARE BOARD | B220: North West | C220: GP Practice | D220: Urban Village Medical Practice | E220: P84673 | F220: Active | G220: 01/10 | H220: Direct | I220: 476 | M220: =_xlfn.XLOOKUP(AnalysisData[[#This Row],[ODS Code]],'gp-reg-pat-prac-all'!$F$2:$F$6125,'gp-reg-pat-prac-all'!$J$2:$J$6125) -> 14385
A221: NHS HAMPSHIRE AND ISLE OF WIGHT INTEGRATED CARE BOARD | B221: South East | C221: GP Practice | D221: St Mary's Surgery (Andover) | E221: J82103 | F221: Active | G221: 16/05 | H221: Direct | I221: 547 | M221: =_xlfn.XLOOKUP(AnalysisData[[#This Row],[ODS Code]],'gp-reg-pat-prac-all'!$F$2:$F$6125,'gp-reg-pat-prac-all'!$J$2:$J$6125) -> 12512
...

Sheet List of GP Practices CLEANED
B2: ICB | C2: Region | D2: Organisation Type | E2: Practices - Account Name | F2: ODS Code | G2: Status | H2: Licence Start | I2: SP Contract Type | J2: Source Row | K2: Population | M2: Practices affected population | O2: Total Population | Q2: Percent affected
B3: NHS BATH AND NORTH EAST SOMERSET, SWINDON AND WILTSHIRE INTEGRATED CARE BOARD | C3: South West | D3: GP Practice | E3: Barcroft Medical Centre | F3: J83005 | G3: Active | H3: 01/04 | I3: Direct | J3: 396 | K3: 10640 | M3: =SUM(K3:K494) -> 5038365 | O3: =SUM('gp-reg-pat-prac-all'!$J$2:$J$6125) -> 63013969 | Q3: =M3/O3 -> 0.079956319
B4: NHS BATH AND NORTH EAST SOMERSET, SWINDON AND WILTSHIRE INTEGRATED CARE BOARD | C4: South West | D4: GP Practice | E4: Courtyard Surgery | F4: J83619 | G4: Active | H4: 01/10 | I4: Direct | J4: 418 | K4: 3447
B5: NHS BATH AND NORTH EAST SOMERSET, SWINDON AND WILTSHIRE INTEGRATED CARE BOARD | C5: South West | D5: GP Practice | E5: New Court Surgery | F5: J83055 | G5: Active | H5: 01/04 | I5: Direct | J5: 442 | K5: 9960
B6: NHS BATH AND NORTH EAST SOMERSET, SWINDON AND WILTSHIRE INTEGRATED CARE BOARD | C6: South West | D6: GP Practice | E6: Old Orchard Surgery | F6: J83019 | G6: Active | H6: 01/10 | I6: Direct | J6: 444 | K6: 12344
B7: NHS BATH AND NORTH EAST SOMERSET, SWINDON AND WILTSHIRE INTEGRATED CARE BOARD | C7: South West | D7: GP Practice | E7: Silton Surgery | F7: J83629 | G7: Active | H7: 01/10 | I7: Direct | J7: 457 | K7: 2432
B8: NHS BATH AND NORTH EAST SOMERSET, SWINDON AND WILTSHIRE INTEGRATED CARE BOARD | C8: South West | D8: GP Practice | E8: St Melor House Surgery | F8: J83048 | G8: Active | H8: 01/04 | I8: Direct | J8: 462 | K8: 6906
B9: NHS BATH AND NORTH EAST SOMERSET, SWINDON AND WILTSHIRE INTEGRATED CARE BOARD | C9: South West | D9: GP Practice | E9: The Castle Practice (Ludgershall) | F9: J83014 | G9: Active | H9: 01/04 | I9: Direct | J9: 465 | K9: 16333
B10: NHS CENTRAL EAST INTEGRATED CARE BOARD | C10: East of England | D10: GP Practice | E10: Bassett Road Surgery | F10: E81003 | G10: Active | H10: 19/11 | I10: Direct | J10: 495 | K10: 21483
B11: NHS CENTRAL EAST INTEGRATED CARE BOARD | C11: East of England | D11: GP Practice | E11: Bedford Street Surgery | F11: K82039 | G11: Active | H11: 30/06 | I11: Direct | J11: 600 | K11: 16050
B12: NHS CENTRAL EAST INTEGRATED CARE BOARD | C12: East of England | D12: GP Practice | E12: Castle Street Surgery (Luton) | F12: E81013 | G12: Active | H12: 23/08 | I12: Direct | J12: 384 | K12: 14059
B13: NHS CENTRAL EAST INTEGRATED CARE BOARD | C13: East of England | D13: GP Practice | E13: Central Milton Keynes Medical Centre | F13: K82065 | G13: Active | H13: 30/04 | I13: Direct | J13: 513 | K13: 20383
B14: NHS CENTRAL EAST INTEGRATED CARE BOARD | C14: East of England | D14: GP Practice | E14: Fishermead Medical Centre | F14: K82064 | G14: Active | H14: 30/05 | I14: Direct | J14: 560 | K14: 7791
B15: NHS CENTRAL EAST INTEGRATED CARE BOARD | C15: East of England | D15: GP Practice | E15: Flitwick Surgery | F15: E81015 | G15: Active | H15: 16/08 | I15: Direct | J15: 347 | K15: 14332
... B297: NHS WEST YORKSHIRE INTEGRATED CARE BOARD | C297: North East and Yorkshire | D297: GP Practice | E297: Windsor House Group Practice | F297: B86057 | G297: Active | H297: 30/12 | I297: Direct | J297: 533 | K297: 19970
B298: NHS GREATER MANCHESTER INTEGRATED CARE BOARD | C298: North West | D298: GP Practice | E298: Brooklands Medical Practice | F298: P84061 | G298: In Preview | H298: 01/10 | J298: 614 | K298: 6012
B299: NHS BATH AND NORTH EAST SOMERSET, SWINDON AND WILTSHIRE INTEGRATED CARE BOARD | C299: South West | D299: GP Practice | E299: Heart of Bath Medical Partnership | F299: L81039 | G299: Active | H299: 20/06 | I299: Direct | J299: 174 | K299: 25571
B300: NHS BATH AND NORTH EAST SOMERSET, SWINDON AND WILTSHIRE INTEGRATED CARE BOARD | C300: South West | D300: GP Practice | E300: Hope House Surgery | F300: L81010 | G300: Active | H300: 03/01 | I300: Direct | J300: 175 | K300: 8452
B301: NHS BATH AND NORTH EAST SOMERSET, SWINDON AND WILTSHIRE INTEGRATED CARE BOARD | C301: South West | D301: GP Practice | E301: University Medical Centre (Bath) | F301: L81617 | G301: Active | H301: 17/12 | I301: Direct | J301: 172 | K301: 12131
B302: NHS CENTRAL EAST INTEGRATED CARE BOARD | C302: East of England | D302: GP Practice | E302: Ashfield Medical Centre | F302: K82054 | G302: Active | H302: 08/08 | I302: Direct | J302: 141 | K302: 9985
B303: NHS CENTRAL EAST INTEGRATED CARE BOARD | C303: East of England | D303: GP Practice | E303: Sovereign Medical Centre | F303: K82025 | G303: Active | H303: 13/11 | I303: Direct | J303: 164 | K303: 10554
B304: NHS CENTRAL EAST INTEGRATED CARE BOARD | C304: East of England | D304: GP Practice | E304: The Red House Surgery | F304: K82013 | G304: Active | H304: 18/07 | I304: Direct | J304: 135 | K304: 14221
B305: NHS CENTRAL EAST INTEGRATED CARE BOARD | C305: East of England | D305: GP Practice | E305: Watling Street Practice | F305: K82009 | G305: In Build | H305: TBC | I305: Direct | J305: 154 | K305: 41618
B306: NHS CENTRAL EAST INTEGRATED CARE BOARD | C306: East of England | D306: GP Practice | E306: Westcroft Health Centre | F306: K82633 | G306: Active | H306: 29/08 | I306: Direct | J306: 149 | K306: 16156
B307: NHS BIRMINGHAM AND SOLIHULL INTEGRATED CARE BOARD | C307: Midlands | D307: GP Practice | E307: City Road Medical Centre | F307: M85684 | G307: Active | H307: 28/09 | I307: Direct | J307: 153 | K307: 3861
B308: NHS BLACK COUNTRY INTEGRATED CARE BOARD | C308: Midlands | D308: GP Practice | E308: Feldon Practice | F308: M87020 | G308: Active | H308: 30/06 | I308: Direct | J308: 178 | K308: 9074
B309: NHS BLACK COUNTRY INTEGRATED CARE BOARD | C309: Midlands | D309: GP Practice | E309: Halesowen Medical Practice | F309: M87602 | G309: Active | H309: 30/06 | I309: Direct | J309: 177 | K309: 10040
B310: NHS BLACK COUNTRY INTEGRATED CARE BOARD | C310: Midlands | D310: GP Practice | E310: Keelinge House Surgery | F310: M87601 | G310: Active | H310: 31/03 | I310: Direct | J310: 144 | K310: 6608
... B321: NHS DERBY AND DERBYSHIRE INTEGRATED CARE BOARD | C321: Midlands | D321: GP Practice | E321: Mickleover Surgery | F321: C81113 | G321: Active | H321: Monthly | I321: DFOCVC | J321: 147 | K321: 6493
B322: NHS DORSET INTEGRATED CARE BOARD | C322: South West | D322: GP Practice | E322: Beaufort Road Surgery | F322: J81018 | G322: Active | I322: Direct | J322: 156 | K322: 11429
B323: NHS GLOUCESTERSHIRE INTEGRATED CARE BOARD | C323: South West | D323: GP Practice | E323: Forest Health Care | F323: L84028 | G323: Active | H323: 14/08 | I323: DFOCVC | J323: 138 | K323: 11824
B324: NHS GLOUCESTERSHIRE INTEGRATED CARE BOARD | C324: South West | D324: GP Practice | E324: Leckhampton Surgery | F324: L84040 | G324: Active | H324: 14/08 | I324: DFOCVC | J324: 143 | K324: 12314
B325: NHS GREATER MANCHESTER INTEGRATED CARE BOARD | C325: North West | D325: GP Practice | E325: David Medical Centre | F325: P84066 | G325: Active | H325: 07/03 | I325: Direct | J325: 140 | K325: 7361
B326: NHS GREATER MANCHESTER INTEGRATED CARE BOARD | C326: North West | D326: GP Practice | E326: Didsbury Medical Centre | F326: P84678 | G326: Active | H326: 07/07 | I326: Direct | J326: 133 | K326: 15319
B327: NHS HAMPSHIRE AND ISLE OF WIGHT INTEGRATED CARE BOARD | C327: South East | D327: GP Practice | E327: Bridgemary Medical Centre | F327: J82152 | G327: Active | H327: 24/02 | I327: Direct | J327: 136 | K327: 8206
B328: NHS ESSEX INTEGRATED CARE BOARD | C328: East of England | D328: GP Practice | E328: Grange Street Surgery | F328: E82059 | G328: Active | H328: 09/02 | I328: Direct | J328: 134 | K328: 10250
B329: NHS NORFOLK AND SUFFOLK INTEGRATED CARE BOARD | C329: East of England | D329: GP Practice | E329: Magdalen Medical Practice | F329: D82012 | G329: Active | H329: 03/10 | I329: NHS | J329: 173 | K329: 14410
B330: NHS WEST AND NORTH LONDON INTEGRATED CARE BOARD | C330: London | D330: GP Practice | E330: Ashville Surgery | F330: E85719 | G330: Active | H330: 17/09 | I330: Direct | J330: 152 | K330: 9412
B331: NHS WEST AND NORTH LONDON INTEGRATED CARE BOARD | C331: London | D331: GP Practice | E331: Brampton Health Centre | F331: E84049 | G331: Active | H331: 01/07 | I331: Direct | J331: 179 | K331: 7582
B332: NHS WEST AND NORTH LONDON INTEGRATED CARE BOARD | C332: London | D332: GP Practice | E332: Chelsea Medical Services | F332: E87048 | G332: Active | H332: 29/10 | I332: Direct | J332: 162 | K332: 3033
...

Sheet EoE
A1: Region | B1: East of England
A3: ICB | B3: Total Accounts
A4: NHS NORFOLK AND SUFFOLK INTEGRATED CARE BOARD | B4: 87
A5: NHS CENTRAL EAST INTEGRATED CARE BOARD | B5: 45
A6: NHS ESSEX INTEGRATED CARE BOARD | B6: 30
A7: Grand Total | B7: 162
A10: Please note the highlighted fields indicate PCNs where there are multiple practices (see PCN tab') however it is currently unknown which practices within that PCN are using which products so ICBs will need to confirm this with each PCN
A12: ICB | B12: Region | C12: Organisation Type | D12: Practices - Account Name | E12: ODS Code | F12: Status | G12: Licence Start | H12: SP Contract Type | I12: Source Row
A13: NHS CENTRAL EAST INTEGRATED CARE BOARD | B13: East of England | C13: GP Practice | D13: Bassett Road Surgery | E13: E81003 | F13: Active | G13: 19/11 | H13: Direct | I13: 495
A14: NHS CENTRAL EAST INTEGRATED CARE BOARD | B14: East of England | C14: GP Practice | D14: Bedford Street Surgery | E14: K82039 | F14: Active | G14: 30/06 | H14: Direct | I14: 600
A15: NHS CENTRAL EAST INTEGRATED CARE BOARD | B15: East of England | C15: GP Practice | D15: Castle Street Surgery (Luton) | E15: E81013 | F15: Active | G15: 23/08 | H15: Direct | I15: 384
A16: NHS CENTRAL EAST INTEGRATED CARE BOARD | B16: East of England | C16: GP Practice | D16: Central Milton Keynes Medical Centre | E16: K82065 | F16: Active | G16: 30/04 | H16: Direct | I16: 513
A17: NHS CENTRAL EAST INTEGRATED CARE BOARD | B17: East of England | C17: GP Practice | D17: Fishermead Medical Centre | E17: K82064 | F17: Active | G17: 30/05 | H17: Direct | I17: 560
A18: NHS CENTRAL EAST INTEGRATED CARE BOARD | B18: East of England | C18: GP Practice | D18: Flitwick Surgery | E18: E81015 | F18: Active | G18: 16/08 | H18: Direct | I18: 347
A19: NHS CENTRAL EAST INTEGRATED CARE BOARD | B19: East of England | C19: GP Practice | D19: Greensands Medical Practice | E19: E81012 | F19: Active | G19: 28/06 | H19: Direct | I19: 584
A20: NHS CENTRAL EAST INTEGRATED CARE BOARD | B20: East of England | C20: GP Practice | D20: Larksfield and Arlesey Surgery Medical Partnership | E20: E81022 | F20: Active | G20: 09/05 | H20: Direct | I20: 536
A21: NHS CENTRAL EAST INTEGRATED CARE BOARD | B21: East of England | C21: GP Practice | D21: Leagrave Surgery | E21: E81010 | F21: Active | G21: 07/06 | H21: Direct | I21: 570
A22: NHS CENTRAL EAST INTEGRATED CARE BOARD | B22: East of England | C22: GP Practice | D22: Malzeard Road Medical Practice | E22: E81631 | F22: Active | G22: 30/08 | H22: Direct | I22: 391
A23: NHS CENTRAL EAST INTEGRATED CARE BOARD | B23: East of England | C23: GP Practice | D23: Marston Forest Healthcare | E23: E81043 | F23: Active | G23: 05/10 | H23: Direct | I23: 478
A24: NHS CENTRAL EAST INTEGRATED CARE BOARD | B24: East of England | C24: GP Practice | D24: Medici Medical Practice | E24: E81073 | F24: Active | G24: 08/02 & 08/08 | H24: Direct | I24: 554
... A93: NHS NORFOLK AND SUFFOLK INTEGRATED CARE BOARD | B93: East of England | C93: GP Practice | D93: Cardinal Medical Practice | E93: D83050 | F93: Active | G93: 21/04 | H93: Direct | I93: 166
A94: NHS NORFOLK AND SUFFOLK INTEGRATED CARE BOARD | B94: East of England | C94: PCN | D94: Clacton PCN | E94: U42142 | F94: Active | H94: Direct | I94: 157
A95: NHS NORFOLK AND SUFFOLK INTEGRATED CARE BOARD | B95: East of England | C95: GP Practice | D95: Colchester Medical Practice | E95: F81042 | F95: Active | G95: 01/02 | H95: Direct | I95: 186
A96: NHS NORFOLK AND SUFFOLK INTEGRATED CARE BOARD | B96: East of England | C96: GP Practice | D96: Colne Medical Centre | E96: F81116 | F96: Active | G96: 01/02 | H96: Direct | I96: 187
A97: NHS NORFOLK AND SUFFOLK INTEGRATED CARE BOARD | B97: East of England | C97: GP Practice | D97: Creffield Medical Group | E97: F81115 | F97: Active | G97: 01/02 | H97: Direct | I97: 188
A98: NHS NORFOLK AND SUFFOLK INTEGRATED CARE BOARD | B98: East of England | C98: GP Practice | D98: East Hill Surgery | E98: F81091 | F98: Active | G98: 01/02 | H98: Direct | I98: 189
A99: NHS NORFOLK AND SUFFOLK INTEGRATED CARE BOARD | B99: East of England | C99: GP Practice | D99: East Lynne Medical Centre | E99: F81037 | F99: Active | G99: 01/02 | H99: Direct | I99: 190
A100: NHS NORFOLK AND SUFFOLK INTEGRATED CARE BOARD | B100: East of England | C100: GP Practice | D100: Fronks Road Family Surgery | E100: F81221 | F100: Active | G100: 01/02 | H100: Direct | I100: 191
A101: NHS NORFOLK AND SUFFOLK INTEGRATED CARE BOARD | B101: East of England | C101: GP Practice | D101: GP Primary Choice Limited | E101: AAQ01, Z0A4J, K8D2X | F101: Active | G101: 01/02 | H101: Direct | I101: 192
A102: NHS NORFOLK AND SUFFOLK INTEGRATED CARE BOARD | B102: East of England | C102: GP Practice | D102: Harewood Surgery | E102: F81606 | F102: Active | G102: 01/02 | H102: Direct | I102: 193
A103: NHS NORFOLK AND SUFFOLK INTEGRATED CARE BOARD | B103: East of England | C103: GP Practice | D103: Highwoods Surgery | E103: F81679 | F103: Active | G103: 01/02 | H103: Direct | I103: 194
A104: NHS NORFOLK AND SUFFOLK INTEGRATED CARE BOARD | B104: East of England | C104: GP Practice | D104: Lawford Surgery | E104: F81633 | F104: Active | G104: 01/02 | H104: Direct | I104: 195
A105: NHS NORFOLK AND SUFFOLK INTEGRATED CARE BOARD | B105: East of England | C105: GP Practice | D105: Mersea Island Medical Practice | E105: F81012 | F105: Active | G105: 01/02 | H105: Direct | I105: 196
A106: NHS NORFOLK AND SUFFOLK INTEGRATED CARE BOARD | B106: East of England | C106: GP Practice | D106: Mill Road Surgery | E106: F81636 | F106: Active | G106: 01/02 | H106: Direct | I106: 197
... A117: NHS NORFOLK AND SUFFOLK INTEGRATED CARE BOARD | B117: East of England | C117: GP Practice | D117: Wivenhoe Surgery | E117: F81028 | F117: Active | G117: 01/02 | H117: Direct | I117: 208
A118: NHS CENTRAL EAST INTEGRATED CARE BOARD | B118: East of England | C118: GP Practice | D118: Everest House Surgery | E118: E82051 | F118: Active | G118: 16/07 | I118: 155
A119: NHS CENTRAL EAST INTEGRATED CARE BOARD | B119: East of England | C119: GP Practice | D119: Cobbs Garden Surgery | E119: K82057 | F119: Active | G119: 04/11 | H119: Direct | I119: 259
A120: NHS CENTRAL EAST INTEGRATED CARE BOARD | B120: East of England | C120: GP Practice | D120: Ivel Medical Centre | E120: E81036 | F120: Active | G120: 21/06 | H120: Direct | I120: 281
A121: NHS CENTRAL EAST INTEGRATED CARE BOARD | B121: East of England | C121: GP Practice | D121: Larkside Practice | E121: E81026 | F121: Active | G121: 01/09 | H121: Direct | I121: 216
A122: NHS CENTRAL EAST INTEGRATED CARE BOARD | B122: East of England | C122: GP Practice | D122: London Road Surgery | E122: E81019 | F122: Active | G122: 20/11 | H122: Direct | I122: 262
...

Sheet London
A1: Region | B1: London
A3: ICB | B3: Total Accounts
A4: London | B4: 2
A5: NHS NORTH EAST LONDON INTEGRATED CARE BOARD | B5: 5
A6: NHS SOUTH EAST LONDON INTEGRATED CARE BOARD | B6: 7
A7: NHS WEST AND NORTH LONDON INTEGRATED CARE BOARD | B7: 43
A8: NHS SOUTH WEST LONDON INTEGRATED CARE BOARD | B8: 22
A9: Grand Total | B9: 79
A12: Please note the highlighted fields indicate PCNs where there are multiple practices (see PCN tab') however it is currently unknown which practices within that PCN are using which products so ICBs will need to confirm this with each PCN
A14: ICB | B14: Region | C14: Organisation Type | D14: Practices - Account Name | E14: ODS Code | F14: Status | G14: Licence Start | H14: SP Contract Type | I14: Source Row
A15: NHS WEST AND NORTH LONDON INTEGRATED CARE BOARD | B15: London | C15: GP Practice | D15: Grovelands Medical Centre (London) | E15: F85072 | F15: Active | G15: 29/05 | H15: Direct | I15: 557
A16: NHS WEST AND NORTH LONDON INTEGRATED CARE BOARD | B16: London | C16: GP Practice | D16: Rainbow Practice | E16: F85039 | F16: Active | G16: 29/05 | H16: Direct | I16: 559
A17: NHS WEST AND NORTH LONDON INTEGRATED CARE BOARD | B17: London | C17: GP Practice | D17: The Goodinge Group Practice | E17: F83008 | F17: Active | G17: Monthly | H17: DFOCVC | I17: 441
A18: NHS WEST AND NORTH LONDON INTEGRATED CARE BOARD | B18: London | C18: GP Practice | D18: The Southgate Surgery | E18: F85032 | F18: Active | G18: 15/08 | H18: Direct | I18: 344
A19: NHS WEST AND NORTH LONDON INTEGRATED CARE BOARD | B19: London | C19: GP Practice | D19: White Lodge Medical Practice | E19: F85025 | F19: Active | G19: 22/06 | H19: Direct | I19: 581
A20: NHS NORTH EAST LONDON INTEGRATED CARE BOARD | B20: London | C20: GP Practice | D20: Claremont Medical Centre | E20: H84619 | F20: Active | G20: 06/10 | H20: Direct | I20: 479
A21: NHS NORTH EAST LONDON INTEGRATED CARE BOARD | B21: London | C21: GP Practice | D21: Newham Transitional Practice | E21: F84740 | F21: Active | G21: 01/10 | H21: Direct | I21: 431
A22: NHS NORTH EAST LONDON INTEGRATED CARE BOARD | B22: London | C22: GP Practice | D22: The Greenhouse Practice | E22: F84632 | F22: Active | G22: 01/10 | H22: Direct | I22: 434
A23: NHS SOUTH WEST LONDON INTEGRATED CARE BOARD | B23: London | C23: GP Practice | D23: Alexandra Surgery | E23: H85656 | F23: Active | G23: 22/08 | H23: Direct | I23: 357
A24: NHS SOUTH WEST LONDON INTEGRATED CARE BOARD | B24: London | C24: GP Practice | D24: Central Medical Centre | E24: H85070 | F24: Active | G24: 22/08 | H24: Direct | I24: 359
A25: NHS SOUTH WEST LONDON INTEGRATED CARE BOARD | B25: London | C25: GP Practice | D25: Colliers Wood Surgery | E25: H85649 | F25: Active | G25: 22/08 | H25: Direct | I25: 360
A26: NHS SOUTH WEST LONDON INTEGRATED CARE BOARD | B26: London | C26: GP Practice | D26: Figges Marsh Surgery | E26: H85090 | F26: Active | G26: 22/08 | H26: Direct | I26: 362
... A82: NHS SOUTH WEST LONDON INTEGRATED CARE BOARD | B82: London | C82: GP Practice | D82: Hampton Wick Surgery | E82: H84032 | F82: Active | G82: 03/06 | H82: Direct | I82: 278
A83: NHS SOUTH WEST LONDON INTEGRATED CARE BOARD | B83: London | C83: Other | D83: Merton Health Limited | F83: Active | G83: 22/08 | H83: Direct | I83: 221
A84: NHS SOUTH WEST LONDON INTEGRATED CARE BOARD | B84: London | C84: GP Practice | D84: Mitcham Family Practice | E84: H85078 | F84: Active | G84: 22/08 | H84: Direct | I84: 220
A85: NHS NORTH EAST LONDON INTEGRATED CARE BOARD | B85: London | C85: NHS Trust | D85: Barts Health NHS Trust | E85: 0 | F85: Active | G85: 01/12 | I85: 30
A86: NHS NORTH EAST LONDON INTEGRATED CARE BOARD | B86: London | C86: NHS Trust | D86: Barts Health NHS Trust | E86: 0 | F86: Active | G86: 01/07 | I86: 109
A87: NHS WEST AND NORTH LONDON INTEGRATED CARE BOARD | B87: London | C87: NHS Trust | D87: Central and North West London NHS Foundation Trust | E87: 0 | F87: Active | G87: 01/03 | I87: 49
A88: NHS WEST AND NORTH LONDON INTEGRATED CARE BOARD | B88: London | C88: NHS Trust | D88: Central and North West London NHS Foundation Trust | E88: 0 | F88: Active | G88: 01/04 | I88: 74
A89: NHS WEST AND NORTH LONDON INTEGRATED CARE BOARD | B89: London | C89: NHS Trust | D89: Central London Community Healthcare NHS Trust (CLCH) | E89: 0 | F89: Active | G89: 01/07 | I89: 101
A90: London | B90: London | C90: Other | D90: NHS England - London | E90: 0 | F90: In Preview | G90: 01/08 | I90: 102
A91: London | B91: London | C91: Other | D91: NHS England - London | E91: 0 | F91: In Preview | G91: 01/08 | I91: 104
A92: NHS SOUTH EAST LONDON INTEGRATED CARE BOARD | B92: London | C92: NHS Trust | D92: Oxleas NHS Foundation Trust | E92: 0 | F92: Active | G92: 01/12 | I92: 97
A93: NHS WEST AND NORTH LONDON INTEGRATED CARE BOARD | B93: London | C93: GP Practice | D93: Adelaide Medical Centre | E93: F83020 | F93: Active | G93: 01/04 | H93: DFOCVC | I93: 132

Sheet Midlands
A1: Region | B1: Midlands
A3: ICB | B3: Total Accounts
A4: Midlands | B4: 11
A5: NHS BLACK COUNTRY INTEGRATED CARE BOARD | B5: 31
A6: NHS DERBY AND DERBYSHIRE INTEGRATED CARE BOARD | B6: 39
A7: NHS BIRMINGHAM AND SOLIHULL INTEGRATED CARE BOARD | B7: 35
A8: NHS NORTHAMPTONSHIRE INTEGRATED CARE BOARD | B8: 5
A9: NHS STAFFORDSHIRE AND STOKE-ON-TRENT INTEGRATED CARE BOARD | B9: 6
A10: NHS COVENTRY AND WARWICKSHIRE INTEGRATED CARE BOARD | B10: 2
A11: NHS NOTTINGHAM AND NOTTINGHAMSHIRE INTEGRATED CARE BOARD | B11: 2
A12: NHS HEREFORDSHIRE AND WORCESTERSHIRE INTEGRATED CARE BOARD | B12: 2
A13: NHS SHROPSHIRE, TELFORD AND WREKIN INTEGRATED CARE BOARD | B13: 1
A14: Grand Total | B14: 134
A17: Please note the highlighted fields indicate PCNs where there are multiple practices (see PCN tab') however it is currently unknown which practices within that PCN are using which products so ICBs will need to confirm this with each PCN
A19: ICB | B19: Region | C19: Organisation Type | D19: Practices - Account Name | E19: ODS Code | F19: Status | G19: Licence Start | H19: SP Contract Type | I19: Source Row
A20: NHS BIRMINGHAM AND SOLIHULL INTEGRATED CARE BOARD | B20: Midlands | C20: GP Practice | D20: Aylesbury Surgery | E20: M85779 | F20: Active | G20: 30/11 | H20: Direct | I20: 515
A21: NHS BIRMINGHAM AND SOLIHULL INTEGRATED CARE BOARD | B21: Midlands | C21: PCN | D21: Birmingham East Central PCN | E21: U79433 | F21: Active | H21: Direct | I21: 494
A22: NHS BIRMINGHAM AND SOLIHULL INTEGRATED CARE BOARD | B22: Midlands | C22: GP Practice | D22: Bucklands End Lane Surgery | E22: M85113 | F22: Active | G22: 24/10 | H22: Direct | I22: 482
A23: NHS BIRMINGHAM AND SOLIHULL INTEGRATED CARE BOARD | B23: Midlands | C23: GP Practice | D23: Church Lane Khan | E23: M85013 | F23: Active | G23: 24/10 | H23: Direct | I23: 484
A24: NHS BIRMINGHAM AND SOLIHULL INTEGRATED CARE BOARD | B24: Midlands | C24: GP Practice | D24: Church Road Surgery | E24: M85048 | F24: Active | G24: 01/05 | H24: Direct | I24: 516
A25: NHS BIRMINGHAM AND SOLIHULL INTEGRATED CARE BOARD | B25: Midlands | C25: GP Practice | D25: Cotmore Surgery | E25: M85792 | F25: Active | G25: 30/11 | H25: Direct | I25: 496
A26: NHS BIRMINGHAM AND SOLIHULL INTEGRATED CARE BOARD | B26: Midlands | C26: GP Practice | D26: Dr Khuroo's Practice | E26: M85716 | F26: Active | G26: 21/09 | H26: Direct | I26: 411
A27: NHS BIRMINGHAM AND SOLIHULL INTEGRATED CARE BOARD | B27: Midlands | C27: GP Partnership | D27: Druid Group | E27: M85706 | F27: Active | G27: 24/10 | H27: Direct | I27: 485
A28: NHS BIRMINGHAM AND SOLIHULL INTEGRATED CARE BOARD | B28: Midlands | C28: GP Practice | D28: Eden Court Medical Practice | E28: M85079 | F28: Active | G28: 01/05 | H28: Direct | I28: 518
A29: NHS BIRMINGHAM AND SOLIHULL INTEGRATED CARE BOARD | B29: Midlands | C29: PCN | D29: Gosk PCN | E29: U82305 | F29: Active | G29: 30/11 | H29: Direct | I29: 517
A30: NHS BIRMINGHAM AND SOLIHULL INTEGRATED CARE BOARD | B30: Midlands | C30: GP Practice | D30: Harlequin Surgery | E30: M85031 | F30: Active | G30: 01/05 | H30: Direct | I30: 520
A31: NHS BIRMINGHAM AND SOLIHULL INTEGRATED CARE BOARD | B31: Midlands | C31: GP Practice | D31: Hodge Hill Family Practice | E31: Y02567 | F31: Active | G31: 01/05 | H31: Direct | I31: 522
A32: NHS BIRMINGHAM AND SOLIHULL INTEGRATED CARE BOARD | B32: Midlands | C32: GP Practice | D32: Kingsbury Road Surgery | E32: M85014 | F32: Active | G32: 30/11 | H32: Direct | I32: 519
A33: NHS BIRMINGHAM AND SOLIHULL INTEGRATED CARE BOARD | B33: Midlands | C33: GP Practice | D33: Kingstanding Circle Surgery | E33: M85155 | F33: Active | G33: 30/11 | H33: Direct | I33: 521
... A116: NHS STAFFORDSHIRE AND STOKE-ON-TRENT INTEGRATED CARE BOARD | B116: Midlands | C116: GP Practice | D116: Northgate Surgery | E116: M83680 | F116: Active | G116: 29/07 | H116: Direct | I116: 213
A117: NHS COVENTRY AND WARWICKSHIRE INTEGRATED CARE BOARD | B117: Midlands | C117: GP Practice | D117: Coventry & Rugby GP Alliance Limited | E117: APR01, APR02, APR03 | F117: Active | G117: 16/07 | I117: 269
A118: NHS COVENTRY AND WARWICKSHIRE INTEGRATED CARE BOARD | B118: Midlands | C118: GP Practice | D118: Coventry & Rugby GP Alliance Limited | E118: APR01, APR02, APR03 | F118: Active | G118: 09/07 | I118: 270
A119: NHS BIRMINGHAM AND SOLIHULL INTEGRATED CARE BOARD | B119: Midlands | C119: NHS Trust | D119: Birmingham Community Healthcare NHS Foundation Trust | E119: 0 | F119: Active | G119: 01/12 | I119: 78
A120: NHS DERBY AND DERBYSHIRE INTEGRATED CARE BOARD | B120: Midlands | C120: NHS Trust | D120: Chesterfield Royal Hospital NHS Foundation Trust | E120: 0 | F120: Active | G120: 01/07 | I120: 112
A121: NHS BLACK COUNTRY INTEGRATED CARE BOARD | B121: Midlands | C121: ICB | D121: NHS Black Country ICB | E121: 0 | F121: Active | G121: 10/04 | H121: NHS | I121: 90
A122: Midlands | B122: Midlands | C122: Other | D122: NHS England - Midlands | E122: 0 | F122: Active | G122: 01/08 | I122: 63
A123: Midlands | B123: Midlands | C123: Other | D123: NHS England - Midlands | E123: 0 | F123: Active | G123: 01/08 | I123: 66
A124: Midlands | B124: Midlands | C124: Other | D124: NHS England - Midlands | E124: 0 | F124: Active | G124: 01/08 | I124: 69
A125: Midlands | B125: Midlands | C125: Other | D125: NHS England - Midlands | E125: 0 | F125: Active | G125: 01/08 | I125: 70
A126: Midlands | B126: Midlands | C126: Other | D126: NHS England - Midlands | E126: 0 | F126: Active | G126: 01/08 | I126: 71
...

Sheet NE&Y
A1: Region | B1: North East and Yorkshire
A3: ICB | B3: Total Accounts
A4: NHS HUMBER AND NORTH YORKSHIRE INTEGRATED CARE BOARD | B4: 1
A5: NHS NORTH EAST AND NORTH CUMBRIA INTEGRATED CARE BOARD | B5: 7
A6: NHS WEST YORKSHIRE INTEGRATED CARE BOARD | B6: 2
A7: NHS SOUTH YORKSHIRE INTEGRATED CARE BOARD | B7: 5
A8: Grand Total | B8: 15
A13: ICB | B13: Region | C13: Organisation Type | D13: Practices - Account Name | E13: ODS Code | F13: Status | G13: Licence Start | H13: SP Contract Type | I13: Source Row
A14: NHS HUMBER AND NORTH YORKSHIRE INTEGRATED CARE BOARD | B14: North East and Yorkshire | C14: GP Practice | D14: Brook Square Surgery | E14: B82088 | F14: Active | G14: 29/07 | H14: Direct | I14: 325
A15: NHS NORTH EAST AND NORTH CUMBRIA INTEGRATED CARE BOARD | B15: North East and Yorkshire | C15: GP Practice | D15: Colliery Court Medical Group | E15: A88016 | F15: Active | G15: 24/02 | H15: Direct | I15: 321
A16: NHS WEST YORKSHIRE INTEGRATED CARE BOARD | B16: North East and Yorkshire | C16: GP Practice | D16: Windsor House Group Practice | E16: B86057 | F16: Active | G16: 30/12 | H16: Direct | I16: 533
A17: NHS WEST YORKSHIRE INTEGRATED CARE BOARD | B17: North East and Yorkshire | C17: Other | D17: Conexus Healthcare | E17: 0 | F17: Active | G17: 01/04 | I17: 111
A18: NHS NORTH EAST AND NORTH CUMBRIA INTEGRATED CARE BOARD | B18: North East and Yorkshire | C18: NHS Trust | D18: Northumbria NHS Foundation Trust | E18: 0 | F18: Active | G18: 01/01 | I18: 17
A19: NHS NORTH EAST AND NORTH CUMBRIA INTEGRATED CARE BOARD | B19: North East and Yorkshire | C19: NHS Trust | D19: Northumbria NHS Foundation Trust | E19: 0 | F19: In Preview | G19: 01/05 | I19: 82
A20: NHS SOUTH YORKSHIRE INTEGRATED CARE BOARD | B20: North East and Yorkshire | C20: NHS Trust | D20: Sheffield Children's NHS Foundation Trust | E20: 0 | F20: Active | G20: 01/12 | I20: 32
A21: NHS NORTH EAST AND NORTH CUMBRIA INTEGRATED CARE BOARD | B21: North East and Yorkshire | C21: NHS Trust | D21: South Tees Hospitals NHS Foundation Trust | E21: 0 | F21: Active | G21: 01/03 | I21: 38
A22: NHS NORTH EAST AND NORTH CUMBRIA INTEGRATED CARE BOARD | B22: North East and Yorkshire | C22: NHS Trust | D22: South Tees Hospitals NHS Foundation Trust | E22: 0 | F22: Active | G22: 31/01 | I22: 75
A23: NHS NORTH EAST AND NORTH CUMBRIA INTEGRATED CARE BOARD | B23: North East and Yorkshire | C23: NHS Trust | D23: South Tees Hospitals NHS Foundation Trust | E23: 0 | F23: Active | G23: 01/04 | I23: 103
A24: NHS SOUTH YORKSHIRE INTEGRATED CARE BOARD | B24: North East and Yorkshire | C24: Other | D24: South Yorkshire Cancer Alliance | E24: 0 | F24: Active | G24: 10/10 | I24: 50
A25: NHS SOUTH YORKSHIRE INTEGRATED CARE BOARD | B25: North East and Yorkshire | C25: Other | D25: South Yorkshire Cancer Alliance | E25: 0 | F25: Active | G25: 01/10 | I25: 52
A26: NHS SOUTH YORKSHIRE INTEGRATED CARE BOARD | B26: North East and Yorkshire | C26: Other | D26: South Yorkshire Cancer Alliance | E26: 0 | F26: Active | G26: 01/10 | I26: 55
A27: NHS SOUTH YORKSHIRE INTEGRATED CARE BOARD | B27: North East and Yorkshire | C27: Other | D27: South Yorkshire Cancer Alliance | E27: 0 | F27: Active | G27: 01/10 | I27: 57
A28: NHS NORTH EAST AND NORTH CUMBRIA INTEGRATED CARE BOARD | B28: North East and Yorkshire | C28: NHS Trust | D28: North Tees and Hartlepool NHS Foundation Trust | E28: 0 | F28: In Build | G28: 01/01 | I28: 36

Sheet NW
A1: Region | B1: North West
A3: ICB | B3: Total Accounts
A4: NHS CHESHIRE AND MERSEYSIDE INTEGRATED CARE BOARD | B4: 27
A5: NHS GREATER MANCHESTER INTEGRATED CARE BOARD | B5: 28
A6: NHS LANCASHIRE AND SOUTH CUMBRIA INTEGRATED CARE BOARD | B6: 3
A7: Grand Total | B7: 58
A12: ICB | B12: Region | C12: Organisation Type | D12: Practices - Account Name | E12: ODS Code | F12: Status | G12: Licence Start | H12: SP Contract Type | I12: Source Row
A13: NHS CHESHIRE AND MERSEYSIDE INTEGRATED CARE BOARD | B13: North West | C13: GP Practice | D13: Berrymead Medical Centre | E13: N83008 | F13: Active | G13: 05/04 | H13: NHS | I13: 493
A14: NHS CHESHIRE AND MERSEYSIDE INTEGRATED CARE BOARD | B14: North West | C14: GP Practice | D14: Bethany Medical Centre | E14: N83054 | F14: Active | G14: 16/06 | H14: NHS | I14: 575
A15: NHS CHESHIRE AND MERSEYSIDE INTEGRATED CARE BOARD | B15: North West | C15: GP Practice | D15: Billinge Medical Practice | E15: N83019 | F15: Active | G15: 06/06 | H15: NHS | I15: 567
A16: NHS CHESHIRE AND MERSEYSIDE INTEGRATED CARE BOARD | B16: North West | C16: GP Practice | D16: Central Surgery St Helens | E16: N83027 | F16: Active | G16: 03/03 | H16: NHS | I16: 324
A17: NHS CHESHIRE AND MERSEYSIDE INTEGRATED CARE BOARD | B17: North West | C17: GP Practice | D17: Eccleston Medical Centre | E17: N83614 | F17: Active | G17: 14/04 | H17: NHS | I17: 502
A18: NHS CHESHIRE AND MERSEYSIDE INTEGRATED CARE BOARD | B18: North West | C18: GP Practice | D18: Four Acre Health Centre | E18: N83021 | F18: Active | G18: 14/04 | H18: NHS | I18: 504
A19: NHS CHESHIRE AND MERSEYSIDE INTEGRATED CARE BOARD | B19: North West | C19: GP Practice | D19: Garswood Surgery | E19: Y00475 | F19: Active | G19: 24/05 | H19: NHS | I19: 553
A20: NHS CHESHIRE AND MERSEYSIDE INTEGRATED CARE BOARD | B20: North West | C20: GP Practice | D20: Grosvenor Medical Centre | E20: N81068 | F20: Active | G20: 01/04 | H20: Direct | I20: 424
A21: NHS CHESHIRE AND MERSEYSIDE INTEGRATED CARE BOARD | B21: North West | C21: GP Practice | D21: Hall Street Medical Centre | E21: N83017 | F21: Active | G21: 03/03 | H21: NHS | I21: 327
A22: NHS CHESHIRE AND MERSEYSIDE INTEGRATED CARE BOARD | B22: North West | C22: GP Practice | D22: Kenneth MacRae Medical Centre (St Helens North) | E22: N83049 | F22: Active | G22: 14/07 | H22: NHS | I22: 313
A23: NHS CHESHIRE AND MERSEYSIDE INTEGRATED CARE BOARD | B23: North West | C23: GP Practice | D23: Lingholme Health Centre (St Helens Central) | E23: N83007 | F23: Active | G23: 23/02 | H23: NHS | I23: 315
A24: NHS CHESHIRE AND MERSEYSIDE INTEGRATED CARE BOARD | B24: North West | C24: GP Practice | D24: Longton Medical Centre (St Helens South) | E24: N83053 | F24: Active | G24: 20/04 | H24: NHS | I24: 510
... A37: NHS GREATER MANCHESTER INTEGRATED CARE BOARD | B37: North West | C37: GP Practice | D37: Chorlton Family Practice | E37: P84068 | F37: Active | G37: 01/10 | H37: Direct | I37: 416
A38: NHS GREATER MANCHESTER INTEGRATED CARE BOARD | B38: North West | C38: Other | D38: Salford Digital Team | F38: Active | H38: DFOCVC | I38: 498
A39: NHS GREATER MANCHESTER INTEGRATED CARE BOARD | B39: North West | C39: GP Practice | D39: The Delamere Medical Practice | E39: P91018 | F39: Active | G39: 02/04 & 02/10 | H39: Direct | I39: 539
A40: NHS GREATER MANCHESTER INTEGRATED CARE BOARD | B40: North West | C40: GP Practice | D40: The Elms Medical Centre | E40: P83608 | F40: Active | G40: 01/04 | H40: Direct | I40: 466
A41: NHS GREATER MANCHESTER INTEGRATED CARE BOARD | B41: North West | C41: GP Practice | D41: The Robert Darbishire Practice | E41: P84072 | F41: Active | G41: 01/10 | H41: Direct | I41: 470
A42: NHS GREATER MANCHESTER INTEGRATED CARE BOARD | B42: North West | C42: GP Practice | D42: The Whitswood Practice | E42: P84635 | F42: Active | G42: 01/10 | H42: Direct | I42: 472
A43: NHS GREATER MANCHESTER INTEGRATED CARE BOARD | B43: North West | C43: GP Practice | D43: Unsworth Medical Centre | E43: P83011 | F43: In Preview | G43: 01/04 | H43: Direct | I43: 379
A44: NHS GREATER MANCHESTER INTEGRATED CARE BOARD | B44: North West | C44: GP Practice | D44: Urban Village Medical Practice | E44: P84673 | F44: Active | G44: 01/10 | H44: Direct | I44: 476
A45: NHS GREATER MANCHESTER INTEGRATED CARE BOARD | B45: North West | C45: GP Practice | D45: Brooklands Medical Practice | E45: P84061 | F45: In Preview | G45: 01/10 | I45: 614
A46: NHS CHESHIRE AND MERSEYSIDE INTEGRATED CARE BOARD | B46: North West | C46: GP Practice | D46: Vista Road Surgery | E46: N83005 | F46: Active | G46: 02/05 | H46: NHS | I46: 170
A47: NHS GREATER MANCHESTER INTEGRATED CARE BOARD | B47: North West | C47: GP Practice | D47: David Medical Centre | E47: P84066 | F47: Active | G47: 07/03 | H47: Direct | I47: 140
A48: NHS GREATER MANCHESTER INTEGRATED CARE BOARD | B48: North West | C48: GP Practice | D48: Didsbury Medical Centre | E48: P84678 | F48: Active | G48: 07/07 | H48: Direct | I48: 133
A49: NHS GREATER MANCHESTER INTEGRATED CARE BOARD | B49: North West | C49: GP Practice | D49: Barlow Medical Centre | E49: P84034 | F49: Active | G49: 01/10 | H49: Direct | I49: 223
A50: NHS GREATER MANCHESTER INTEGRATED CARE BOARD | B50: North West | C50: GP Practice | D50: Kingsway Medical Practice | E50: P84022 | F50: Active | G50: 01/10 | H50: Direct | I50: 226
A51: NHS GREATER MANCHESTER INTEGRATED CARE BOARD | B51: North West | C51: GP Practice | D51: Mocha Parade Medical Practice | E51: P87022 | F51: Active | G51: 01/10 | H51: Direct | I51: 231
A52: NHS GREATER MANCHESTER INTEGRATED CARE BOARD | B52: North West | C52: GP Practice | D52: Mosslands Medical Practice | E52: P87610 | F52: Active | G52: 01/10 | H52: Direct | I52: 232
A53: NHS GREATER MANCHESTER INTEGRATED CARE BOARD | B53: North West | C53: GP Practice | D53: Newbury Green Medical Practice | E53: P87026 | F53: Active | G53: 01/10 | H53: Direct | I53: 233
A54: NHS GREATER MANCHESTER INTEGRATED CARE BOARD | B54: North West | C54: GP Practice | D54: Pendleton Medical Centre | E54: P87015 | F54: Active | G54: 01/10 | H54: Direct | I54: 234
A55: NHS GREATER MANCHESTER INTEGRATED CARE BOARD | B55: North West | C55: GP Practice | D55: Reut Medical Practice | E55: P87648 | F55: Active | G55: 01/10 | H55: Direct | I55: 235
A56: NHS GREATER MANCHESTER INTEGRATED CARE BOARD | B56: North West | C56: GP Practice | D56: Salford Medical Centre | E56: P87004 | F56: Active | G56: 01/10 | H56: Direct | I56: 236
A57: NHS GREATER MANCHESTER INTEGRATED CARE BOARD | B57: North West | C57: GP Practice | D57: Salford Primary Care Together (SPCT) | E57: Y00445 | F57: Active | G57: 01/10 | H57: Direct | I57: 237
...

Sheet SE
A1: Region | B1: South East
A3: ICB | B3: Total Accounts
A4: South East | B4: 4
A5: NHS THAMES VALLEY INTEGRATED CARE BOARD | B5: 19
A6: NHS HAMPSHIRE AND ISLE OF WIGHT INTEGRATED CARE BOARD | B6: 8
A7: NHS KENT AND MEDWAY INTEGRATED CARE BOARD | B7: 1
A8: NHS SURREY AND SUSSEX INTEGRATED CARE BOARD | B8: 11
A9: Grand Total | B9: 43
A12: Please note the highlighted fields indicate PCNs where there are multiple practices (see PCN tab') however it is currently unknown which practices within that PCN are using which products so ICBs will need to confirm this with each PCN
A14: ICB | B14: Region | C14: Organisation Type | D14: Practices - Account Name | E14: ODS Code | F14: Status | G14: Licence Start | H14: SP Contract Type | I14: Source Row
A15: NHS THAMES VALLEY INTEGRATED CARE BOARD | B15: South East | C15: GP Practice | D15: Brookside Group Practice | E15: K81047 | F15: Active | G15: 01/05 | H15: Direct | I15: 514
A16: NHS THAMES VALLEY INTEGRATED CARE BOARD | B16: South East | C16: GP Practice | D16: Chancellor House and Tilehurst Village Surgery | E16: K81644 | F16: Active | G16: Monthly | H16: DFOCVC | I16: 622
A17: NHS THAMES VALLEY INTEGRATED CARE BOARD | B17: South East | C17: GP Practice | D17: Gosford Hill Medical Centre | E17: K84045 | F17: Active | G17: 26/05 | H17: Direct | I17: 555
A18: NHS THAMES VALLEY INTEGRATED CARE BOARD | B18: South East | C18: GP Practice | D18: The Downland Practice | E18: K81050 | F18: Active | G18: 01/01 | H18: Direct | I18: 580
A19: NHS THAMES VALLEY INTEGRATED CARE BOARD | B19: South East | C19: GP Practice | D19: The Key Medical Practice | E19: K84082 | F19: Active | G19: 03/12 | H19: Direct | I19: 526
A20: NHS THAMES VALLEY INTEGRATED CARE BOARD | B20: South East | C20: GP Practice | D20: Theale Medical Centre | E20: K81077 | F20: Active | G20: 01/01 | H20: Direct | I20: 583
A21: NHS THAMES VALLEY INTEGRATED CARE BOARD | B21: South East | C21: GP Practice | D21: Rosemead Surgery | E21: K81084 | F21: Active | G21: 11/04 | H21: Direct | I21: 501
A22: NHS HAMPSHIRE AND ISLE OF WIGHT INTEGRATED CARE BOARD | B22: South East | C22: GP Practice | D22: St Mary's Surgery (Andover) | E22: J82103 | F22: Active | G22: 16/05 | H22: Direct | I22: 547
A23: NHS HAMPSHIRE AND ISLE OF WIGHT INTEGRATED CARE BOARD | B23: South East | C23: GP Practice | D23: The Elms Practice | E23: J82210 | F23: Active | G23: 02/09 | H23: Direct | I23: 398
A24: NHS HAMPSHIRE AND ISLE OF WIGHT INTEGRATED CARE BOARD | B24: South East | C24: GP Practice | D24: Trafalgar Medical Group Practice | E24: J82028 | F24: Active | G24: 10/05 | H24: Direct | I24: 538
A25: NHS HAMPSHIRE AND ISLE OF WIGHT INTEGRATED CARE BOARD | B25: South East | C25: GP Practice | D25: Two Rivers Medical Partnership (Hampshire) | E25: J82214 | F25: Active | G25: 12/03 | H25: Direct | I25: 340
A26: NHS HAMPSHIRE AND ISLE OF WIGHT INTEGRATED CARE BOARD | B26: South East | C26: GP Practice | D26: Watership Down Health | E26: J82639 | F26: Active | G26: 05/07 | H26: Direct | I26: 619
... A46: NHS HAMPSHIRE AND ISLE OF WIGHT INTEGRATED CARE BOARD | B46: South East | C46: GP Practice | D46: Chineham Medical Practice | E46: J82218 | F46: Active | G46: 09/02 | H46: Direct | I46: 210
A47: NHS THAMES VALLEY INTEGRATED CARE BOARD | B47: South East | C47: NHS Trust | D47: Buckinghamshire Healthcare NHS Trust | E47: 0 | F47: Active | G47: 01/12 | I47: 37
A48: NHS THAMES VALLEY INTEGRATED CARE BOARD | B48: South East | C48: NHS Trust | D48: Buckinghamshire Healthcare NHS Trust | E48: 0 | F48: Active | G48: 01/04 | I48: 100
A49: South East | B49: South East | C49: Other | D49: NHS England - South East | E49: 0 | F49: Active | G49: 03/12 | I49: 8
A50: South East | B50: South East | C50: Other | D50: NHS England - South East | E50: 0 | F50: Active | G50: 03/12 | I50: 13
A51: South East | B51: South East | C51: Other | D51: NHS England - South East | E51: 0 | F51: Active | G51: 03/12 | I51: 19
A52: South East | B52: South East | C52: Other | D52: NHS England - South East | E52: 0 | F52: Active | G52: 03/12 | I52: 129
A53: NHS SURREY AND SUSSEX INTEGRATED CARE BOARD | B53: South East | C53: NHS Trust | D53: Royal Surrey NHS Foundation Trust | E53: 0 | F53: Active | G53: 01/01 | I53: 9
A54: NHS SURREY AND SUSSEX INTEGRATED CARE BOARD | B54: South East | C54: GP Practice | D54: CARDEN SURGERY | E54: G81014 | F54: Active | G54: Various - See Individual Practices | H54: Direct | I54: 469
A55: NHS SURREY AND SUSSEX INTEGRATED CARE BOARD | B55: South East | C55: GP Practice | D55: MONTPELIER SURGERY | E55: G81044 | F55: Active | G55: Various - See Individual Practices | H55: Direct | I55: 469
A56: NHS SURREY AND SUSSEX INTEGRATED CARE BOARD | B56: South East | C56: GP Practice | D56: SEVEN DIALS MEDICAL CENTRE | E56: G81047 | F56: Active | G56: Various - See Individual Practices | H56: Direct | I56: 469
A57: NHS SURREY AND SUSSEX INTEGRATED CARE BOARD | B57: South East | C57: GP Practice | D57: HC UNIVERSITY OF SUSSEX HEALTH CENTRE | E57: G81071 | F57: Active | G57: Various - See Individual Practices | H57: Direct | I57: 469

Sheet SW
A1: Region | B1: South West
A3: ICB | B3: Total Accounts
A4: NHS BATH AND NORTH EAST SOMERSET, SWINDON AND WILTSHIRE INTEGRATED CARE BOARD | B4: 20
A5: NHS BRISTOL, NORTH SOMERSET AND SOUTH GLOUCESTERSHIRE INTEGRATED CARE BOARD | B5: 4
A6: NHS CORNWALL AND THE ISLES OF SCILLY INTEGRATED CARE BOARD | B6: 13
A7: NHS DEVON INTEGRATED CARE BOARD | B7: 1
A8: NHS DORSET INTEGRATED CARE BOARD | B8: 3
A9: NHS GLOUCESTERSHIRE INTEGRATED CARE BOARD | B9: 65
A10: South West | B10: 7
A11: Grand Total | B11: 113
A14: Please note the highlighted fields indicate PCNs where there are multiple practices (see PCN tab') however it is currently unknown which practices within that PCN are using which products so ICBs will need to confirm this with each PCN
A16: ICB | B16: Region | C16: Organisation Type | D16: Practices - Account Name | E16: ODS Code | F16: Status | G16: Licence Start | H16: SP Contract Type | I16: Source Row
A17: NHS BATH AND NORTH EAST SOMERSET, SWINDON AND WILTSHIRE INTEGRATED CARE BOARD | B17: South West | C17: GP Practice | D17: Barcroft Medical Centre | E17: J83005 | F17: Active | G17: 01/04 | H17: Direct | I17: 396
A18: NHS BATH AND NORTH EAST SOMERSET, SWINDON AND WILTSHIRE INTEGRATED CARE BOARD | B18: South West | C18: GP Practice | D18: Cherry Orchard Surgery | E18: J83019001 | F18: Active | G18: 01/10 | H18: Direct | I18: 413
A19: NHS BATH AND NORTH EAST SOMERSET, SWINDON AND WILTSHIRE INTEGRATED CARE BOARD | B19: South West | C19: GP Practice | D19: Courtyard Surgery | E19: J83619 | F19: Active | G19: 01/10 | H19: Direct | I19: 418
A20: NHS BATH AND NORTH EAST SOMERSET, SWINDON AND WILTSHIRE INTEGRATED CARE BOARD | B20: South West | C20: GP Practice | D20: New Court Surgery | E20: J83055 | F20: Active | G20: 01/04 | H20: Direct | I20: 442
A21: NHS BATH AND NORTH EAST SOMERSET, SWINDON AND WILTSHIRE INTEGRATED CARE BOARD | B21: South West | C21: GP Practice | D21: Old Orchard Surgery | E21: J83019 | F21: Active | G21: 01/10 | H21: Direct | I21: 444
A22: NHS BATH AND NORTH EAST SOMERSET, SWINDON AND WILTSHIRE INTEGRATED CARE BOARD | B22: South West | C22: GP Practice | D22: Silton Surgery | E22: J83629 | F22: Active | G22: 01/10 | H22: Direct | I22: 457
A23: NHS BATH AND NORTH EAST SOMERSET, SWINDON AND WILTSHIRE INTEGRATED CARE BOARD | B23: South West | C23: GP Practice | D23: Spring Orchard Surgery | E23: J83019002 | F23: Active | G23: 01/10 | H23: Direct | I23: 459
A24: NHS BATH AND NORTH EAST SOMERSET, SWINDON AND WILTSHIRE INTEGRATED CARE BOARD | B24: South West | C24: GP Practice | D24: St Melor House Surgery | E24: J83048 | F24: Active | G24: 01/04 | H24: Direct | I24: 462
A25: NHS BATH AND NORTH EAST SOMERSET, SWINDON AND WILTSHIRE INTEGRATED CARE BOARD | B25: South West | C25: GP Practice | D25: The Castle Practice (Ludgershall) | E25: J83014 | F25: Active | G25: 01/04 | H25: Direct | I25: 465
A26: NHS BATH AND NORTH EAST SOMERSET, SWINDON AND WILTSHIRE INTEGRATED CARE BOARD | B26: South West | C26: GP Practice | D26: Till Orchard Surgery | E26: J83019003 | F26: Active | G26: 01/10 | H26: Direct | I26: 475
A27: NHS BRISTOL, NORTH SOMERSET AND SOUTH GLOUCESTERSHIRE INTEGRATED CARE BOARD | B27: South West | C27: GP Practice | D27: The Orchard Medical Centre (South Gloucestershire) | E27: L81055 | F27: Active | G27: 01/12 | H27: Direct | I27: 524
A28: NHS CORNWALL AND THE ISLES OF SCILLY INTEGRATED CARE BOARD | B28: South West | C28: GP Practice | D28: Bottreaux Surgery | E28: L82058 | F28: Active | G28: 13/05 | H28: Direct | I28: 542
... A94: NHS BATH AND NORTH EAST SOMERSET, SWINDON AND WILTSHIRE INTEGRATED CARE BOARD | B94: South West | C94: GP Practice | D94: University Medical Centre (Bath) | E94: L81617 | F94: Active | G94: 17/12 | H94: Direct | I94: 172
A95: NHS DORSET INTEGRATED CARE BOARD | B95: South West | C95: GP Practice | D95: Beaufort Road Surgery | E95: J81018 | F95: Active | H95: Direct | I95: 156
A96: NHS DORSET INTEGRATED CARE BOARD | B96: South West | C96: GP Practice | D96: South Coast Medical Group | E96: J81646 / J81634 / J81049 / J81633 | F96: Active | G96: 29/11 | H96: Direct | I96: 168
A97: NHS GLOUCESTERSHIRE INTEGRATED CARE BOARD | B97: South West | C97: GP Practice | D97: Forest Health Care | E97: L84028 | F97: Active | G97: 14/08 | H97: DFOCVC | I97: 138
A98: NHS GLOUCESTERSHIRE INTEGRATED CARE BOARD | B98: South West | C98: GP Practice | D98: Leckhampton Surgery | E98: L84040 | F98: Active | G98: 14/08 | H98: DFOCVC | I98: 143
A99: NHS BATH AND NORTH EAST SOMERSET, SWINDON AND WILTSHIRE INTEGRATED CARE BOARD | B99: South West | C99: GP Practice | D99: Elm Hayes Surgery | E99: L81059 | F99: Active | G99: 03/12 | H99: Direct | I99: 271
A100: NHS BATH AND NORTH EAST SOMERSET, SWINDON AND WILTSHIRE INTEGRATED CARE BOARD | B100: South West | C100: GP Practice | D100: Hillcrest Surgery (BANES) | E100: L81123 | F100: Active | G100: 03/10 & 03/04 | H100: Direct | I100: 228
A101: NHS BATH AND NORTH EAST SOMERSET, SWINDON AND WILTSHIRE INTEGRATED CARE BOARD | B101: South West | C101: GP Practice | D101: Hindon Surgery | E101: J83630 | F101: Active | G101: 01/10 | H101: Direct | I101: 225
A102: NHS BATH AND NORTH EAST SOMERSET, SWINDON AND WILTSHIRE INTEGRATED CARE BOARD | B102: South West | C102: GP Practice | D102: Mere Surgery | E102: J83060 | F102: Active | G102: 01/10 | H102: Direct | I102: 230
A103: NHS BATH AND NORTH EAST SOMERSET, SWINDON AND WILTSHIRE INTEGRATED CARE BOARD | B103: South West | C103: GP Practice | D103: Somer Valley Medical Group (St Chads and Somerton House) | E103: L81025 | F103: Active | G103: 17/04 | H103: Direct | I103: 264
A104: NHS BATH AND NORTH EAST SOMERSET, SWINDON AND WILTSHIRE INTEGRATED CARE BOARD | B104: South West | C104: GP Practice | D104: Tisbury Surgery | E104: J83058 | F104: Active | G104: 01/10 | H104: Direct | I104: 246
A105: NHS BRISTOL, NORTH SOMERSET AND SOUTH GLOUCESTERSHIRE INTEGRATED CARE BOARD | B105: South West | C105: GP Practice | D105: Air Balloon Surgery | E105: L81038 | F105: Active | G105: 19/02 | H105: Direct | I105: 211
