Workbook

Sheet Full list
A1: Product Analysis Data
A2: Please note the highlighted fields indicate PCNs where there are multiple practices (see PCN tab') however it is currently unknown which practices within that PCN are using which products so ICBs will need to confirm this with each PCN
A4: ICB | B4: Region | C4: Organisation Type | D4: Practices - Account Name | E4: ODS Code | F4: Status | G4: Licence Start | H4: SP Contract Type | I4: Source Row | J4: Status OC | K4: Status Website | L4: Date/Time checked | M4: Population | P4: Practices affected population | R4: Total Population | T4: Percent affected
A5: Betsi Cadwaladr University Health Board | B5: Wales | C5: GP Practice | D5: Queensferry Medical Practice | E5: W91051 | F5: Active | G5: 18/05 | H5: Direct | I5: 548 | J5: Running | K5: Running | M5: =_xlfn.XLOOKUP(AnalysisData[[#This Row],[ODS Code]],'gp-reg-pat-prac-all'!$F$2:$F$6125,'gp-reg-pat-prac-all'!$J$2:$J$6125) -> #N/A
A6: NHS BATH AND NORTH EAST SOMERSET, SWINDON AND WILTSHIRE INTEGRATED CARE BOARD | B6: South West | C6: GP Practice | D6: Barcroft Medical Centre | E6: J83005 | F6: Active | G6: 01/04 | H6: Direct | I6: 396 | M6: =_xlfn.XLOOKUP(AnalysisData[[#This Row],[ODS Code]],'gp-reg-pat-prac-all'!$F$2:$F$6125,'gp-reg-pat-prac-all'!$J$2:$J$6125) -> 10640 | P6: =SUBTOTAL(9,M6:M653) -> #N/A | R6: =SUM('gp-reg-pat-prac-all'!J2:J6125) -> 63013969 | T6: =P6/R6 -> #N/A
A7: NHS BATH AND NORTH EAST SOMERSET, SWINDON AND WILTSHIRE INTEGRATED CARE BOARD | B7: South West | C7: Branch surgery | D7: Cherry Orchard Surgery | E7: J83019001 | F7: Active | G7: 01/10 | H7: Direct | I7: 413 | M7: =_xlfn.XLOOKUP(AnalysisData[[#This Row],[ODS Code]],'gp-reg-pat-prac-all'!$F$2:$F$6125,'gp-reg-pat-prac-all'!$J$2:$J$6125) -> #N/A
A8: NHS BATH AND NORTH EAST SOMERSET, SWINDON AND WILTSHIRE INTEGRATED CARE BOARD | B8: South West | C8: GP Practice | D8: Courtyard Surgery | E8: J83619 | F8: Active | G8: 01/10 | H8: Direct | I8: 418 | M8: =_xlfn.XLOOKUP(AnalysisData[[#This Row],[ODS Code]],'gp-reg-pat-prac-all'!$F$2:$F$6125,'gp-reg-pat-prac-all'!$J$2:$J$6125) -> 3447
A9: NHS BATH AND NORTH EAST SOMERSET, SWINDON AND WILTSHIRE INTEGRATED CARE BOARD | B9: South West | C9: GP Practice | D9: New Court Surgery | E9: J83055 | F9: Active | G9: 01/04 | H9: Direct | I9: 442 | M9: =_xlfn.XLOOKUP(AnalysisData[[#This Row],[ODS Code]],'gp-reg-pat-prac-all'!$F$2:$F$6125,'gp-reg-pat-prac-all'!$J$2:$J$6125) -> 9960
A10: NHS BATH AND NORTH EAST SOMERSET, SWINDON AND WILTSHIRE INTEGRATED CARE BOARD | B10: South West | C10: GP Practice | D10: Old Orchard Surgery | E10: J83019 | F10: Active | G10: 01/10 | H10: Direct | I10: 444 | M10: =_xlfn.XLOOKUP(AnalysisData[[#This Row],[ODS Code]],'gp-reg-pat-prac-all'!$F$2:$F$6125,'gp-reg-pat-prac-all'!$J$2:$J$6125) -> 12344
A11: NHS BATH AND NORTH EAST SOMERSET, SWINDON AND WILTSHIRE INTEGRATED CARE BOARD | B11: South West | C11: GP Practice | D11: Silton Surgery | E11: J83629 | F11: Active | G11: 01/10 | H11: Direct | I11: 457 | M11: =_xlfn.XLOOKUP(AnalysisData[[#This Row],[ODS Code]],'gp-reg-pat-prac-all'!$F$2:$F$6125,'gp-reg-pat-prac-all'!$J$2:$J$6125) -> 2432
A12: NHS BATH AND NORTH EAST SOMERSET, SWINDON AND WILTSHIRE INTEGRATED CARE BOARD | B12: South West | C12: Branch surgery | D12: Spring Orchard Surgery | E12: J83019002 | F12: Active | G12: 01/10 | H12: Direct | I12: 459 | M12: =_xlfn.XLOOKUP(AnalysisData[[#This Row],[ODS Code]],'gp-reg-pat-prac-all'!$F$2:$F$6125,'gp-reg-pat-prac-all'!$J$2:$J$6125) -> #N/A
A13: NHS BATH AND NORTH EAST SOMERSET, SWINDON AND WILTSHIRE INTEGRATED CARE BOARD | B13: South West | C13: GP Practice | D13: St Melor House Surgery | E13: J83048 | F13: Active | G13: 01/04 | H13: Direct | I13: 462 | M13: =_xlfn.XLOOKUP(AnalysisData[[#This Row],[ODS Code]],'gp-reg-pat-prac-all'!$F$2:$F$6125,'gp-reg-pat-prac-all'!$J$2:$J$6125) -> 6906
A14: NHS BATH AND NORTH EAST SOMERSET, SWINDON AND WILTSHIRE INTEGRATED CARE BOARD | B14: South West | C14: GP Practice | D14: The Castle Practice (Ludgershall) | E14: J83014 | F14: Active | G14: 01/04 | H14: Direct | I14: 465 | M14: =_xlfn.XLOOKUP(AnalysisData[[#This Row],[ODS Code]],'gp-reg-pat-prac-all'!$F$2:$F$6125,'gp-reg-pat-prac-all'!$J$2:$J$6125) -> 16333
A15: NHS BATH AND NORTH EAST SOMERSET, SWINDON AND WILTSHIRE INTEGRATED CARE BOARD | B15: South West | C15: Branch surgery | D15: Till Orchard Surgery | E15: J83019003 | F15: Active | G15: 01/10 | H15: Direct | I15: 475 | M15: =_xlfn.XLOOKUP(AnalysisData[[#This Row],[ODS Code]],'gp-reg-pat-prac-all'!$F$2:$F$6125,'gp-reg-pat-prac-all'!$J$2:$J$6125) -> #N/A
A16: NHS CENTRAL EAST INTEGRATED CARE BOARD | B16: East of England | C16: GP Practice | D16: Bassett Road Surgery | E16: E81003 | F16: Active | G16: 19/11 | H16: Direct | I16: 495 | M16: =_xlfn.XLOOKUP(AnalysisData[[#This Row],[ODS Code]],'gp-reg-pat-prac-all'!$F$2:$F$6125,'gp-reg-pat-prac-all'!$J$2:$J$6125) -> 21483
A17: NHS CENTRAL EAST INTEGRATED CARE BOARD | B17: East of England | C17: GP Practice | D17: Bedford Street Surgery | E17: K82039 | F17: Active | G17: 30/06 | H17: Direct | I17: 600 | M17: =_xlfn.XLOOKUP(AnalysisData[[#This Row],[ODS Code]],'gp-reg-pat-prac-all'!$F$2:$F$6125,'gp-reg-pat-prac-all'!$J$2:$J$6125) -> 16050
A18: NHS CENTRAL EAST INTEGRATED CARE BOARD | B18: East of England | C18: GP Practice | D18: Castle Street Surgery (Luton) | E18: E81013 | F18: Active | G18: 23/08 | H18: Direct | I18: 384 | M18: =_xlfn.XLOOKUP(AnalysisData[[#This Row],[ODS Code]],'gp-reg-pat-prac-all'!$F$2:$F$6125,'gp-reg-pat-prac-all'!$J$2:$J$6125) -> 14059
... A38: NHS BIRMINGHAM AND SOLIHULL INTEGRATED CARE BOARD | B38: Midlands | C38: GP Practice | D38: Aylesbury Surgery | E38: M85779 | F38: Active | G38: 30/11 | H38: Direct | I38: 515 | M38: =_xlfn.XLOOKUP(AnalysisData[[#This Row],[ODS Code]],'gp-reg-pat-prac-all'!$F$2:$F$6125,'gp-reg-pat-prac-all'!$J$2:$J$6125) -> 2949
A39: NHS BIRMINGHAM AND SOLIHULL INTEGRATED CARE BOARD | B39: Midlands | C39: PCN | D39: Birmingham East Central PCN | E39: U79433 | F39: Active | H39: Direct | I39: 494 | M39: =_xlfn.XLOOKUP(AnalysisData[[#This Row],[ODS Code]],'gp-reg-pat-prac-all'!$F$2:$F$6125,'gp-reg-pat-prac-all'!$J$2:$J$6125) -> #N/A
A40: NHS BIRMINGHAM AND SOLIHULL INTEGRATED CARE BOARD | B40: Midlands | C40: GP Practice | D40: Bucklands End Lane Surgery | E40: M85113 | F40: Active | G40: 24/10 | H40: Direct | I40: 482 | M40: =_xlfn.XLOOKUP(AnalysisData[[#This Row],[ODS Code]],'gp-reg-pat-prac-all'!$F$2:$F$6125,'gp-reg-pat-prac-all'!$J$2:$J$6125) -> 5912
A41: NHS BIRMINGHAM AND SOLIHULL INTEGRATED CARE BOARD | B41: Midlands | C41: GP Practice | D41: Church Lane Khan | E41: M85013 | F41: Active | G41: 24/10 | H41: Direct | I41: 484 | M41: =_xlfn.XLOOKUP(AnalysisData[[#This Row],[ODS Code]],'gp-reg-pat-prac-all'!$F$2:$F$6125,'gp-reg-pat-prac-all'!$J$2:$J$6125) -> 4557
A42: NHS BIRMINGHAM AND SOLIHULL INTEGRATED CARE BOARD | B42: Midlands | C42: GP Practice | D42: Church Road Surgery | E42: M85048 | F42: Active | G42: 01/05 | H42: Direct | I42: 516 | M42: =_xlfn.XLOOKUP(AnalysisData[[#This Row],[ODS Code]],'gp-reg-pat-prac-all'!$F$2:$F$6125,'gp-reg-pat-prac-all'!$J$2:$J$6125) -> 10914
A43: NHS BIRMINGHAM AND SOLIHULL INTEGRATED CARE BOARD | B43: Midlands | C43: GP Practice | D43: Cotmore Surgery | E43: M85792 | F43: Active | G43: 30/11 | H43: Direct | I43: 496 | M43: =_xlfn.XLOOKUP(AnalysisData[[#This Row],[ODS Code]],'gp-reg-pat-prac-all'!$F$2:$F$6125,'gp-reg-pat-prac-all'!$J$2:$J$6125) -> 3336
A44: NHS BIRMINGHAM AND SOLIHULL INTEGRATED CARE BOARD | B44: Midlands | C44: GP Practice | D44: Dr Khuroo's Practice | E44: M85716 | F44: Active | G44: 21/09 | H44: Direct | I44: 411 | M44: =_xlfn.XLOOKUP(AnalysisData[[#This Row],[ODS Code]],'gp-reg-pat-prac-all'!$F$2:$F$6125,'gp-reg-pat-prac-all'!$J$2:$J$6125) -> 5410
A45: NHS BIRMINGHAM AND SOLIHULL INTEGRATED CARE BOARD | B45: Midlands | C45: GP Practice | D45: Druid Group | E45: M85706 | F45: Active | G45: 24/10 | H45: Direct | I45: 485 | M45: =_xlfn.XLOOKUP(AnalysisData[[#This Row],[ODS Code]],'gp-reg-pat-prac-all'!$F$2:$F$6125,'gp-reg-pat-prac-all'!$J$2:$J$6125) -> 13672
A46: NHS BIRMINGHAM AND SOLIHULL INTEGRATED CARE BOARD | B46: Midlands | C46: GP Practice | D46: Eden Court Medical Practice | E46: M85079 | F46: Active | G46: 01/05 | H46: Direct | I46: 518 | M46: =_xlfn.XLOOKUP(AnalysisData[[#This Row],[ODS Code]],'gp-reg-pat-prac-all'!$F$2:$F$6125,'gp-reg-pat-prac-all'!$J$2:$J$6125) -> 10820
A47: NHS BIRMINGHAM AND SOLIHULL INTEGRATED CARE BOARD | B47: Midlands | C47: PCN | D47: Gosk PCN | E47: U82305 | F47: Active | G47: 30/11 | H47: Direct | I47: 517 | M47: =_xlfn.XLOOKUP(AnalysisData[[#This Row],[ODS Code]],'gp-reg-pat-prac-all'!$F$2:$F$6125,'gp-reg-pat-prac-all'!$J$2:$J$6125) -> #N/A
A48: NHS BIRMINGHAM AND SOLIHULL INTEGRATED CARE BOARD | B48: Midlands | C48: GP Practice | D48: Harlequin Surgery | E48: M85031 | F48: Active | G48: 01/05 | H48: Direct | I48: 520 | M48: =_xlfn.XLOOKUP(AnalysisData[[#This Row],[ODS Code]],'gp-reg-pat-prac-all'!$F$2:$F$6125,'gp-reg-pat-prac-all'!$J$2:$J$6125) -> 10438
A49: NHS BIRMINGHAM AND SOLIHULL INTEGRATED CARE BOARD | B49: Midlands | C49: GP Practice | D49: Hodge Hill Family Practice | E49: Y02567 | F49: Active | G49: 01/05 | H49: Direct | I49: 522 | M49: =_xlfn.XLOOKUP(AnalysisData[[#This Row],[ODS Code]],'gp-reg-pat-prac-all'!$F$2:$F$6125,'gp-reg-pat-prac-all'!$J$2:$J$6125) -> 5916
A50: NHS BIRMINGHAM AND SOLIHULL INTEGRATED CARE BOARD | B50: Midlands | C50: GP Practice | D50: Kingsbury Road Surgery | E50: M85014 | F50: Active | G50: 30/11 | H50: Direct | I50: 519 | M50: =_xlfn.XLOOKUP(AnalysisData[[#This Row],[ODS Code]],'gp-reg-pat-prac-all'!$F$2:$F$6125,'gp-reg-pat-prac-all'!$J$2:$J$6125) -> 4710
A51: NHS BIRMINGHAM AND SOLIHULL INTEGRATED CARE BOARD | B51: Midlands | C51: GP Practice | D51: Kingstanding Circle Surgery | E51: M85155 | F51: Active | G51: 30/11 | H51: Direct | I51: 521 | M51: =_xlfn.XLOOKUP(AnalysisData[[#This Row],[ODS Code]],'gp-reg-pat-prac-all'!$F$2:$F$6125,'gp-reg-pat-prac-all'!$J$2:$J$6125) -> 6587
... A213: NHS GREATER MANCHESTER INTEGRATED CARE BOARD | B213: North West | C213: GP Practice | D213: Chorlton Family Practice | E213: P84068 | F213: Active | G213: 01/10 | H213: Direct | I213: 416 | M213: =_xlfn.XLOOKUP(AnalysisData[[#This Row],[ODS Code]],'gp-reg-pat-prac-all'!$F$2:$F$6125,'gp-reg-pat-prac-all'!$J$2:$J$6125) -> 21612
A214: NHS GREATER MANCHESTER INTEGRATED CARE BOARD | B214: North West | C214: Other | D214: Salford Digital Team | F214: Active | H214: DFOCVC | I214: 498 | M214: =_xlfn.XLOOKUP(AnalysisData[[#This Row],[ODS Code]],'gp-reg-pat-prac-all'!$F$2:$F$6125,'gp-reg-pat-prac-all'!$J$2:$J$6125) -> #N/A
A215: NHS GREATER MANCHESTER INTEGRATED CARE BOARD | B215: North West | C215: GP Practice | D215: The Delamere Medical Practice | E215: P91018 | F215: Active | G215: 02/04 & 02/10 | H215: Direct | I215: 539 | M215: =_xlfn.XLOOKUP(AnalysisData[[#This Row],[ODS Code]],'gp-reg-pat-prac-all'!$F$2:$F$6125,'gp-reg-pat-prac-all'!$J$2:$J$6125) -> 14429
A216: NHS GREATER MANCHESTER INTEGRATED CARE BOARD | B216: North West | C216: GP Practice | D216: The Elms Medical Centre | E216: P83608 | F216: Active | G216: 01/04 | H216: Direct | I216: 466 | M216: =_xlfn.XLOOKUP(AnalysisData[[#This Row],[ODS Code]],'gp-reg-pat-prac-all'!$F$2:$F$6125,'gp-reg-pat-prac-all'!$J$2:$J$6125) -> 6219
A217: NHS GREATER MANCHESTER INTEGRATED CARE BOARD | B217: North West | C217: GP Practice | D217: The Robert Darbishire Practice | E217: P84072 | F217: Active | G217: 01/10 | H217: Direct | I217: 470 | M217: =_xlfn.XLOOKUP(AnalysisData[[#This Row],[ODS Code]],'gp-reg-pat-prac-all'!$F$2:$F$6125,'gp-reg-pat-prac-all'!$J$2:$J$6125) -> 36572
A218: NHS GREATER MANCHESTER INTEGRATED CARE BOARD | B218: North West | C218: GP Practice | D218: The Whitswood Practice | E218: P84635 | F218: Active | G218: 01/10 | H218: Direct | I218: 472 | M218: =_xlfn.XLOOKUP(AnalysisData[[#This Row],[ODS Code]],'gp-reg-pat-prac-all'!$F$2:$F$6125,'gp-reg-pat-prac-all'!$J$2:$J$6125) -> 5006
A219: NHS GREATER MANCHESTER INTEGRATED CARE BOARD | B219: North West | C219: GP Practice | D219: Unsworth Medical Centre | E219: P83011 | F219: In Preview | G219: 01/04 | H219: Direct | I219: 379 | M219: =_xlfn.XLOOKUP(AnalysisData[[#This Row],[ODS Code]],'gp-reg-pat-prac-all'!$F$2:$F$6125,'gp-reg-pat-prac-all'!$J$2:$J$6125) -> 7423
A220: NHS GREATER MANCHESTER INTEGRATED CARE BOARD | B220: North West | C220: GP Practice | D220: Urban Village Medical Practice | E220: P84673 | F220: Active | G220: 01/10 | H220: Direct | I220: 476 | M220: =_xlfn.XLOOKUP(AnalysisData[[#This Row],[ODS Code]],'gp-reg-pat-prac-all'!$F$2:$F$6125,'gp-reg-pat-prac-all'!$J$2:$J$6125) -> 14385
A221: NHS HAMPSHIRE AND ISLE OF WIGHT INTEGRATED CARE BOARD | B221: South East | C221: GP Practice | D221: St Mary's Surgery (Andover) | E221: J82103 | F221: Active | G221: 16/05 | H221: Direct | I221: 547 | M221: =_xlfn.XLOOKUP(AnalysisData[[#This Row],[ODS Code]],'gp-reg-pat-prac-all'!$F$2:$F$6125,'gp-reg-pat-prac-all'!$J$2:$J$6125) -> 12512
A222: NHS HAMPSHIRE AND ISLE OF WIGHT INTEGRATED CARE BOARD | B222: South East | C222: GP Practice | D222: The Elms Practice | E222: J82210 | F222: Active | G222: 02/09 | H222: Direct | I222: 398 | M222: =_xlfn.XLOOKUP(AnalysisData[[#This Row],[ODS Code]],'gp-reg-pat-prac-all'!$F$2:$F$6125,'gp-reg-pat-prac-all'!$J$2:$J$6125) -> 9450
A223: NHS HAMPSHIRE AND ISLE OF WIGHT INTEGRATED CARE BOARD | B223: South East | C223: GP Practice | D223: Trafalgar Medical Group Practice | E223: J82028 | F223: Active | G223: 10/05 | H223: Direct | I223: 538 | M223: =_xlfn.XLOOKUP(AnalysisData[[#This Row],[ODS Code]],'gp-reg-pat-prac-all'!$F$2:$F$6125,'gp-reg-pat-prac-all'!$J$2:$J$6125) -> 27680
A224: NHS HAMPSHIRE AND ISLE OF WIGHT INTEGRATED CARE BOARD | B224: South East | C224: GP Practice | D224: Two Rivers Medical Partnership (Hampshire) | E224: J82214 | F224: Active | G224: 12/03 | H224: Direct | I224: 340 | M224: =_xlfn.XLOOKUP(AnalysisData[[#This Row],[ODS Code]],'gp-reg-pat-prac-all'!$F$2:$F$6125,'gp-reg-pat-prac-all'!$J$2:$J$6125) -> 9868
A225: NHS HAMPSHIRE AND ISLE OF WIGHT INTEGRATED CARE BOARD | B225: South East | C225: GP Practice | D225: Watership Down Health | E225: J82639 | F225: Active | G225: 05/07 | H225: Direct | I225: 619 | M225: =_xlfn.XLOOKUP(AnalysisData[[#This Row],[ODS Code]],'gp-reg-pat-prac-all'!$F$2:$F$6125,'gp-reg-pat-prac-all'!$J$2:$J$6125) -> 19351
A226: NHS HAMPSHIRE AND ISLE OF WIGHT INTEGRATED CARE BOARD | B226: South East | C226: GP Practice | D226: Waterside Medical Practice | E226: J82021 | F226: Active | G226: 15/12 | H226: Direct | I226: 530 | M226: =_xlfn.XLOOKUP(AnalysisData[[#This Row],[ODS Code]],'gp-reg-pat-prac-all'!$F$2:$F$6125,'gp-reg-pat-prac-all'!$J$2:$J$6125) -> 8465
... A320: Swansea Bay University Health Board | B320: Wales | C320: GP Practice | D320: Victoria Gardens Surgery | E320: W98036 | F320: Active | G320: 13/01 | H320: Direct | I320: 596 | M320: =_xlfn.XLOOKUP(AnalysisData[[#This Row],[ODS Code]],'gp-reg-pat-prac-all'!$F$2:$F$6125,'gp-reg-pat-prac-all'!$J$2:$J$6125) -> #N/A
A321: NHS GREATER MANCHESTER INTEGRATED CARE BOARD | B321: North West | C321: GP Practice | D321: Brooklands Medical Practice | E321: P84061 | F321: In Preview | G321: 01/10 | I321: 614 | M321: =_xlfn.XLOOKUP(AnalysisData[[#This Row],[ODS Code]],'gp-reg-pat-prac-all'!$F$2:$F$6125,'gp-reg-pat-prac-all'!$J$2:$J$6125) -> 6012
A322: NHS Greater Glasgow and Clyde | B322: Scotland | C322: GP Practice | D322: Crookston Medical Centre | E322: 52344 | F322: In Preview | G322: TBC | I322: 481 | M322: =_xlfn.XLOOKUP(AnalysisData[[#This Row],[ODS Code]],'gp-reg-pat-prac-all'!$F$2:$F$6125,'gp-reg-pat-prac-all'!$J$2:$J$6125) -> #N/A
A323: N/A | B323: Not assigned to a region | C323: Other | D323: PPCS Ltd | E323: N/A | F323: In Preview | G323: TBC | H323: Direct | I323: 169 | M323: =_xlfn.XLOOKUP(AnalysisData[[#This Row],[ODS Code]],'gp-reg-pat-prac-all'!$F$2:$F$6125,'gp-reg-pat-prac-all'!$J$2:$J$6125) -> #N/A
A324: NHS BIRMINGHAM AND SOLIHULL INTEGRATED CARE BOARD | B324: Midlands | C324: Other | D324: Sutton Medical Consulting Centre | E324: NO06R | F324: Active | G324: 06/04 | H324: Direct | I324: 165 | M324: =_xlfn.XLOOKUP(AnalysisData[[#This Row],[ODS Code]],'gp-reg-pat-prac-all'!$F$2:$F$6125,'gp-reg-pat-prac-all'!$J$2:$J$6125) -> #N/A
A325: NHS BATH AND NORTH EAST SOMERSET, SWINDON AND WILTSHIRE INTEGRATED CARE BOARD | B325: South West | C325: GP Practice | D325: Heart of Bath Medical Partnership | E325: L81039 | F325: Active | G325: 20/06 | H325: Direct | I325: 174 | M325: =_xlfn.XLOOKUP(AnalysisData[[#This Row],[ODS Code]],'gp-reg-pat-prac-all'!$F$2:$F$6125,'gp-reg-pat-prac-all'!$J$2:$J$6125) -> 25571
A326: NHS BATH AND NORTH EAST SOMERSET, SWINDON AND WILTSHIRE INTEGRATED CARE BOARD | B326: South West | C326: GP Practice | D326: Hope House Surgery | E326: L81010 | F326: Active | G326: 03/01 | H326: Direct | I326: 175 | M326: =_xlfn.XLOOKUP(AnalysisData[[#This Row],[ODS Code]],'gp-reg-pat-prac-all'!$F$2:$F$6125,'gp-reg-pat-prac-all'!$J$2:$J$6125) -> 8452
A327: NHS BATH AND NORTH EAST SOMERSET, SWINDON AND WILTSHIRE INTEGRATED CARE BOARD | B327: South West | C327: GP Practice | D327: University Medical Centre (Bath) | E327: L81617 | F327: Active | G327: 17/12 | H327: Direct | I327: 172 | M327: =_xlfn.XLOOKUP(AnalysisData[[#This Row],[ODS Code]],'gp-reg-pat-prac-all'!$F$2:$F$6125,'gp-reg-pat-prac-all'!$J$2:$J$6125) -> 12131
A328: NHS CENTRAL EAST INTEGRATED CARE BOARD | B328: East of England | C328: GP Practice | D328: Ashfield Medical Centre | E328: K82054 | F328: Active | G328: 08/08 | H328: Direct | I328: 141 | M328: =_xlfn.XLOOKUP(AnalysisData[[#This Row],[ODS Code]],'gp-reg-pat-prac-all'!$F$2:$F$6125,'gp-reg-pat-prac-all'!$J$2:$J$6125) -> 9985
A329: NHS CENTRAL EAST INTEGRATED CARE BOARD | B329: East of England | C329: GP Practice | D329: Sovereign Medical Centre | E329: K82025 | F329: Active | G329: 13/11 | H329: Direct | I329: 164 | M329: =_xlfn.XLOOKUP(AnalysisData[[#This Row],[ODS Code]],'gp-reg-pat-prac-all'!$F$2:$F$6125,'gp-reg-pat-prac-all'!$J$2:$J$6125) -> 10554
A330: NHS CENTRAL EAST INTEGRATED CARE BOARD | B330: East of England | C330: GP Practice | D330: The Red House Surgery | E330: K82013 | F330: Active | G330: 18/07 | H330: Direct | I330: 135 | M330: =_xlfn.XLOOKUP(AnalysisData[[#This Row],[ODS Code]],'gp-reg-pat-prac-all'!$F$2:$F$6125,'gp-reg-pat-prac-all'!$J$2:$J$6125) -> 14221
A331: NHS CENTRAL EAST INTEGRATED CARE BOARD | B331: East of England | C331: GP Practice | D331: Watling Street Practice | E331: K82009 | F331: In Build | G331: TBC | H331: Direct | I331: 154 | M331: =_xlfn.XLOOKUP(AnalysisData[[#This Row],[ODS Code]],'gp-reg-pat-prac-all'!$F$2:$F$6125,'gp-reg-pat-prac-all'!$J$2:$J$6125) -> 41618
A332: NHS CENTRAL EAST INTEGRATED CARE BOARD | B332: East of England | C332: GP Practice | D332: Westcroft Health Centre | E332: K82633 | F332: Active | G332: 29/08 | H332: Direct | I332: 149 | M332: =_xlfn.XLOOKUP(AnalysisData[[#This Row],[ODS Code]],'gp-reg-pat-prac-all'!$F$2:$F$6125,'gp-reg-pat-prac-all'!$J$2:$J$6125) -> 16156
A333: NHS BIRMINGHAM AND SOLIHULL INTEGRATED CARE BOARD | B333: Midlands | C333: GP Practice | D333: City Road Medical Centre | E333: M85684 | F333: Active | G333: 28/09 | H333: Direct | I333: 153 | M333: =_xlfn.XLOOKUP(AnalysisData[[#This Row],[ODS Code]],'gp-reg-pat-prac-all'!$F$2:$F$6125,'gp-reg-pat-prac-all'!$J$2:$J$6125) -> 3861
A334: NHS BLACK COUNTRY INTEGRATED CARE BOARD | B334: Midlands | C334: GP Practice | D334: Feldon Practice | E334: M87020 | F334: Active | G334: 30/06 | H334: Direct | I334: 178 | M334: =_xlfn.XLOOKUP(AnalysisData[[#This Row],[ODS Code]],'gp-reg-pat-prac-all'!$F$2:$F$6125,'gp-reg-pat-prac-all'!$J$2:$J$6125) -> 9074
... A347: NHS DERBY AND DERBYSHIRE INTEGRATED CARE BOARD | B347: Midlands | C347: GP Practice | D347: Mickleover Surgery | E347: C81113 | F347: Active | G347: Monthly | H347: DFOCVC | I347: 147 | M347: =_xlfn.XLOOKUP(AnalysisData[[#This Row],[ODS Code]],'gp-reg-pat-prac-all'!$F$2:$F$6125,'gp-reg-pat-prac-all'!$J$2:$J$6125) -> 6493
A348: NHS DORSET INTEGRATED CARE BOARD | B348: South West | C348: GP Practice | D348: Beaufort Road Surgery | E348: J81018 | F348: Active | H348: Direct | I348: 156 | M348: =_xlfn.XLOOKUP(AnalysisData[[#This Row],[ODS Code]],'gp-reg-pat-prac-all'!$F$2:$F$6125,'gp-reg-pat-prac-all'!$J$2:$J$6125) -> 11429
A349: NHS DORSET INTEGRATED CARE BOARD | B349: South West | C349: PCN | D349: South Coast Medical Group PCN | E349: U89143 | F349: Active | G349: 29/11 | H349: Direct | I349: 168 | M349: =_xlfn.XLOOKUP(AnalysisData[[#This Row],[ODS Code]],'gp-reg-pat-prac-all'!$F$2:$F$6125,'gp-reg-pat-prac-all'!$J$2:$J$6125) -> #N/A
A350: NHS GLOUCESTERSHIRE INTEGRATED CARE BOARD | B350: South West | C350: GP Practice | D350: Forest Health Care | E350: L84028 | F350: Active | G350: 14/08 | H350: DFOCVC | I350: 138 | M350: =_xlfn.XLOOKUP(AnalysisData[[#This Row],[ODS Code]],'gp-reg-pat-prac-all'!$F$2:$F$6125,'gp-reg-pat-prac-all'!$J$2:$J$6125) -> 11824
A351: NHS GLOUCESTERSHIRE INTEGRATED CARE BOARD | B351: South West | C351: GP Practice | D351: Leckhampton Surgery | E351: L84040 | F351: Active | G351: 14/08 | H351: DFOCVC | I351: 143 | M351: =_xlfn.XLOOKUP(AnalysisData[[#This Row],[ODS Code]],'gp-reg-pat-prac-all'!$F$2:$F$6125,'gp-reg-pat-prac-all'!$J$2:$J$6125) -> 12314
A352: NHS GREATER MANCHESTER INTEGRATED CARE BOARD | B352: North West | C352: GP Practice | D352: David Medical Centre | E352: P84066 | F352: Active | G352: 07/03 | H352: Direct | I352: 140 | M352: =_xlfn.XLOOKUP(AnalysisData[[#This Row],[ODS Code]],'gp-reg-pat-prac-all'!$F$2:$F$6125,'gp-reg-pat-prac-all'!$J$2:$J$6125) -> 7361
A353: NHS GREATER MANCHESTER INTEGRATED CARE BOARD | B353: North West | C353: GP Practice | D353: Didsbury Medical Centre | E353: P84678 | F353: Active | G353: 07/07 | H353: Direct | I353: 133 | K353: Down | M353: =_xlfn.XLOOKUP(AnalysisData[[#This Row],[ODS Code]],'gp-reg-pat-prac-all'!$F$2:$F$6125,'gp-reg-pat-prac-all'!$J$2:$J$6125) -> 15319
A354: NHS HAMPSHIRE AND ISLE OF WIGHT INTEGRATED CARE BOARD | B354: South East | C354: GP Practice | D354: Bridgemary Medical Centre | E354: J82152 | F354: Active | G354: 24/02 | H354: Direct | I354: 136 | M354: =_xlfn.XLOOKUP(AnalysisData[[#This Row],[ODS Code]],'gp-reg-pat-prac-all'!$F$2:$F$6125,'gp-reg-pat-prac-all'!$J$2:$J$6125) -> 8206
A355: NHS ESSEX INTEGRATED CARE BOARD | B355: East of England | C355: GP Practice | D355: Grange Street Surgery | E355: E82059 | F355: Active | G355: 09/02 | H355: Direct | I355: 134 | M355: =_xlfn.XLOOKUP(AnalysisData[[#This Row],[ODS Code]],'gp-reg-pat-prac-all'!$F$2:$F$6125,'gp-reg-pat-prac-all'!$J$2:$J$6125) -> 10250
A356: NHS ESSEX INTEGRATED CARE BOARD | B356: East of England | C356: PCN | D356: Benfleet PCN | E356: Y07493 | F356: Active | G356: 26/02 | H356: Direct | I356: 137 | M356: =_xlfn.XLOOKUP(AnalysisData[[#This Row],[ODS Code]],'gp-reg-pat-prac-all'!$F$2:$F$6125,'gp-reg-pat-prac-all'!$J$2:$J$6125) -> #N/A
A357: NHS NORFOLK AND SUFFOLK INTEGRATED CARE BOARD | B357: East of England | C357: GP Practice | D357: Magdalen Medical Practice | E357: D82012 | F357: Active | G357: 03/10 | H357: NHS | I357: 173 | M357: =_xlfn.XLOOKUP(AnalysisData[[#This Row],[ODS Code]],'gp-reg-pat-prac-all'!$F$2:$F$6125,'gp-reg-pat-prac-all'!$J$2:$J$6125) -> 14410
A358: NHS WEST AND NORTH LONDON INTEGRATED CARE BOARD | B358: London | C358: GP Practice | D358: Ashville Surgery | E358: E85719 | F358: Active | G358: 17/09 | H358: Direct | I358: 152 | M358: =_xlfn.XLOOKUP(AnalysisData[[#This Row],[ODS Code]],'gp-reg-pat-prac-all'!$F$2:$F$6125,'gp-reg-pat-prac-all'!$J$2:$J$6125) -> 9412
A359: NHS WEST AND NORTH LONDON INTEGRATED CARE BOARD | B359: London | C359: GP Practice | D359: Brampton Health Centre | E359: E84049 | F359: Active | G359: 01/07 | H359: Direct | I359: 179 | M359: =_xlfn.XLOOKUP(AnalysisData[[#This Row],[ODS Code]],'gp-reg-pat-prac-all'!$F$2:$F$6125,'gp-reg-pat-prac-all'!$J$2:$J$6125) -> 7582
A360: NHS WEST AND NORTH LONDON INTEGRATED CARE BOARD | B360: London | C360: GP Practice | D360: Chelsea Medical Services | E360: E87048 | F360: Active | G360: 29/10 | H360: Direct | I360: 162 | M360: =_xlfn.XLOOKUP(AnalysisData[[#This Row],[ODS Code]],'gp-reg-pat-prac-all'!$F$2:$F$6125,'gp-reg-pat-prac-all'!$J$2:$J$6125) -> 3033
A361: NHS WEST AND NORTH LONDON INTEGRATED CARE BOARD | B361: London | C361: GP Practice | D361: Hatch End Medical Centre | E361: E84053 | F361: Active | G361: 22/08 | H361: Direct | I361: 148 | M361: =_xlfn.XLOOKUP(AnalysisData[[#This Row],[ODS Code]],'gp-reg-pat-prac-all'!$F$2:$F$6125,'gp-reg-pat-prac-all'!$J$2:$J$6125) -> 3053
A362: NHS WEST AND NORTH LONDON INTEGRATED CARE BOARD | B362: London | C362: GP Practice | D362: Preston Road Surgery | E362: E84620 | F362: Active | G362: 01/07 | H362: Direct | I362: 180 | M362: =_xlfn.XLOOKUP(AnalysisData[[#This Row],[ODS Code]],'gp-reg-pat-prac-all'!$F$2:$F$6125,'gp-reg-pat-prac-all'!$J$2:$J$6125) -> 5664
A363: NHS WEST AND NORTH LONDON INTEGRATED CARE BOARD | B363: London | C363: GP Practice | D363: St Peters Medical Centre | E363: E84693 | F363: Active | G363: 04/01 | H363: Direct | I363: 176 | M363: =_xlfn.XLOOKUP(AnalysisData[[#This Row],[ODS Code]],'gp-reg-pat-prac-all'!$F$2:$F$6125,'gp-reg-pat-prac-all'!$J$2:$J$6125) -> 10065
A364: NHS WEST AND NORTH LONDON INTEGRATED CARE BOARD | B364: London | C364: GP Practice | D364: Sudbury & Alperton Medical Centre | E364: E84017 | F364: Active | G364: 01/07 | H364: Direct | I364: 182 | M364: =_xlfn.XLOOKUP(AnalysisData[[#This Row],[ODS Code]],'gp-reg-pat-prac-all'!$F$2:$F$6125,'gp-reg-pat-prac-all'!$J$2:$J$6125) -> 7106
A365: NHS WEST AND NORTH LONDON INTEGRATED CARE BOARD | B365: London | C365: GP Practice | D365: The Circle Practice | E365: E84004 | F365: Active | G365: 11/12 | H365: Direct | I365: 171 | M365: =_xlfn.XLOOKUP(AnalysisData[[#This Row],[ODS Code]],'gp-reg-pat-prac-all'!$F$2:$F$6125,'gp-reg-pat-prac-all'!$J$2:$J$6125) -> 7083
... A373: NHS NORFOLK AND SUFFOLK INTEGRATED CARE BOARD | B373: East of England | C373: GP Practice | D373: Cardinal Medical Practice | E373: D83050 | F373: Active | G373: 21/04 | H373: Direct | I373: 166 | M373: =_xlfn.XLOOKUP(AnalysisData[[#This Row],[ODS Code]],'gp-reg-pat-prac-all'!$F$2:$F$6125,'gp-reg-pat-prac-all'!$J$2:$J$6125) -> 28083
A374: NHS NORFOLK AND SUFFOLK INTEGRATED CARE BOARD | B374: East of England | C374: PCN | D374: Clacton PCN | E374: U42142 | F374: Active | H374: Direct | I374: 157 | M374: =_xlfn.XLOOKUP(AnalysisData[[#This Row],[ODS Code]],'gp-reg-pat-prac-all'!$F$2:$F$6125,'gp-reg-pat-prac-all'!$J$2:$J$6125) -> #N/A
A375: NHS NORFOLK AND SUFFOLK INTEGRATED CARE BOARD | B375: East of England | C375: GP Practice | D375: Colchester Medical Practice | E375: F81042 | F375: Active | G375: 01/02 | H375: Direct | I375: 186 | M375: =_xlfn.XLOOKUP(AnalysisData[[#This Row],[ODS Code]],'gp-reg-pat-prac-all'!$F$2:$F$6125,'gp-reg-pat-prac-all'!$J$2:$J$6125) -> 43480
A376: NHS NORFOLK AND SUFFOLK INTEGRATED CARE BOARD | B376: East of England | C376: GP Practice | D376: Colne Medical Centre | E376: F81116 | F376: Active | G376: 01/02 | H376: Direct | I376: 187 | M376: =_xlfn.XLOOKUP(AnalysisData[[#This Row],[ODS Code]],'gp-reg-pat-prac-all'!$F$2:$F$6125,'gp-reg-pat-prac-all'!$J$2:$J$6125) -> 10706
A377: NHS NORFOLK AND SUFFOLK INTEGRATED CARE BOARD | B377: East of England | C377: GP Practice | D377: Creffield Medical Group | E377: F81115 | F377: Active | G377: 01/02 | H377: Direct | I377: 188 | M377: =_xlfn.XLOOKUP(AnalysisData[[#This Row],[ODS Code]],'gp-reg-pat-prac-all'!$F$2:$F$6125,'gp-reg-pat-prac-all'!$J$2:$J$6125) -> 26506
A378: NHS NORFOLK AND SUFFOLK INTEGRATED CARE BOARD | B378: East of England | C378: GP Practice | D378: East Hill Surgery | E378: F81091 | F378: Active | G378: 01/02 | H378: Direct | I378: 189 | M378: =_xlfn.XLOOKUP(AnalysisData[[#This Row],[ODS Code]],'gp-reg-pat-prac-all'!$F$2:$F$6125,'gp-reg-pat-prac-all'!$J$2:$J$6125) -> 9454
A379: NHS NORFOLK AND SUFFOLK INTEGRATED CARE BOARD | B379: East of England | C379: GP Practice | D379: East Lynne Medical Centre | E379: F81037 | F379: Active | G379: 01/02 | H379: Direct | I379: 190 | K379: Down | L379: 46322.53 | M379: =_xlfn.XLOOKUP(AnalysisData[[#This Row],[ODS Code]],'gp-reg-pat-prac-all'!$F$2:$F$6125,'gp-reg-pat-prac-all'!$J$2:$J$6125) -> 8816
A380: NHS NORFOLK AND SUFFOLK INTEGRATED CARE BOARD | B380: East of England | C380: GP Practice | D380: Fronks Road Family Surgery | E380: F81221 | F380: Active | G380: 01/02 | H380: Direct | I380: 191 | M380: =_xlfn.XLOOKUP(AnalysisData[[#This Row],[ODS Code]],'gp-reg-pat-prac-all'!$F$2:$F$6125,'gp-reg-pat-prac-all'!$J$2:$J$6125) -> 5074
A381: NHS NORFOLK AND SUFFOLK INTEGRATED CARE BOARD | B381: East of England | C381: Branch surgery | D381: GP Primary Choice Limited | E381: AAQ01, Z0A4J, K8D2X | F381: Active | G381: 01/02 | H381: Direct | I381: 192 | M381: =_xlfn.XLOOKUP(AnalysisData[[#This Row],[ODS Code]],'gp-reg-pat-prac-all'!$F$2:$F$6125,'gp-reg-pat-prac-all'!$J$2:$J$6125) -> #N/A
A382: NHS NORFOLK AND SUFFOLK INTEGRATED CARE BOARD | B382: East of England | C382: GP Practice | D382: Harewood Surgery | E382: F81606 | F382: Active | G382: 01/02 | H382: Direct | I382: 193 | M382: =_xlfn.XLOOKUP(AnalysisData[[#This Row],[ODS Code]],'gp-reg-pat-prac-all'!$F$2:$F$6125,'gp-reg-pat-prac-all'!$J$2:$J$6125) -> 2913
A383: NHS NORFOLK AND SUFFOLK INTEGRATED CARE BOARD | B383: East of England | C383: GP Practice | D383: Highwoods Surgery | E383: F81679 | F383: Active | G383: 01/02 | H383: Direct | I383: 194 | M383: =_xlfn.XLOOKUP(AnalysisData[[#This Row],[ODS Code]],'gp-reg-pat-prac-all'!$F$2:$F$6125,'gp-reg-pat-prac-all'!$J$2:$J$6125) -> 7577
A384: NHS NORFOLK AND SUFFOLK INTEGRATED CARE BOARD | B384: East of England | C384: GP Practice | D384: Lawford Surgery | E384: F81633 | F384: Active | G384: 01/02 | H384: Direct | I384: 195 | M384: =_xlfn.XLOOKUP(AnalysisData[[#This Row],[ODS Code]],'gp-reg-pat-prac-all'!$F$2:$F$6125,'gp-reg-pat-prac-all'!$J$2:$J$6125) -> 5529
A385: NHS NORFOLK AND SUFFOLK INTEGRATED CARE BOARD | B385: East of England | C385: GP Practice | D385: Mersea Island Medical Practice | E385: F81012 | F385: Active | G385: 01/02 | H385: Direct | I385: 196 | M385: =_xlfn.XLOOKUP(AnalysisData[[#This Row],[ODS Code]],'gp-reg-pat-prac-all'!$F$2:$F$6125,'gp-reg-pat-prac-all'!$J$2:$J$6125) -> 6937
A386: NHS NORFOLK AND SUFFOLK INTEGRATED CARE BOARD | B386: East of England | C386: GP Practice | D386: Mill Road Surgery | E386: F81636 | F386: Active | G386: 01/02 | H386: Direct | I386: 197 | M386: =_xlfn.XLOOKUP(AnalysisData[[#This Row],[ODS Code]],'gp-reg-pat-prac-all'!$F$2:$F$6125,'gp-reg-pat-prac-all'!$J$2:$J$6125) -> 21846
A387: NHS NORFOLK AND SUFFOLK INTEGRATED CARE BOARD | B387: East of England | C387: Branch surgery | D387: North Clacton Medical Group | E387: F81741, F81018 | F387: Active | G387: 01/02 | H387: Direct | I387: 198 | M387: =_xlfn.XLOOKUP(AnalysisData[[#This Row],[ODS Code]],'gp-reg-pat-prac-all'!$F$2:$F$6125,'gp-reg-pat-prac-all'!$J$2:$J$6125) -> #N/A
A388: NHS NORFOLK AND SUFFOLK INTEGRATED CARE BOARD | B388: East of England | C388: GP Practice | D388: North Colchester Healthcare/Turner Road Surgery | E388: Y02646 | F388: Active | G388: 01/02 | H388: Direct | I388: 199 | M388: =_xlfn.XLOOKUP(AnalysisData[[#This Row],[ODS Code]],'gp-reg-pat-prac-all'!$F$2:$F$6125,'gp-reg-pat-prac-all'!$J$2:$J$6125) -> 10270
A389: NHS NORFOLK AND SUFFOLK INTEGRATED CARE BOARD | B389: East of England | C389: GP Practice | D389: Old Road Medical Practice | E389: F81212 | F389: Active | G389: 01/02 | H389: Direct | I389: 200 | M389: =_xlfn.XLOOKUP(AnalysisData[[#This Row],[ODS Code]],'gp-reg-pat-prac-all'!$F$2:$F$6125,'gp-reg-pat-prac-all'!$J$2:$J$6125) -> 9476
A390: NHS NORFOLK AND SUFFOLK INTEGRATED CARE BOARD | B390: East of England | C390: GP Practice | D390: Riverside Health Centre | E390: F81757 | F390: Active | G390: 01/02 | H390: Direct | I390: 201 | M390: =_xlfn.XLOOKUP(AnalysisData[[#This Row],[ODS Code]],'gp-reg-pat-prac-all'!$F$2:$F$6125,'gp-reg-pat-prac-all'!$J$2:$J$6125) -> 6473
A391: NHS NORFOLK AND SUFFOLK INTEGRATED CARE BOARD | B391: East of England | C391: GP Practice | D391: Rowhedge & University of Essex Medical Practice | E391: F81141 | F391: Active | G391: 01/02 | H391: Direct | I391: 202 | M391: =_xlfn.XLOOKUP(AnalysisData[[#This Row],[ODS Code]],'gp-reg-pat-prac-all'!$F$2:$F$6125,'gp-reg-pat-prac-all'!$J$2:$J$6125) -> 13861
... A397: NHS NORFOLK AND SUFFOLK INTEGRATED CARE BOARD | B397: East of England | C397: GP Practice | D397: Wivenhoe Surgery | E397: F81028 | F397: Active | G397: 01/02 | H397: Direct | I397: 208 | M397: =_xlfn.XLOOKUP(AnalysisData[[#This Row],[ODS Code]],'gp-reg-pat-prac-all'!$F$2:$F$6125,'gp-reg-pat-prac-all'!$J$2:$J$6125) -> 9044
A398: NHS CENTRAL EAST INTEGRATED CARE BOARD | B398: East of England | C398: GP Practice | D398: Everest House Surgery | E398: E82051 | F398: Active | G398: 16/07 | I398: 155 | M398: =_xlfn.XLOOKUP(AnalysisData[[#This Row],[ODS Code]],'gp-reg-pat-prac-all'!$F$2:$F$6125,'gp-reg-pat-prac-all'!$J$2:$J$6125) -> 14704
...

Sheet List of GP Practices CLEANED
B2: ICB | C2: Region | D2: Organisation Type | E2: Practices - Account Name | F2: ODS Code | G2: Status | H2: Licence Start | I2: SP Contract Type | J2: Source Row | K2: Population | M2: Practices affected population | O2: Total Population | Q2: Percent affected
B3: NHS BATH AND NORTH EAST SOMERSET, SWINDON AND WILTSHIRE INTEGRATED CARE BOARD | C3: South West | D3: GP Practice | E3: Barcroft Medical Centre | F3: J83005 | G3: Active | H3: 01/04 | I3: Direct | J3: 396 | K3: 10640 | M3: =SUM(K3:K494) -> 5038365 | O3: =SUM('gp-reg-pat-prac-all'!$J$2:$J$6125) -> 63013969 | Q3: =M3/O3 -> 0.079956319
B4: NHS BATH AND NORTH EAST SOMERSET, SWINDON AND WILTSHIRE INTEGRATED CARE BOARD | C4: South West | D4: GP Practice | E4: Courtyard Surgery | F4: J83619 | G4: Active | H4: 01/10 | I4: Direct | J4: 418 | K4: 3447
B5: NHS BATH AND NORTH EAST SOMERSET, SWINDON AND WILTSHIRE INTEGRATED CARE BOARD | C5: South West | D5: GP Practice | E5: New Court Surgery | F5: J83055 | G5: Active | H5: 01/04 | I5: Direct | J5: 442 | K5: 9960
B6: NHS BATH AND NORTH EAST SOMERSET, SWINDON AND WILTSHIRE INTEGRATED CARE BOARD | C6: South West | D6: GP Practice | E6: Old Orchard Surgery | F6: J83019 | G6: Active | H6: 01/10 | I6: Direct | J6: 444 | K6: 12344
B7: NHS BATH AND NORTH EAST SOMERSET, SWINDON AND WILTSHIRE INTEGRATED CARE BOARD | C7: South West | D7: GP Practice | E7: Silton Surgery | F7: J83629 | G7: Active | H7: 01/10 | I7: Direct | J7: 457 | K7: 2432
B8: NHS BATH AND NORTH EAST SOMERSET, SWINDON AND WILTSHIRE INTEGRATED CARE BOARD | C8: South West | D8: GP Practice | E8: St Melor House Surgery | F8: J83048 | G8: Active | H8: 01/04 | I8: Direct | J8: 462 | K8: 6906
B9: NHS BATH AND NORTH EAST SOMERSET, SWINDON AND WILTSHIRE INTEGRATED CARE BOARD | C9: South West | D9: GP Practice | E9: The Castle Practice (Ludgershall) | F9: J83014 | G9: Active | H9: 01/04 | I9: Direct | J9: 465 | K9: 16333
B10: NHS CENTRAL EAST INTEGRATED CARE BOARD | C10: East of England | D10: GP Practice | E10: Bassett Road Surgery | F10: E81003 | G10: Active | H10: 19/11 | I10: Direct | J10: 495 | K10: 21483
B11: NHS CENTRAL EAST INTEGRATED CARE BOARD | C11: East of England | D11: GP Practice | E11: Bedford Street Surgery | F11: K82039 | G11: Active | H11: 30/06 | I11: Direct | J11: 600 | K11: 16050
B12: NHS CENTRAL EAST INTEGRATED CARE BOARD | C12: East of England | D12: GP Practice | E12: Castle Street Surgery (Luton) | F12: E81013 | G12: Active | H12: 23/08 | I12: Direct | J12: 384 | K12: 14059
B13: NHS CENTRAL EAST INTEGRATED CARE BOARD | C13: East of England | D13: GP Practice | E13: Central Milton Keynes Medical Centre | F13: K82065 | G13: Active | H13: 30/04 | I13: Direct | J13: 513 | K13: 20383
B14: NHS CENTRAL EAST INTEGRATED CARE BOARD | C14: East of England | D14: GP Practice | E14: Fishermead Medical Centre | F14: K82064 | G14: Active | H14: 30/05 | I14: Direct | J14: 560 | K14: 7791
B15: NHS CENTRAL EAST INTEGRATED CARE BOARD | C15: East of England | D15: GP Practice | E15: Flitwick Surgery | F15: E81015 | G15: Active | H15: 16/08 | I15: Direct | J15: 347 | K15: 14332
... B297: NHS WEST YORKSHIRE INTEGRATED CARE BOARD | C297: North East and Yorkshire | D297: GP Practice | E297: Windsor House Group Practice | F297: B86057 | G297: Active | H297: 30/12 | I297: Direct | J297: 533 | K297: 19970
B298: NHS GREATER MANCHESTER INTEGRATED CARE BOARD | C298: North West | D298: GP Practice | E298: Brooklands Medical Practice | F298: P84061 | G298: In Preview | H298: 01/10 | J298: 614 | K298: 6012
B299: NHS BATH AND NORTH EAST SOMERSET, SWINDON AND WILTSHIRE INTEGRATED CARE BOARD | C299: South West | D299: GP Practice | E299: Heart of Bath Medical Partnership | F299: L81039 | G299: Active | H299: 20/06 | I299: Direct | J299: 174 | K299: 25571
B300: NHS BATH AND NORTH EAST SOMERSET, SWINDON AND WILTSHIRE INTEGRATED CARE BOARD | C300: South West | D300: GP Practice | E300: Hope House Surgery | F300: L81010 | G300: Active | H300: 03/01 | I300: Direct | J300: 175 | K300: 8452
B301: NHS BATH AND NORTH EAST SOMERSET, SWINDON AND WILTSHIRE INTEGRATED CARE BOARD | C301: South West | D301: GP Practice | E301: University Medical Centre (Bath) | F301: L81617 | G301: Active | H301: 17/12 | I301: Direct | J301: 172 | K301: 12131
B302: NHS CENTRAL EAST INTEGRATED CARE BOARD | C302: East of England | D302: GP Practice | E302: Ashfield Medical Centre | F302: K82054 | G302: Active | H302: 08/08 | I302: Direct | J302: 141 | K302: 9985
B303: NHS CENTRAL EAST INTEGRATED CARE BOARD | C303: East of England | D303: GP Practice | E303: Sovereign Medical Centre | F303: K82025 | G303: Active | H303: 13/11 | I303: Direct | J303: 164 | K303: 10554
B304: NHS CENTRAL EAST INTEGRATED CARE BOARD | C304: East of England | D304: GP Practice | E304: The Red House Surgery | F304: K82013 | G304: Active | H304: 18/07 | I304: Direct | J304: 135 | K304: 14221
B305: NHS CENTRAL EAST INTEGRATED CARE BOARD | C305: East of England | D305: GP Practice | E305: Watling Street Practice | F305: K82009 | G305: In Build | H305: TBC | I305: Direct | J305: 154 | K305: 41618
B306: NHS CENTRAL EAST INTEGRATED CARE BOARD | C306: East of England | D306: GP Practice | E306: Westcroft Health Centre | F306: K82633 | G306: Active | H306: 29/08 | I306: Direct | J306: 149 | K306: 16156
B307: NHS BIRMINGHAM AND SOLIHULL INTEGRATED CARE BOARD | C307: Midlands | D307: GP Practice | E307: City Road Medical Centre | F307: M85684 | G307: Active | H307: 28/09 | I307: Direct | J307: 153 | K307: 3861
B308: NHS BLACK COUNTRY INTEGRATED CARE BOARD | C308: Midlands | D308: GP Practice | E308: Feldon Practice | F308: M87020 | G308: Active | H308: 30/06 | I308: Direct | J308: 178 | K308: 9074
B309: NHS BLACK COUNTRY INTEGRATED CARE BOARD | C309: Midlands | D309: GP Practice | E309: Halesowen Medical Practice | F309: M87602 | G309: Active | H309: 30/06 | I309: Direct | J309: 177 | K309: 10040
B310: NHS BLACK COUNTRY INTEGRATED CARE BOARD | C310: Midlands | D310: GP Practice | E310: Keelinge House Surgery | F310: M87601 | G310: Active | H310: 31/03 | I310: Direct | J310: 144 | K310: 6608
... B321: NHS DERBY AND DERBYSHIRE INTEGRATED CARE BOARD | C321: Midlands | D321: GP Practice | E321: Mickleover Surgery | F321: C81113 | G321: Active | H321: Monthly | I321: DFOCVC | J321: 147 | K321: 6493
B322: NHS DORSET INTEGRATED CARE BOARD | C322: South West | D322: GP Practice | E322: Beaufort Road Surgery | F322: J81018 | G322: Active | I322: Direct | J322: 156 | K322: 11429
B323: NHS GLOUCESTERSHIRE INTEGRATED CARE BOARD | C323: South West | D323: GP Practice | E323: Forest Health Care | F323: L84028 | G323: Active | H323: 14/08 | I323: DFOCVC | J323: 138 | K323: 11824
B324: NHS GLOUCESTERSHIRE INTEGRATED CARE BOARD | C324: South West | D324: GP Practice | E324: Leckhampton Surgery | F324: L84040 | G324: Active | H324: 14/08 | I324: DFOCVC | J324: 143 | K324: 12314
B325: NHS GREATER MANCHESTER INTEGRATED CARE BOARD | C325: North West | D325: GP Practice | E325: David Medical Centre | F325: P84066 | G325: Active | H325: 07/03 | I325: Direct | J325: 140 | K325: 7361
B326: NHS GREATER MANCHESTER INTEGRATED CARE BOARD | C326: North West | D326: GP Practice | E326: Didsbury Medical Centre | F326: P84678 | G326: Active | H326: 07/07 | I326: Direct | J326: 133 | K326: 15319
B327: NHS HAMPSHIRE AND ISLE OF WIGHT INTEGRATED CARE BOARD | C327: South East | D327: GP Practice | E327: Bridgemary Medical Centre | F327: J82152 | G327: Active | H327: 24/02 | I327: Direct | J327: 136 | K327: 8206
B328: NHS ESSEX INTEGRATED CARE BOARD | C328: East of England | D328: GP Practice | E328: Grange Street Surgery | F328: E82059 | G328: Active | H328: 09/02 | I328: Direct | J328: 134 | K328: 10250
B329: NHS NORFOLK AND SUFFOLK INTEGRATED CARE BOARD | C329: East of England | D329: GP Practice | E329: Magdalen Medical Practice | F329: D82012 | G329: Active | H329: 03/10 | I329: NHS | J329: 173 | K329: 14410
B330: NHS WEST AND NORTH LONDON INTEGRATED CARE BOARD | C330: London | D330: GP Practice | E330: Ashville Surgery | F330: E85719 | G330: Active | H330: 17/09 | I330: Direct | J330: 152 | K330: 9412
B331: NHS WEST AND NORTH LONDON INTEGRATED CARE BOARD | C331: London | D331: GP Practice | E331: Brampton Health Centre | F331: E84049 | G331: Active | H331: 01/07 | I331: Direct | J331: 179 | K331: 7582
B332: NHS WEST AND NORTH LONDON INTEGRATED CARE BOARD | C332: London | D332: GP Practice | E332: Chelsea Medical Services | F332: E87048 | G332: Active | H332: 29/10 | I332: Direct | J332: 162 | K332: 3033
B333: NHS WEST AND NORTH LONDON INTEGRATED CARE BOARD | C333: London | D333: GP Practice | E333: Hatch End Medical Centre | F333: E84053 | G333: Active | H333: 22/08 | I333: Direct | J333: 148 | K333: 3053
B334: NHS WEST AND NORTH LONDON INTEGRATED CARE BOARD | C334: London | D334: GP Practice | E334: Preston Road Surgery | F334: E84620 | G334: Active | H334: 01/07 | I334: Direct | J334: 180 | K334: 5664
... B365: NHS NORFOLK AND SUFFOLK INTEGRATED CARE BOARD | C365: East of England | D365: GP Practice | E365: Wivenhoe Surgery | F365: F81028 | G365: Active | H365: 01/02 | I365: Direct | J365: 208 | K365: 9044
B366: NHS CENTRAL EAST INTEGRATED CARE BOARD | C366: East of England | D366: GP Practice | E366: Everest House Surgery | F366: E82051 | G366: Active | H366: 16/07 | J366: 155 | K366: 14704
B367: NHS BATH AND NORTH EAST SOMERSET, SWINDON AND WILTSHIRE INTEGRATED CARE BOARD | C367: South West | D367: GP Practice | E367: Elm Hayes Surgery | F367: L81059 | G367: Active | H367: 03/12 | I367: Direct | J367: 271 | K367: 8949
B368: NHS BATH AND NORTH EAST SOMERSET, SWINDON AND WILTSHIRE INTEGRATED CARE BOARD | C368: South West | D368: GP Practice | E368: Hillcrest Surgery (BANES) | F368: L81123 | G368: Active | H368: 03/10 & 03/04 | I368: Direct | J368: 228 | K368: 5660
B369: NHS BATH AND NORTH EAST SOMERSET, SWINDON AND WILTSHIRE INTEGRATED CARE BOARD | C369: South West | D369: GP Practice | E369: Hindon Surgery | F369: J83630 | G369: Active | H369: 01/10 | I369: Direct | J369: 225 | K369: 2533
B370: NHS BATH AND NORTH EAST SOMERSET, SWINDON AND WILTSHIRE INTEGRATED CARE BOARD | C370: South West | D370: GP Practice | E370: Mere Surgery | F370: J83060 | G370: Active | H370: 01/10 | I370: Direct | J370: 230 | K370: 5084
B371: NHS BATH AND NORTH EAST SOMERSET, SWINDON AND WILTSHIRE INTEGRATED CARE BOARD | C371: South West | D371: GP Practice | E371: Somer Valley Medical Group (St Chads and Somerton House) | F371: L81025 | G371: Active | H371: 17/04 | I371: Direct | J371: 264 | K371: 18482
B372: NHS BATH AND NORTH EAST SOMERSET, SWINDON AND WILTSHIRE INTEGRATED CARE BOARD | C372: South West | D372: GP Practice | E372: Tisbury Surgery | F372: J83058 | G372: Active | H372: 01/10 | I372: Direct | J372: 246 | K372: 4310
B373: NHS CENTRAL EAST INTEGRATED CARE BOARD | C373: East of England | D373: GP Practice | E373: Cobbs Garden Surgery | F373: K82057 | G373: Active | H373: 04/11 | I373: Direct | J373: 259 | K373: 8972
B374: NHS CENTRAL EAST INTEGRATED CARE BOARD | C374: East of England | D374: GP Practice | E374: Ivel Medical Centre | F374: E81036 | G374: Active | H374: 21/06 | I374: Direct | J374: 281 | K374: 12926
B375: NHS CENTRAL EAST INTEGRATED CARE BOARD | C375: East of England | D375: GP Practice | E375: Larkside Practice | F375: E81026 | G375: Active | H375: 01/09 | I375: Direct | J375: 216 | K375: 10035
B376: NHS CENTRAL EAST INTEGRATED CARE BOARD | C376: East of England | D376: GP Practice | E376: London Road Surgery | F376: E81019 | G376: Active | H376: 20/11 | I376: Direct | J376: 262 | K376: 22865
B377: NHS CENTRAL EAST INTEGRATED CARE BOARD | C377: East of England | D377: GP Practice | E377: Milton Keynes Village Practice | F377: K82631 | G377: Active | H377: 18/01 | I377: Direct | J377: 287 | K377: 15903
B378: NHS CENTRAL EAST INTEGRATED CARE BOARD | C378: East of England | D378: GP Practice | E378: Oakley Surgery | F378: E81025 | G378: Active | H378: 28/06 | I378: Direct | J378: 283 | K378: 7410
... B451: NHS STAFFORDSHIRE AND STOKE-ON-TRENT INTEGRATED CARE BOARD | C451: Midlands | D451: GP Practice | E451: Northgate Surgery | F451: M83680 | G451: Active | H451: 29/07 | I451: Direct | J451: 213 | K451: 7412
B452: NHS LANCASHIRE AND SOUTH CUMBRIA INTEGRATED CARE BOARD | C452: North West | D452: GP Practice | E452: Euxton Medical Centre | F452: P81171 | G452: Active | H452: TBC | J452: 244 | K452: 4669
B453: NHS CENTRAL EAST INTEGRATED CARE BOARD | C453: East of England | D453: GP Practice | E453: Lister House Surgery | F453: C81072 | G453: Active | H453: 13/07 | J453: 276 | K453: 45447
B454: NHS CORNWALL AND THE ISLES OF SCILLY INTEGRATED CARE BOARD | C454: South West | D454: GP Practice | E454: Quay Lane Surgery | F454: L82043 | G454: In Preview | H454: TBC | J454: 275 | K454: 4636
B455: NHS DERBY AND DERBYSHIRE INTEGRATED CARE BOARD | C455: Midlands | D455: GP Practice | E455: Eyam Surgery | F455: C81039 | G455: Active | H455: Monthly | I455: DFOCVC | J455: 131 | K455: 3575
B456: NHS WEST AND NORTH LONDON INTEGRATED CARE BOARD | C456: London | D456: GP Practice | E456: Adelaide Medical Centre | F456: F83020 | G456: Active | H456: 01/04 | I456: DFOCVC | J456: 132 | K456: 11467
B457: NHS BIRMINGHAM AND SOLIHULL INTEGRATED CARE BOARD | C457: Midlands | D457: GP Practice | E457: CHURCH LANE - KHAN | F457: M85013 | G457: Active | I457: Direct | J457: 494 | K457: 4557
B458: NHS BIRMINGHAM AND SOLIHULL INTEGRATED CARE BOARD | C458: Midlands | D458: GP Practice | E458: OMNIA PRACTICE | F458: M85034 | G458: Active | I458: Direct | J458: 494 | K458: 15499
B459: NHS BIRMINGHAM AND SOLIHULL INTEGRATED CARE BOARD | C459: Midlands | D459: GP Practice | E459: YARDLEY GREEN MEDICAL CENTRE | F459: M85061 | G459: Active | I459: Direct | J459: 494 | K459: 12128
B460: NHS BIRMINGHAM AND SOLIHULL INTEGRATED CARE BOARD | C460: Midlands | D460: GP Practice | E460: BUCKLANDS END LANE SURGERY | F460: M85113 | G460: Active | I460: Direct | J460: 494 | K460: 5912
B461: NHS BIRMINGHAM AND SOLIHULL INTEGRATED CARE BOARD | C461: Midlands | D461: GP Practice | E461: DRUID GROUP - EMC SURGERY | F461: M85706 | G461: Active | I461: Direct | J461: 494 | K461: 13672
B462: NHS BIRMINGHAM AND SOLIHULL INTEGRATED CARE BOARD | C462: Midlands | D462: GP Practice | E462: HILLCREST SURGERY | F462: M85016 | G462: Active | H462: 30/11 | I462: Direct | J462: 517 | K462: 4955
B463: NHS BIRMINGHAM AND SOLIHULL INTEGRATED CARE BOARD | C463: Midlands | D463: GP Practice | E463: KINGSTANDING CIRCLE SURGERY | F463: M85155 | G463: Active | H463: 30/11 | I463: Direct | J463: 517 | K463: 6587
B464: NHS BIRMINGHAM AND SOLIHULL INTEGRATED CARE BOARD | C464: Midlands | D464: GP Practice | E464: APOLLO SURGERY | F464: M85158 | G464: Active | H464: 30/11 | I464: Direct | J464: 517 | K464: 2098
B465: NHS BIRMINGHAM AND SOLIHULL INTEGRATED CARE BOARD | C465: Midlands | D465: GP Practice | E465: PERRY PARK SURGERY | F465: M85624 | G465: Active | H465: 30/11 | I465: Direct | J465: 517 | K465: 6406
B466: NHS BIRMINGHAM AND SOLIHULL INTEGRATED CARE BOARD | C466: Midlands | D466: GP Practice | E466: TUDOR PRACTICE STOCKLAND GREEN | F466: M85669 | G466: Active | H466: 30/11 | I466: Direct | J466: 517 | K466: 7135
B467: NHS BIRMINGHAM AND SOLIHULL INTEGRATED CARE BOARD | C467: Midlands | D467: GP Practice | E467: AYLESBURY SURGERY | F467: M85779 | G467: Active | H467: 30/11 | I467: Direct | J467: 517 | K467: 2949
B468: NHS SURREY AND SUSSEX INTEGRATED CARE BOARD | C468: South East | D468: GP Practice | E468: CARDEN SURGERY | F468: G81014 | G468: Active | H468: Various - See Individual Practices | I468: Direct | J468: 469 | K468: 8416
B469: NHS SURREY AND SUSSEX INTEGRATED CARE BOARD | C469: South East | D469: GP Practice | E469: MONTPELIER SURGERY | F469: G81044 | G469: Active | H469: Various - See Individual Practices | I469: Direct | J469: 469 | K469: 6386
B470: NHS SURREY AND SUSSEX INTEGRATED CARE BOARD | C470: South East | D470: GP Practice | E470: SEVEN DIALS MEDICAL CENTRE | F470: G81047 | G470: Active | H470: Various - See Individual Practices | I470: Direct | J470: 469 | K470: 6393
B471: NHS SURREY AND SUSSEX INTEGRATED CARE BOARD | C471: South East | D471: GP Practice | E471: HC UNIVERSITY OF SUSSEX HEALTH CENTRE | F471: G81071 | G471: Active | H471: Various - See Individual Practices | I471: Direct | J471: 469 | K471: 15465
B472: NHS ESSEX INTEGRATED CARE BOARD | C472: East of England | D472: GP Practice | E472: DR KHAN & PARTNERS | F472: F81001 | G472: Active | H472: 26/02 | I472: Direct | J472: 137 | K472: 13531
B473: NHS ESSEX INTEGRATED CARE BOARD | C473: East of England | D473: GP Practice | E473: GRACE HOUSE SURGERY | F473: F81032 | G473: Active | H473: 26/02 | I473: Direct | J473: 137 | K473: 3118
... B478: NHS ESSEX INTEGRATED CARE BOARD | C478: East of England | D478: GP Practice | E478: BENFLEET SURGERY | F478: F81713 | G478: Active | H478: 26/02 | I478: Direct | J478: 137 | K478: 2472
B479: NHS NORFOLK AND SUFFOLK INTEGRATED CARE BOARD | C479: East of England | D479: GP Practice | E479: EAST LYNNE MEDICAL CENTRE | F479: F81037 | G479: Active | I479: Direct | J479: 157 | K479: 8816
B480: NHS NORFOLK AND SUFFOLK INTEGRATED CARE BOARD | C480: East of England | D480: GP Practice | E480: NORTH CLACTON MEDICAL PRACTICE | F480: F81741 | G480: Active | I480: Direct | J480: 157 | K480: 10992
B481: NHS NORFOLK AND SUFFOLK INTEGRATED CARE BOARD | C481: East of England | D481: GP Practice | E481: OLD ROAD SURGERY | F481: F81212 | G481: Active | I481: Direct | J481: 157 | K481: 9476
B482: NHS NORFOLK AND SUFFOLK INTEGRATED CARE BOARD | C482: East of England | D482: GP Practice | E482: THORPE SURGERY | F482: F81213 | G482: Active | I482: Direct | J482: 157 | K482: 7521
B483: NHS ESSEX INTEGRATED CARE BOARD | C483: East of England | D483: GP Practice | E483: THE LIMES SURGERY | F483: E82006 | G483: Active | H483: 03/07 | I483: Direct | J483: 304 | K483: 7650
B484: NHS ESSEX INTEGRATED CARE BOARD | C484: East of England | D484: GP Practice | E484: AMWELL SURGERY | F484: E82061 | G484: Active | H484: 03/07 | I484: Direct | J484: 304 | K484: 14244
B485: NHS ESSEX INTEGRATED CARE BOARD | C485: East of England | D485: GP Practice | E485: HAILEY VIEW SURGERY | F485: E82088 | G485: Active | H485: 03/07 | I485: Direct | J485: 304 | K485: 10240
B486: NHS ESSEX INTEGRATED CARE BOARD | C486: East of England | D486: GP Practice | E486: PARK LANE SURGERY | F486: E82090 | G486: Active | H486: 03/07 | I486: Direct | J486: 304 | K486: 9819
B487: NHS GLOUCESTERSHIRE INTEGRATED CARE BOARD | C487: South West | D487: GP Practice | E487: DRYBROOK SURGERY | F487: L84024 | G487: In Build | H487: TBC | J487: 241 | K487: 4260
B488: NHS GLOUCESTERSHIRE INTEGRATED CARE BOARD | C488: South West | D488: GP Practice | E488: FOREST HEALTH CARE | F488: L84028 | G488: In Build | H488: TBC | J488: 241 | K488: 11824
B489: NHS GLOUCESTERSHIRE INTEGRATED CARE BOARD | C489: South West | D489: GP Practice | E489: MITCHELDEAN SURGERY | F489: L84045 | G489: In Build | H489: TBC | J489: 241 | K489: 7230
B490: NHS GLOUCESTERSHIRE INTEGRATED CARE BOARD | C490: South West | D490: GP Practice | E490: DOCKHAM SURGERY | F490: L84046 | G490: In Build | H490: TBC | J490: 241 | K490: 5616
B491: NHS DORSET INTEGRATED CARE BOARD | C491: South West | D491: GP Practice | E491: GROVE SURGERY | F491: J81646 | G491: Active | H491: TBC | K491: 6786
B492: NHS DORSET INTEGRATED CARE BOARD | C492: South West | D492: GP Practice | E492: CRESCENT PROVIDENCE SURGERY | F492: J81634 | G492: Active | H492: TBC | K492: 13618
B493: NHS DORSET INTEGRATED CARE BOARD | C493: South West | D493: GP Practice | E493: THE MARINE & OAKRIDGE PARTNERSHIP | F493: J81049 | G493: Active | H493: TBC | K493: 10061
B494: NHS DORSET INTEGRATED CARE BOARD | C494: South West | D494: GP Practice | E494: WOODLEA HOUSE SURGERY | F494: J81633 | G494: Active | H494: TBC | K494: 6829

Sheet EoE
A1: Region | B1: East of England
A3: ICB | B3: Total Accounts
A4: NHS NORFOLK AND SUFFOLK INTEGRATED CARE BOARD | B4: 87
A5: NHS CENTRAL EAST INTEGRATED CARE BOARD | B5: 45
A6: NHS ESSEX INTEGRATED CARE BOARD | B6: 30
A7: Grand Total | B7: 162
A10: Please note the highlighted fields indicate PCNs where there are multiple practices (see PCN tab') however it is currently unknown which practices within that PCN are using which products so ICBs will need to confirm this with each PCN
A12: ICB | B12: Region | C12: Organisation Type | D12: Practices - Account Name | E12: ODS Code | F12: Status | G12: Licence Start | H12: SP Contract Type | I12: Source Row
A13: NHS CENTRAL EAST INTEGRATED CARE BOARD | B13: East of England | C13: GP Practice | D13: Bassett Road Surgery | E13: E81003 | F13: Active | G13: 19/11 | H13: Direct | I13: 495
A14: NHS CENTRAL EAST INTEGRATED CARE BOARD | B14: East of England | C14: GP Practice | D14: Bedford Street Surgery | E14: K82039 | F14: Active | G14: 30/06 | H14: Direct | I14: 600
A15: NHS CENTRAL EAST INTEGRATED CARE BOARD | B15: East of England | C15: GP Practice | D15: Castle Street Surgery (Luton) | E15: E81013 | F15: Active | G15: 23/08 | H15: Direct | I15: 384
A16: NHS CENTRAL EAST INTEGRATED CARE BOARD | B16: East of England | C16: GP Practice | D16: Central Milton Keynes Medical Centre | E16: K82065 | F16: Active | G16: 30/04 | H16: Direct | I16: 513
A17: NHS CENTRAL EAST INTEGRATED CARE BOARD | B17: East of England | C17: GP Practice | D17: Fishermead Medical Centre | E17: K82064 | F17: Active | G17: 30/05 | H17: Direct | I17: 560
A18: NHS CENTRAL EAST INTEGRATED CARE BOARD | B18: East of England | C18: GP Practice | D18: Flitwick Surgery | E18: E81015 | F18: Active | G18: 16/08 | H18: Direct | I18: 347
A19: NHS CENTRAL EAST INTEGRATED CARE BOARD | B19: East of England | C19: GP Practice | D19: Greensands Medical Practice | E19: E81012 | F19: Active | G19: 28/06 | H19: Direct | I19: 584
A20: NHS CENTRAL EAST INTEGRATED CARE BOARD | B20: East of England | C20: GP Practice | D20: Larksfield and Arlesey Surgery Medical Partnership | E20: E81022 | F20: Active | G20: 09/05 | H20: Direct | I20: 536
A21: NHS CENTRAL EAST INTEGRATED CARE BOARD | B21: East of England | C21: GP Practice | D21: Leagrave Surgery | E21: E81010 | F21: Active | G21: 07/06 | H21: Direct | I21: 570
A22: NHS CENTRAL EAST INTEGRATED CARE BOARD | B22: East of England | C22: GP Practice | D22: Malzeard Road Medical Practice | E22: E81631 | F22: Active | G22: 30/08 | H22: Direct | I22: 391
A23: NHS CENTRAL EAST INTEGRATED CARE BOARD | B23: East of England | C23: GP Practice | D23: Marston Forest Healthcare | E23: E81043 | F23: Active | G23: 05/10 | H23: Direct | I23: 478
A24: NHS CENTRAL EAST INTEGRATED CARE BOARD | B24: East of England | C24: GP Practice | D24: Medici Medical Practice | E24: E81073 | F24: Active | G24: 08/02 & 08/08 | H24: Direct | I24: 554
... A93: NHS NORFOLK AND SUFFOLK INTEGRATED CARE BOARD | B93: East of England | C93: GP Practice | D93: Cardinal Medical Practice | E93: D83050 | F93: Active | G93: 21/04 | H93: Direct | I93: 166
A94: NHS NORFOLK AND SUFFOLK INTEGRATED CARE BOARD | B94: East of England | C94: PCN | D94: Clacton PCN | E94: U42142 | F94: Active | H94: Direct | I94: 157
A95: NHS NORFOLK AND SUFFOLK INTEGRATED CARE BOARD | B95: East of England | C95: GP Practice | D95: Colchester Medical Practice | E95: F81042 | F95: Active | G95: 01/02 | H95: Direct | I95: 186
A96: NHS NORFOLK AND SUFFOLK INTEGRATED CARE BOARD | B96: East of England | C96: GP Practice | D96: Colne Medical Centre | E96: F81116 | F96: Active | G96: 01/02 | H96: Direct | I96: 187
A97: NHS NORFOLK AND SUFFOLK INTEGRATED CARE BOARD | B97: East of England | C97: GP Practice | D97: Creffield Medical Group | E97: F81115 | F97: Active | G97: 01/02 | H97: Direct | I97: 188
A98: NHS NORFOLK AND SUFFOLK INTEGRATED CARE BOARD | B98: East of England | C98: GP Practice | D98: East Hill Surgery | E98: F81091 | F98: Active | G98: 01/02 | H98: Direct | I98: 189
A99: NHS NORFOLK AND SUFFOLK INTEGRATED CARE BOARD | B99: East of England | C99: GP Practice | D99: East Lynne Medical Centre | E99: F81037 | F99: Active | G99: 01/02 | H99: Direct | I99: 190
A100: NHS NORFOLK AND SUFFOLK INTEGRATED CARE BOARD | B100: East of England | C100: GP Practice | D100: Fronks Road Family Surgery | E100: F81221 | F100: Active | G100: 01/02 | H100: Direct | I100: 191
A101: NHS NORFOLK AND SUFFOLK INTEGRATED CARE BOARD | B101: East of England | C101: GP Practice | D101: GP Primary Choice Limited | E101: AAQ01, Z0A4J, K8D2X | F101: Active | G101: 01/02 | H101: Direct | I101: 192
A102: NHS NORFOLK AND SUFFOLK INTEGRATED CARE BOARD | B102: East of England | C102: GP Practice | D102: Harewood Surgery | E102: F81606 | F102: Active | G102: 01/02 | H102: Direct | I102: 193
A103: NHS NORFOLK AND SUFFOLK INTEGRATED CARE BOARD | B103: East of England | C103: GP Practice | D103: Highwoods Surgery | E103: F81679 | F103: Active | G103: 01/02 | H103: Direct | I103: 194
A104: NHS NORFOLK AND SUFFOLK INTEGRATED CARE BOARD | B104: East of England | C104: GP Practice | D104: Lawford Surgery | E104: F81633 | F104: Active | G104: 01/02 | H104: Direct | I104: 195
A105: NHS NORFOLK AND SUFFOLK INTEGRATED CARE BOARD | B105: East of England | C105: GP Practice | D105: Mersea Island Medical Practice | E105: F81012 | F105: Active | G105: 01/02 | H105: Direct | I105: 196
A106: NHS NORFOLK AND SUFFOLK INTEGRATED CARE BOARD | B106: East of England | C106: GP Practice | D106: Mill Road Surgery | E106: F81636 | F106: Active | G106: 01/02 | H106: Direct | I106: 197
... A117: NHS NORFOLK AND SUFFOLK INTEGRATED CARE BOARD | B117: East of England | C117: GP Practice | D117: Wivenhoe Surgery | E117: F81028 | F117: Active | G117: 01/02 | H117: Direct | I117: 208
A118: NHS CENTRAL EAST INTEGRATED CARE BOARD | B118: East of England | C118: GP Practice | D118: Everest House Surgery | E118: E82051 | F118: Active | G118: 16/07 | I118: 155
A119: NHS CENTRAL EAST INTEGRATED CARE BOARD | B119: East of England | C119: GP Practice | D119: Cobbs Garden Surgery | E119: K82057 | F119: Active | G119: 04/11 | H119: Direct | I119: 259
A120: NHS CENTRAL EAST INTEGRATED CARE BOARD | B120: East of England | C120: GP Practice | D120: Ivel Medical Centre | E120: E81036 | F120: Active | G120: 21/06 | H120: Direct | I120: 281
A121: NHS CENTRAL EAST INTEGRATED CARE BOARD | B121: East of England | C121: GP Practice | D121: Larkside Practice | E121: E81026 | F121: Active | G121: 01/09 | H121: Direct | I121: 216
A122: NHS CENTRAL EAST INTEGRATED CARE BOARD | B122: East of England | C122: GP Practice | D122: London Road Surgery | E122: E81019 | F122: Active | G122: 20/11 | H122: Direct | I122: 262
A123: NHS CENTRAL EAST INTEGRATED CARE BOARD | B123: East of England | C123: Urgent Care Provider | D123: Milton Keynes Urgent Care Services | E123: MKUCS01 | F123: Active | G123: 09/04 | H123: Direct | I123: 261
A124: NHS CENTRAL EAST INTEGRATED CARE BOARD | B124: East of England | C124: GP Practice | D124: Milton Keynes Village Practice | E124: K82631 | F124: Active | G124: 18/01 | H124: Direct | I124: 287
A125: NHS CENTRAL EAST INTEGRATED CARE BOARD | B125: East of England | C125: GP Practice | D125: Oakley Surgery | E125: E81025 | F125: Active | G125: 28/06 | H125: Direct | I125: 283
A126: NHS CENTRAL EAST INTEGRATED CARE BOARD | B126: East of England | C126: GP Practice | D126: Wolverton Health Centre | E126: K82003 | F126: Active | G126: 28/06 | H126: Direct | I126: 284
A127: NHS ESSEX INTEGRATED CARE BOARD | B127: East of England | C127: Other | D127: 12 Point Care | E127: AK912C | F127: Active | G127: 01/07 | H127: Direct | I127: 289
A128: NHS ESSEX INTEGRATED CARE BOARD | B128: East of England | C128: PCN | D128: HODDESDON & BROXBOURNE PCN | E128: U87508 | F128: Active | G128: 03/07 | H128: Direct | I128: 304
A129: NHS ESSEX INTEGRATED CARE BOARD | B129: East of England | C129: GP Practice | D129: Peartree Group Practice | E129: E82040 | F129: Active | G129: 10/06 | H129: Direct | I129: 280
A130: NHS NORFOLK AND SUFFOLK INTEGRATED CARE BOARD | B130: East of England | C130: GP Practice | D130: Hellesdon Medical Practice | E130: D82018 | F130: Active | G130: 10/10 | H130: NHS | I130: 277
... A133: NHS NORFOLK AND SUFFOLK INTEGRATED CARE BOARD | B133: East of England | C133: GP Practice | D133: Theatre Royal Surgery | E133: D82050 | F133: Active | G133: 27/11 | H133: NHS | I133: 288
A134: NHS CENTRAL EAST INTEGRATED CARE BOARD | B134: East of England | C134: GP Practice | D134: Lister House Surgery | E134: C81072 | F134: Active | G134: 13/07 | I134: 276
A135: NHS NORFOLK AND SUFFOLK INTEGRATED CARE BOARD | B135: East of England | C135: NHS Trust | D135: James Paget University Hospitals NHS Foundation Trust | E135: 0 | F135: Active | G135: 01/10 | I135: 126
A136: NHS CENTRAL EAST INTEGRATED CARE BOARD | B136: East of England | C136: ICB | D136: NHS Central East ICB | E136: 0 | F136: Active | G136: 01/08 | I136: 27
A137: NHS CENTRAL EAST INTEGRATED CARE BOARD | B137: East of England | C137: ICB | D137: NHS Central East ICB | E137: 0 | F137: Active | G137: 01/08 | I137: 31
A138: NHS CENTRAL EAST INTEGRATED CARE BOARD | B138: East of England | C138: ICB | D138: NHS Central East ICB | E138: 0 | F138: Active | G138: 01/08 | I138: 35
A139: NHS CENTRAL EAST INTEGRATED CARE BOARD | B139: East of England | C139: ICB | D139: NHS Central East ICB | E139: 0 | F139: Active | G139: 01/08 | I139: 39
A140: NHS CENTRAL EAST INTEGRATED CARE BOARD | B140: East of England | C140: ICB | D140: NHS Central East ICB | E140: 0 | F140: Active | G140: 01/08 | I140: 42
A141: NHS CENTRAL EAST INTEGRATED CARE BOARD | B141: East of England | C141: ICB | D141: NHS Central East ICB | E141: 0 | F141: Active | G141: 01/08 | I141: 45
A142: NHS CENTRAL EAST INTEGRATED CARE BOARD | B142: East of England | C142: ICB | D142: NHS Central East ICB | E142: 0 | F142: Active | G142: 01/08 | I142: 48
A143: NHS CENTRAL EAST INTEGRATED CARE BOARD | B143: East of England | C143: ICB | D143: NHS Central East ICB | E143: 0 | F143: Active | G143: 01/01 | I143: 107
A144: NHS ESSEX INTEGRATED CARE BOARD | B144: East of England | C144: ICB | D144: NHS Essex ICB | E144: 0 | F144: Active | G144: 01/04 | I144: 94
A145: NHS ESSEX INTEGRATED CARE BOARD | B145: East of England | C145: ICB | D145: NHS Essex ICB | E145: 0 | F145: Active | G145: 01/10 | I145: 121
A146: NHS ESSEX INTEGRATED CARE BOARD | B146: East of England | C146: ICB | D146: NHS Essex ICB | E146: 0 | F146: Active | G146: 01/10 | I146: 123
A147: NHS NORFOLK AND SUFFOLK INTEGRATED CARE BOARD | B147: East of England | C147: ICB | D147: NHS Norfolk and Suffolk ICB | E147: 0 | F147: In Preview | G147: 01/04 | H147: NHS | I147: 33
A148: NHS NORFOLK AND SUFFOLK INTEGRATED CARE BOARD | B148: East of England | C148: ICB | D148: NHS Norfolk and Suffolk ICB | E148: 0 | F148: Active | G148: 01/04 | H148: NHS | I148: 54
A149: NHS NORFOLK AND SUFFOLK INTEGRATED CARE BOARD | B149: East of England | C149: Other | D149: Norfolk County Council | E149: 0 | F149: Active | G149: 01/03 | I149: 41
A150: NHS NORFOLK AND SUFFOLK INTEGRATED CARE BOARD | B150: East of England | C150: Other | D150: Norfolk County Council | E150: 0 | F150: Active | G150: 01/03 | I150: 44
A151: NHS NORFOLK AND SUFFOLK INTEGRATED CARE BOARD | B151: East of England | C151: Other | D151: Norfolk County Council | E151: 0 | F151: Active | G151: 01/03 | I151: 46
A152: NHS NORFOLK AND SUFFOLK INTEGRATED CARE BOARD | B152: East of England | C152: Other | D152: Norfolk County Council | E152: 0 | F152: Active | G152: 01/03 | I152: 51
A153: NHS NORFOLK AND SUFFOLK INTEGRATED CARE BOARD | B153: East of England | C153: Other | D153: Norfolk County Council | E153: 0 | F153: Active | G153: 01/03 | I153: 53
A154: NHS NORFOLK AND SUFFOLK INTEGRATED CARE BOARD | B154: East of England | C154: Other | D154: Norfolk County Council | E154: 0 | F154: Active | G154: 01/03 | I154: 56
A155: NHS NORFOLK AND SUFFOLK INTEGRATED CARE BOARD | B155: East of England | C155: Other | D155: Norfolk County Council | E155: 0 | F155: Active | G155: 01/03 | I155: 58
A156: NHS NORFOLK AND SUFFOLK INTEGRATED CARE BOARD | B156: East of England | C156: Other | D156: Norfolk County Council | E156: 0 | F156: In Preview | G156: 01/03 | I156: 60
A157: NHS NORFOLK AND SUFFOLK INTEGRATED CARE BOARD | B157: East of England | C157: Other | D157: Norfolk County Council | E157: 0 | F157: Active | G157: 01/03 | I157: 64
A158: NHS NORFOLK AND SUFFOLK INTEGRATED CARE BOARD | B158: East of England | C158: Other | D158: Norfolk County Council | E158: 0 | F158: Active | G158: 01/03 | I158: 67
A159: NHS NORFOLK AND SUFFOLK INTEGRATED CARE BOARD | B159: East of England | C159: Other | D159: Norfolk County Council | E159: 0 | F159: Active | G159: 01/03 | I159: 79
A160: NHS ESSEX INTEGRATED CARE BOARD | B160: East of England | C160: GP Practice | D160: DR KHAN & PARTNERS | E160: F81001 | F160: Active | G160: 26/02 | H160: Direct | I160: 137
A161: NHS ESSEX INTEGRATED CARE BOARD | B161: East of England | C161: GP Practice | D161: GRACE HOUSE SURGERY | E161: F81032 | F161: Active | G161: 26/02 | H161: Direct | I161: 137
A162: NHS ESSEX INTEGRATED CARE BOARD | B162: East of England | C162: GP Practice | D162: THE HOLLIES | E162: F81075 | F162: Active | G162: 26/02 | H162: Direct | I162: 137
A163: NHS ESSEX INTEGRATED CARE BOARD | B163: East of England | C163: GP Practice | D163: ESSEX WAY SURGERY | E163: F81101 | F163: Active | G163: 26/02 | H163: Direct | I163: 137
A164: NHS ESSEX INTEGRATED CARE BOARD | B164: East of England | C164: GP Practice | D164: ST GEORGES MEDICAL PRACTICE | E164: F81142 | F164: Active | G164: 26/02 | H164: Direct | I164: 137
A165: NHS ESSEX INTEGRATED CARE BOARD | B165: East of England | C165: GP Practice | D165: HIGH ROAD FAMILY DOCTORS | E165: F81618 | F165: Active | G165: 26/02 | H165: Direct | I165: 137
A166: NHS ESSEX INTEGRATED CARE BOARD | B166: East of England | C166: GP Practice | D166: BENFLEET SURGERY | E166: F81713 | F166: Active | G166: 26/02 | H166: Direct | I166: 137
A167: NHS NORFOLK AND SUFFOLK INTEGRATED CARE BOARD | B167: East of England | C167: GP Practice | D167: EAST LYNNE MEDICAL CENTRE | E167: F81037 | F167: Active | H167: Direct | I167: 157
A168: NHS NORFOLK AND SUFFOLK INTEGRATED CARE BOARD | B168: East of England | C168: GP Practice | D168: NORTH CLACTON MEDICAL PRACTICE | E168: F81741 | F168: Active | H168: Direct | I168: 157
A169: NHS NORFOLK AND SUFFOLK INTEGRATED CARE BOARD | B169: East of England | C169: GP Practice | D169: OLD ROAD SURGERY | E169: F81212 | F169: Active | H169: Direct | I169: 157
A170: NHS NORFOLK AND SUFFOLK INTEGRATED CARE BOARD | B170: East of England | C170: GP Practice | D170: THORPE SURGERY | E170: F81213 | F170: Active | H170: Direct | I170: 157
A171: NHS ESSEX INTEGRATED CARE BOARD | B171: East of England | C171: GP Practice | D171: THE LIMES SURGERY | E171: E82006 | F171: Active | G171: 03/07 | H171: Direct | I171: 304
A172: NHS ESSEX INTEGRATED CARE BOARD | B172: East of England | C172: GP Practice | D172: AMWELL SURGERY | E172: E82061 | F172: Active | G172: 03/07 | H172: Direct | I172: 304
A173: NHS ESSEX INTEGRATED CARE BOARD | B173: East of England | C173: GP Practice | D173: HAILEY VIEW SURGERY | E173: E82088 | F173: Active | G173: 03/07 | H173: Direct | I173: 304
A174: NHS ESSEX INTEGRATED CARE BOARD | B174: East of England | C174: GP Practice | D174: PARK LANE SURGERY | E174: E82090 | F174: Active | G174: 03/07 | H174: Direct | I174: 304

Sheet London
A1: Region | B1: London
A3: ICB | B3: Total Accounts
A4: London | B4: 2
A5: NHS NORTH EAST LONDON INTEGRATED CARE BOARD | B5: 5
A6: NHS SOUTH EAST LONDON INTEGRATED CARE BOARD | B6: 7
A7: NHS WEST AND NORTH LONDON INTEGRATED CARE BOARD | B7: 43
A8: NHS SOUTH WEST LONDON INTEGRATED CARE BOARD | B8: 22
A9: Grand Total | B9: 79
A12: Please note the highlighted fields indicate PCNs where there are multiple practices (see PCN tab') however it is currently unknown which practices within that PCN are using which products so ICBs will need to confirm this with each PCN
A14: ICB | B14: Region | C14: Organisation Type | D14: Practices - Account Name | E14: ODS Code | F14: Status | G14: Licence Start | H14: SP Contract Type | I14: Source Row
A15: NHS WEST AND NORTH LONDON INTEGRATED CARE BOARD | B15: London | C15: GP Practice | D15: Grovelands Medical Centre (London) | E15: F85072 | F15: Active | G15: 29/05 | H15: Direct | I15: 557
A16: NHS WEST AND NORTH LONDON INTEGRATED CARE BOARD | B16: London | C16: GP Practice | D16: Rainbow Practice | E16: F85039 | F16: Active | G16: 29/05 | H16: Direct | I16: 559
A17: NHS WEST AND NORTH LONDON INTEGRATED CARE BOARD | B17: London | C17: GP Practice | D17: The Goodinge Group Practice | E17: F83008 | F17: Active | G17: Monthly | H17: DFOCVC | I17: 441
A18: NHS WEST AND NORTH LONDON INTEGRATED CARE BOARD | B18: London | C18: GP Practice | D18: The Southgate Surgery | E18: F85032 | F18: Active | G18: 15/08 | H18: Direct | I18: 344
A19: NHS WEST AND NORTH LONDON INTEGRATED CARE BOARD | B19: London | C19: GP Practice | D19: White Lodge Medical Practice | E19: F85025 | F19: Active | G19: 22/06 | H19: Direct | I19: 581
A20: NHS NORTH EAST LONDON INTEGRATED CARE BOARD | B20: London | C20: GP Practice | D20: Claremont Medical Centre | E20: H84619 | F20: Active | G20: 06/10 | H20: Direct | I20: 479
A21: NHS NORTH EAST LONDON INTEGRATED CARE BOARD | B21: London | C21: GP Practice | D21: Newham Transitional Practice | E21: F84740 | F21: Active | G21: 01/10 | H21: Direct | I21: 431
A22: NHS NORTH EAST LONDON INTEGRATED CARE BOARD | B22: London | C22: GP Practice | D22: The Greenhouse Practice | E22: F84632 | F22: Active | G22: 01/10 | H22: Direct | I22: 434
A23: NHS SOUTH WEST LONDON INTEGRATED CARE BOARD | B23: London | C23: GP Practice | D23: Alexandra Surgery | E23: H85656 | F23: Active | G23: 22/08 | H23: Direct | I23: 357
A24: NHS SOUTH WEST LONDON INTEGRATED CARE BOARD | B24: London | C24: GP Practice | D24: Central Medical Centre | E24: H85070 | F24: Active | G24: 22/08 | H24: Direct | I24: 359
A25: NHS SOUTH WEST LONDON INTEGRATED CARE BOARD | B25: London | C25: GP Practice | D25: Colliers Wood Surgery | E25: H85649 | F25: Active | G25: 22/08 | H25: Direct | I25: 360
A26: NHS SOUTH WEST LONDON INTEGRATED CARE BOARD | B26: London | C26: GP Practice | D26: Figges Marsh Surgery | E26: H85090 | F26: Active | G26: 22/08 | H26: Direct | I26: 362
... A82: NHS SOUTH WEST LONDON INTEGRATED CARE BOARD | B82: London | C82: GP Practice | D82: Hampton Wick Surgery | E82: H84032 | F82: Active | G82: 03/06 | H82: Direct | I82: 278
A83: NHS SOUTH WEST LONDON INTEGRATED CARE BOARD | B83: London | C83: Other | D83: Merton Health Limited | F83: Active | G83: 22/08 | H83: Direct | I83: 221
A84: NHS SOUTH WEST LONDON INTEGRATED CARE BOARD | B84: London | C84: GP Practice | D84: Mitcham Family Practice | E84: H85078 | F84: Active | G84: 22/08 | H84: Direct | I84: 220
A85: NHS NORTH EAST LONDON INTEGRATED CARE BOARD | B85: London | C85: NHS Trust | D85: Barts Health NHS Trust | E85: 0 | F85: Active | G85: 01/12 | I85: 30
A86: NHS NORTH EAST LONDON INTEGRATED CARE BOARD | B86: London | C86: NHS Trust | D86: Barts Health NHS Trust | E86: 0 | F86: Active | G86: 01/07 | I86: 109
A87: NHS WEST AND NORTH LONDON INTEGRATED CARE BOARD | B87: London | C87: NHS Trust | D87: Central and North West London NHS Foundation Trust | E87: 0 | F87: Active | G87: 01/03 | I87: 49
A88: NHS WEST AND NORTH LONDON INTEGRATED CARE BOARD | B88: London | C88: NHS Trust | D88: Central and North West London NHS Foundation Trust | E88: 0 | F88: Active | G88: 01/04 | I88: 74
A89: NHS WEST AND NORTH LONDON INTEGRATED CARE BOARD | B89: London | C89: NHS Trust | D89: Central London Community Healthcare NHS Trust (CLCH) | E89: 0 | F89: Active | G89: 01/07 | I89: 101
A90: London | B90: London | C90: Other | D90: NHS England - London | E90: 0 | F90: In Preview | G90: 01/08 | I90: 102
A91: London | B91: London | C91: Other | D91: NHS England - London | E91: 0 | F91: In Preview | G91: 01/08 | I91: 104
A92: NHS SOUTH EAST LONDON INTEGRATED CARE BOARD | B92: London | C92: NHS Trust | D92: Oxleas NHS Foundation Trust | E92: 0 | F92: Active | G92: 01/12 | I92: 97
A93: NHS WEST AND NORTH LONDON INTEGRATED CARE BOARD | B93: London | C93: GP Practice | D93: Adelaide Medical Centre | E93: F83020 | F93: Active | G93: 01/04 | H93: DFOCVC | I93: 132

Sheet Midlands
A1: Region | B1: Midlands
A3: ICB | B3: Total Accounts
A4: Midlands | B4: 11
A5: NHS BLACK COUNTRY INTEGRATED CARE BOARD | B5: 31
A6: NHS DERBY AND DERBYSHIRE INTEGRATED CARE BOARD | B6: 39
A7: NHS BIRMINGHAM AND SOLIHULL INTEGRATED CARE BOARD | B7: 35
A8: NHS NORTHAMPTONSHIRE INTEGRATED CARE BOARD | B8: 5
A9: NHS STAFFORDSHIRE AND STOKE-ON-TRENT INTEGRATED CARE BOARD | B9: 6
A10: NHS COVENTRY AND WARWICKSHIRE INTEGRATED CARE BOARD | B10: 2
A11: NHS NOTTINGHAM AND NOTTINGHAMSHIRE INTEGRATED CARE BOARD | B11: 2
A12: NHS HEREFORDSHIRE AND WORCESTERSHIRE INTEGRATED CARE BOARD | B12: 2
A13: NHS SHROPSHIRE, TELFORD AND WREKIN INTEGRATED CARE BOARD | B13: 1
A14: Grand Total | B14: 134
A17: Please note the highlighted fields indicate PCNs where there are multiple practices (see PCN tab') however it is currently unknown which practices within that PCN are using which products so ICBs will need to confirm this with each PCN
A19: ICB | B19: Region | C19: Organisation Type | D19: Practices - Account Name | E19: ODS Code | F19: Status | G19: Licence Start | H19: SP Contract Type | I19: Source Row
A20: NHS BIRMINGHAM AND SOLIHULL INTEGRATED CARE BOARD | B20: Midlands | C20: GP Practice | D20: Aylesbury Surgery | E20: M85779 | F20: Active | G20: 30/11 | H20: Direct | I20: 515
A21: NHS BIRMINGHAM AND SOLIHULL INTEGRATED CARE BOARD | B21: Midlands | C21: PCN | D21: Birmingham East Central PCN | E21: U79433 | F21: Active | H21: Direct | I21: 494
A22: NHS BIRMINGHAM AND SOLIHULL INTEGRATED CARE BOARD | B22: Midlands | C22: GP Practice | D22: Bucklands End Lane Surgery | E22: M85113 | F22: Active | G22: 24/10 | H22: Direct | I22: 482
A23: NHS BIRMINGHAM AND SOLIHULL INTEGRATED CARE BOARD | B23: Midlands | C23: GP Practice | D23: Church Lane Khan | E23: M85013 | F23: Active | G23: 24/10 | H23: Direct | I23: 484
A24: NHS BIRMINGHAM AND SOLIHULL INTEGRATED CARE BOARD | B24: Midlands | C24: GP Practice | D24: Church Road Surgery | E24: M85048 | F24: Active | G24: 01/05 | H24: Direct | I24: 516
A25: NHS BIRMINGHAM AND SOLIHULL INTEGRATED CARE BOARD | B25: Midlands | C25: GP Practice | D25: Cotmore Surgery | E25: M85792 | F25: Active | G25: 30/11 | H25: Direct | I25: 496
A26: NHS BIRMINGHAM AND SOLIHULL INTEGRATED CARE BOARD | B26: Midlands | C26: GP Practice | D26: Dr Khuroo's Practice | E26: M85716 | F26: Active | G26: 21/09 | H26: Direct | I26: 411
A27: NHS BIRMINGHAM AND SOLIHULL INTEGRATED CARE BOARD | B27: Midlands | C27: GP Partnership | D27: Druid Group | E27: M85706 | F27: Active | G27: 24/10 | H27: Direct | I27: 485
A28: NHS BIRMINGHAM AND SOLIHULL INTEGRATED CARE BOARD | B28: Midlands | C28: GP Practice | D28: Eden Court Medical Practice | E28: M85079 | F28: Active | G28: 01/05 | H28: Direct | I28: 518
A29: NHS BIRMINGHAM AND SOLIHULL INTEGRATED CARE BOARD | B29: Midlands | C29: PCN | D29: Gosk PCN | E29: U82305 | F29: Active | G29: 30/11 | H29: Direct | I29: 517
A30: NHS BIRMINGHAM AND SOLIHULL INTEGRATED CARE BOARD | B30: Midlands | C30: GP Practice | D30: Harlequin Surgery | E30: M85031 | F30: Active | G30: 01/05 | H30: Direct | I30: 520
A31: NHS BIRMINGHAM AND SOLIHULL INTEGRATED CARE BOARD | B31: Midlands | C31: GP Practice | D31: Hodge Hill Family Practice | E31: Y02567 | F31: Active | G31: 01/05 | H31: Direct | I31: 522
A32: NHS BIRMINGHAM AND SOLIHULL INTEGRATED CARE BOARD | B32: Midlands | C32: GP Practice | D32: Kingsbury Road Surgery | E32: M85014 | F32: Active | G32: 30/11 | H32: Direct | I32: 519
A33: NHS BIRMINGHAM AND SOLIHULL INTEGRATED CARE BOARD | B33: Midlands | C33: GP Practice | D33: Kingstanding Circle Surgery | E33: M85155 | F33: Active | G33: 30/11 | H33: Direct | I33: 521
... A116: NHS STAFFORDSHIRE AND STOKE-ON-TRENT INTEGRATED CARE BOARD | B116: Midlands | C116: GP Practice | D116: Northgate Surgery | E116: M83680 | F116: Active | G116: 29/07 | H116: Direct | I116: 213
A117: NHS COVENTRY AND WARWICKSHIRE INTEGRATED CARE BOARD | B117: Midlands | C117: GP Practice | D117: Coventry & Rugby GP Alliance Limited | E117: APR01, APR02, APR03 | F117: Active | G117: 16/07 | I117: 269
A118: NHS COVENTRY AND WARWICKSHIRE INTEGRATED CARE BOARD | B118: Midlands | C118: GP Practice | D118: Coventry & Rugby GP Alliance Limited | E118: APR01, APR02, APR03 | F118: Active | G118: 09/07 | I118: 270
A119: NHS BIRMINGHAM AND SOLIHULL INTEGRATED CARE BOARD | B119: Midlands | C119: NHS Trust | D119: Birmingham Community Healthcare NHS Foundation Trust | E119: 0 | F119: Active | G119: 01/12 | I119: 78
A120: NHS DERBY AND DERBYSHIRE INTEGRATED CARE BOARD | B120: Midlands | C120: NHS Trust | D120: Chesterfield Royal Hospital NHS Foundation Trust | E120: 0 | F120: Active | G120: 01/07 | I120: 112
A121: NHS BLACK COUNTRY INTEGRATED CARE BOARD | B121: Midlands | C121: ICB | D121: NHS Black Country ICB | E121: 0 | F121: Active | G121: 10/04 | H121: NHS | I121: 90
A122: Midlands | B122: Midlands | C122: Other | D122: NHS England - Midlands | E122: 0 | F122: Active | G122: 01/08 | I122: 63
A123: Midlands | B123: Midlands | C123: Other | D123: NHS England - Midlands | E123: 0 | F123: Active | G123: 01/08 | I123: 66
A124: Midlands | B124: Midlands | C124: Other | D124: NHS England - Midlands | E124: 0 | F124: Active | G124: 01/08 | I124: 69
A125: Midlands | B125: Midlands | C125: Other | D125: NHS England - Midlands | E125: 0 | F125: Active | G125: 01/08 | I125: 70
A126: Midlands | B126: Midlands | C126: Other | D126: NHS England - Midlands | E126: 0 | F126: Active | G126: 01/08 | I126: 71
A127: Midlands | B127: Midlands | C127: Other | D127: NHS England - Midlands | E127: 0 | F127: Active | G127: 01/08 | I127: 73
A128: Midlands | B128: Midlands | C128: Other | D128: NHS England - Midlands | E128: 0 | F128: Active | G128: 01/08 | I128: 76
A129: Midlands | B129: Midlands | C129: Other | D129: NHS England - Midlands | E129: 0 | F129: Active | G129: 01/08 | I129: 80
A130: Midlands | B130: Midlands | C130: Other | D130: NHS England - Midlands | E130: 0 | F130: Active | G130: 01/08 | I130: 84
A131: Midlands | B131: Midlands | C131: Other | D131: NHS England - Midlands | E131: 0 | F131: Active | G131: 01/08 | I131: 85
A132: Midlands | B132: Midlands | C132: Other | D132: NHS England - Midlands | E132: 0 | F132: Active | G132: 01/08 | I132: 87
A133: NHS BLACK COUNTRY INTEGRATED CARE BOARD | B133: Midlands | C133: ICB | D133: NHS Wolverhampton CCG | E133: 0 | F133: Active | G133: 01/04 | I133: 98
... A141: NHS HEREFORDSHIRE AND WORCESTERSHIRE INTEGRATED CARE BOARD | B141: Midlands | C141: NHS Trust | D141: Worcestershire Acute Hospitals NHS Trust | E141: 0 | F141: Active | G141: 14/10 | I141: 122
A142: NHS DERBY AND DERBYSHIRE INTEGRATED CARE BOARD | B142: Midlands | C142: GP Practice | D142: Eyam Surgery | E142: C81039 | F142: Active | G142: Monthly | H142: DFOCVC | I142: 131
A143: NHS BIRMINGHAM AND SOLIHULL INTEGRATED CARE BOARD | B143: Midlands | C143: GP Practice | D143: CHURCH LANE - KHAN | E143: M85013 | F143: Active | H143: Direct | I143: 494
A144: NHS BIRMINGHAM AND SOLIHULL INTEGRATED CARE BOARD | B144: Midlands | C144: GP Practice | D144: OMNIA PRACTICE | E144: M85034 | F144: Active | H144: Direct | I144: 494
A145: NHS BIRMINGHAM AND SOLIHULL INTEGRATED CARE BOARD | B145: Midlands | C145: GP Practice | D145: YARDLEY GREEN MEDICAL CENTRE | E145: M85061 | F145: Active | H145: Direct | I145: 494
A146: NHS BIRMINGHAM AND SOLIHULL INTEGRATED CARE BOARD | B146: Midlands | C146: GP Practice | D146: BUCKLANDS END LANE SURGERY | E146: M85113 | F146: Active | H146: Direct | I146: 494
A147: NHS BIRMINGHAM AND SOLIHULL INTEGRATED CARE BOARD | B147: Midlands | C147: GP Practice | D147: DRUID GROUP - EMC SURGERY | E147: M85706 | F147: Active | H147: Direct | I147: 494
A148: NHS BIRMINGHAM AND SOLIHULL INTEGRATED CARE BOARD | B148: Midlands | C148: GP Practice | D148: HILLCREST SURGERY | E148: M85016 | F148: Active | G148: 30/11 | H148: Direct | I148: 517
A149: NHS BIRMINGHAM AND SOLIHULL INTEGRATED CARE BOARD | B149: Midlands | C149: GP Practice | D149: KINGSTANDING CIRCLE SURGERY | E149: M85155 | F149: Active | G149: 30/11 | H149: Direct | I149: 517
A150: NHS BIRMINGHAM AND SOLIHULL INTEGRATED CARE BOARD | B150: Midlands | C150: GP Practice | D150: APOLLO SURGERY | E150: M85158 | F150: Active | G150: 30/11 | H150: Direct | I150: 517
A151: NHS BIRMINGHAM AND SOLIHULL INTEGRATED CARE BOARD | B151: Midlands | C151: GP Practice | D151: PERRY PARK SURGERY | E151: M85624 | F151: Active | G151: 30/11 | H151: Direct | I151: 517
A152: NHS BIRMINGHAM AND SOLIHULL INTEGRATED CARE BOARD | B152: Midlands | C152: GP Practice | D152: TUDOR PRACTICE STOCKLAND GREEN | E152: M85669 | F152: Active | G152: 30/11 | H152: Direct | I152: 517
A153: NHS BIRMINGHAM AND SOLIHULL INTEGRATED CARE BOARD | B153: Midlands | C153: GP Practice | D153: AYLESBURY SURGERY | E153: M85779 | F153: Active | G153: 30/11 | H153: Direct | I153: 517

Sheet NE&Y
A1: Region | B1: North East and Yorkshire
A3: ICB | B3: Total Accounts
A4: NHS HUMBER AND NORTH YORKSHIRE INTEGRATED CARE BOARD | B4: 1
A5: NHS NORTH EAST AND NORTH CUMBRIA INTEGRATED CARE BOARD | B5: 7
A6: NHS WEST YORKSHIRE INTEGRATED CARE BOARD | B6: 2
A7: NHS SOUTH YORKSHIRE INTEGRATED CARE BOARD | B7: 5
A8: Grand Total | B8: 15
A13: ICB | B13: Region | C13: Organisation Type | D13: Practices - Account Name | E13: ODS Code | F13: Status | G13: Licence Start | H13: SP Contract Type | I13: Source Row
A14: NHS HUMBER AND NORTH YORKSHIRE INTEGRATED CARE BOARD | B14: North East and Yorkshire | C14: GP Practice | D14: Brook Square Surgery | E14: B82088 | F14: Active | G14: 29/07 | H14: Direct | I14: 325
A15: NHS NORTH EAST AND NORTH CUMBRIA INTEGRATED CARE BOARD | B15: North East and Yorkshire | C15: GP Practice | D15: Colliery Court Medical Group | E15: A88016 | F15: Active | G15: 24/02 | H15: Direct | I15: 321
A16: NHS WEST YORKSHIRE INTEGRATED CARE BOARD | B16: North East and Yorkshire | C16: GP Practice | D16: Windsor House Group Practice | E16: B86057 | F16: Active | G16: 30/12 | H16: Direct | I16: 533
A17: NHS WEST YORKSHIRE INTEGRATED CARE BOARD | B17: North East and Yorkshire | C17: Other | D17: Conexus Healthcare | E17: 0 | F17: Active | G17: 01/04 | I17: 111
A18: NHS NORTH EAST AND NORTH CUMBRIA INTEGRATED CARE BOARD | B18: North East and Yorkshire | C18: NHS Trust | D18: Northumbria NHS Foundation Trust | E18: 0 | F18: Active | G18: 01/01 | I18: 17
A19: NHS NORTH EAST AND NORTH CUMBRIA INTEGRATED CARE BOARD | B19: North East and Yorkshire | C19: NHS Trust | D19: Northumbria NHS Foundation Trust | E19: 0 | F19: In Preview | G19: 01/05 | I19: 82
A20: NHS SOUTH YORKSHIRE INTEGRATED CARE BOARD | B20: North East and Yorkshire | C20: NHS Trust | D20: Sheffield Children's NHS Foundation Trust | E20: 0 | F20: Active | G20: 01/12 | I20: 32
A21: NHS NORTH EAST AND NORTH CUMBRIA INTEGRATED CARE BOARD | B21: North East and Yorkshire | C21: NHS Trust | D21: South Tees Hospitals NHS Foundation Trust | E21: 0 | F21: Active | G21: 01/03 | I21: 38
A22: NHS NORTH EAST AND NORTH CUMBRIA INTEGRATED CARE BOARD | B22: North East and Yorkshire | C22: NHS Trust | D22: South Tees Hospitals NHS Foundation Trust | E22: 0 | F22: Active | G22: 31/01 | I22: 75
A23: NHS NORTH EAST AND NORTH CUMBRIA INTEGRATED CARE BOARD | B23: North East and Yorkshire | C23: NHS Trust | D23: South Tees Hospitals NHS Foundation Trust | E23: 0 | F23: Active | G23: 01/04 | I23: 103
A24: NHS SOUTH YORKSHIRE INTEGRATED CARE BOARD | B24: North East and Yorkshire | C24: Other | D24: South Yorkshire Cancer Alliance | E24: 0 | F24: Active | G24: 10/10 | I24: 50
A25: NHS SOUTH YORKSHIRE INTEGRATED CARE BOARD | B25: North East and Yorkshire | C25: Other | D25: South Yorkshire Cancer Alliance | E25: 0 | F25: Active | G25: 01/10 | I25: 52
A26: NHS SOUTH YORKSHIRE INTEGRATED CARE BOARD | B26: North East and Yorkshire | C26: Other | D26: South Yorkshire Cancer Alliance | E26: 0 | F26: Active | G26: 01/10 | I26: 55
A27: NHS SOUTH YORKSHIRE INTEGRATED CARE BOARD | B27: North East and Yorkshire | C27: Other | D27: South Yorkshire Cancer Alliance | E27: 0 | F27: Active | G27: 01/10 | I27: 57
A28: NHS NORTH EAST AND NORTH CUMBRIA INTEGRATED CARE BOARD | B28: North East and Yorkshire | C28: NHS Trust | D28: North Tees and Hartlepool NHS Foundation Trust | E28: 0 | F28: In Build | G28: 01/01 | I28: 36

Sheet NW
A1: Region | B1: North West
A3: ICB | B3: Total Accounts
A4: NHS CHESHIRE AND MERSEYSIDE INTEGRATED CARE BOARD | B4: 27
A5: NHS GREATER MANCHESTER INTEGRATED CARE BOARD | B5: 28
A6: NHS LANCASHIRE AND SOUTH CUMBRIA INTEGRATED CARE BOARD | B6: 3
A7: Grand Total | B7: 58
A12: ICB | B12: Region | C12: Organisation Type | D12: Practices - Account Name | E12: ODS Code | F12: Status | G12: Licence Start | H12: SP Contract Type | I12: Source Row
A13: NHS CHESHIRE AND MERSEYSIDE INTEGRATED CARE BOARD | B13: North West | C13: GP Practice | D13: Berrymead Medical Centre | E13: N83008 | F13: Active | G13: 05/04 | H13: NHS | I13: 493
A14: NHS CHESHIRE AND MERSEYSIDE INTEGRATED CARE BOARD | B14: North West | C14: GP Practice | D14: Bethany Medical Centre | E14: N83054 | F14: Active | G14: 16/06 | H14: NHS | I14: 575
A15: NHS CHESHIRE AND MERSEYSIDE INTEGRATED CARE BOARD | B15: North West | C15: GP Practice | D15: Billinge Medical Practice | E15: N83019 | F15: Active | G15: 06/06 | H15: NHS | I15: 567
A16: NHS CHESHIRE AND MERSEYSIDE INTEGRATED CARE BOARD | B16: North West | C16: GP Practice | D16: Central Surgery St Helens | E16: N83027 | F16: Active | G16: 03/03 | H16: NHS | I16: 324
A17: NHS CHESHIRE AND MERSEYSIDE INTEGRATED CARE BOARD | B17: North West | C17: GP Practice | D17: Eccleston Medical Centre | E17: N83614 | F17: Active | G17: 14/04 | H17: NHS | I17: 502
A18: NHS CHESHIRE AND MERSEYSIDE INTEGRATED CARE BOARD | B18: North West | C18: GP Practice | D18: Four Acre Health Centre | E18: N83021 | F18: Active | G18: 14/04 | H18: NHS | I18: 504
A19: NHS CHESHIRE AND MERSEYSIDE INTEGRATED CARE BOARD | B19: North West | C19: GP Practice | D19: Garswood Surgery | E19: Y00475 | F19: Active | G19: 24/05 | H19: NHS | I19: 553
A20: NHS CHESHIRE AND MERSEYSIDE INTEGRATED CARE BOARD | B20: North West | C20: GP Practice | D20: Grosvenor Medical Centre | E20: N81068 | F20: Active | G20: 01/04 | H20: Direct | I20: 424
A21: NHS CHESHIRE AND MERSEYSIDE INTEGRATED CARE BOARD | B21: North West | C21: GP Practice | D21: Hall Street Medical Centre | E21: N83017 | F21: Active | G21: 03/03 | H21: NHS | I21: 327
A22: NHS CHESHIRE AND MERSEYSIDE INTEGRATED CARE BOARD | B22: North West | C22: GP Practice | D22: Kenneth MacRae Medical Centre (St Helens North) | E22: N83049 | F22: Active | G22: 14/07 | H22: NHS | I22: 313
A23: NHS CHESHIRE AND MERSEYSIDE INTEGRATED CARE BOARD | B23: North West | C23: GP Practice | D23: Lingholme Health Centre (St Helens Central) | E23: N83007 | F23: Active | G23: 23/02 | H23: NHS | I23: 315
A24: NHS CHESHIRE AND MERSEYSIDE INTEGRATED CARE BOARD | B24: North West | C24: GP Practice | D24: Longton Medical Centre (St Helens South) | E24: N83053 | F24: Active | G24: 20/04 | H24: NHS | I24: 510
... A37: NHS GREATER MANCHESTER INTEGRATED CARE BOARD | B37: North West | C37: GP Practice | D37: Chorlton Family Practice | E37: P84068 | F37: Active | G37: 01/10 | H37: Direct | I37: 416
A38: NHS GREATER MANCHESTER INTEGRATED CARE BOARD | B38: North West | C38: Other | D38: Salford Digital Team | F38: Active | H38: DFOCVC | I38: 498
A39: NHS GREATER MANCHESTER INTEGRATED CARE BOARD | B39: North West | C39: GP Practice | D39: The Delamere Medical Practice | E39: P91018 | F39: Active | G39: 02/04 & 02/10 | H39: Direct | I39: 539
A40: NHS GREATER MANCHESTER INTEGRATED CARE BOARD | B40: North West | C40: GP Practice | D40: The Elms Medical Centre | E40: P83608 | F40: Active | G40: 01/04 | H40: Direct | I40: 466
A41: NHS GREATER MANCHESTER INTEGRATED CARE BOARD | B41: North West | C41: GP Practice | D41: The Robert Darbishire Practice | E41: P84072 | F41: Active | G41: 01/10 | H41: Direct | I41: 470
A42: NHS GREATER MANCHESTER INTEGRATED CARE BOARD | B42: North West | C42: GP Practice | D42: The Whitswood Practice | E42: P84635 | F42: Active | G42: 01/10 | H42: Direct | I42: 472
A43: NHS GREATER MANCHESTER INTEGRATED CARE BOARD | B43: North West | C43: GP Practice | D43: Unsworth Medical Centre | E43: P83011 | F43: In Preview | G43: 01/04 | H43: Direct | I43: 379
A44: NHS GREATER MANCHESTER INTEGRATED CARE BOARD | B44: North West | C44: GP Practice | D44: Urban Village Medical Practice | E44: P84673 | F44: Active | G44: 01/10 | H44: Direct | I44: 476
A45: NHS GREATER MANCHESTER INTEGRATED CARE BOARD | B45: North West | C45: GP Practice | D45: Brooklands Medical Practice | E45: P84061 | F45: In Preview | G45: 01/10 | I45: 614
A46: NHS CHESHIRE AND MERSEYSIDE INTEGRATED CARE BOARD | B46: North West | C46: GP Practice | D46: Vista Road Surgery | E46: N83005 | F46: Active | G46: 02/05 | H46: NHS | I46: 170
A47: NHS GREATER MANCHESTER INTEGRATED CARE BOARD | B47: North West | C47: GP Practice | D47: David Medical Centre | E47: P84066 | F47: Active | G47: 07/03 | H47: Direct | I47: 140
A48: NHS GREATER MANCHESTER INTEGRATED CARE BOARD | B48: North West | C48: GP Practice | D48: Didsbury Medical Centre | E48: P84678 | F48: Active | G48: 07/07 | H48: Direct | I48: 133
A49: NHS GREATER MANCHESTER INTEGRATED CARE BOARD | B49: North West | C49: GP Practice | D49: Barlow Medical Centre | E49: P84034 | F49: Active | G49: 01/10 | H49: Direct | I49: 223
A50: NHS GREATER MANCHESTER INTEGRATED CARE BOARD | B50: North West | C50: GP Practice | D50: Kingsway Medical Practice | E50: P84022 | F50: Active | G50: 01/10 | H50: Direct | I50: 226
A51: NHS GREATER MANCHESTER INTEGRATED CARE BOARD | B51: North West | C51: GP Practice | D51: Mocha Parade Medical Practice | E51: P87022 | F51: Active | G51: 01/10 | H51: Direct | I51: 231
A52: NHS GREATER MANCHESTER INTEGRATED CARE BOARD | B52: North West | C52: GP Practice | D52: Mosslands Medical Practice | E52: P87610 | F52: Active | G52: 01/10 | H52: Direct | I52: 232
A53: NHS GREATER MANCHESTER INTEGRATED CARE BOARD | B53: North West | C53: GP Practice | D53: Newbury Green Medical Practice | E53: P87026 | F53: Active | G53: 01/10 | H53: Direct | I53: 233
A54: NHS GREATER MANCHESTER INTEGRATED CARE BOARD | B54: North West | C54: GP Practice | D54: Pendleton Medical Centre | E54: P87015 | F54: Active | G54: 01/10 | H54: Direct | I54: 234
A55: NHS GREATER MANCHESTER INTEGRATED CARE BOARD | B55: North West | C55: GP Practice | D55: Reut Medical Practice | E55: P87648 | F55: Active | G55: 01/10 | H55: Direct | I55: 235
A56: NHS GREATER MANCHESTER INTEGRATED CARE BOARD | B56: North West | C56: GP Practice | D56: Salford Medical Centre | E56: P87004 | F56: Active | G56: 01/10 | H56: Direct | I56: 236
A57: NHS GREATER MANCHESTER INTEGRATED CARE BOARD | B57: North West | C57: GP Practice | D57: Salford Primary Care Together (SPCT) | E57: Y00445 | F57: Active | G57: 01/10 | H57: Direct | I57: 237
... A65: NHS LANCASHIRE AND SOUTH CUMBRIA INTEGRATED CARE BOARD | B65: North West | C65: GP Practice | D65: The Chorley Surgery | E65: P81038 | F65: Active | G65: 03/10 | H65: Direct | I65: 229
A66: NHS LANCASHIRE AND SOUTH CUMBRIA INTEGRATED CARE BOARD | B66: North West | C66: GP Practice | D66: Euxton Medical Centre | E66: P81171 | F66: Active | G66: TBC | I66: 244
A67: NHS LANCASHIRE AND SOUTH CUMBRIA INTEGRATED CARE BOARD | B67: North West | C67: NHS Trust | D67: East Lancashire Hospitals NHS Trust | E67: 0 | F67: Active | G67: 01/07 | I67: 110
A68: NHS CHESHIRE AND MERSEYSIDE INTEGRATED CARE BOARD | B68: North West | C68: NHS Trust | D68: Liverpool University Hospitals NHS Foundation Trust | E68: 0 | F68: Active | G68: 21/03 | I68: 83
A69: NHS CHESHIRE AND MERSEYSIDE INTEGRATED CARE BOARD | B69: North West | C69: NHS Trust | D69: St Helens & Knowsley Teaching Hospitals NHS Trust | E69: 0 | F69: Active | G69: 31/1 | I69: 21
A70: NHS CHESHIRE AND MERSEYSIDE INTEGRATED CARE BOARD | B70: North West | C70: NHS Trust | D70: Warrington and Halton Hospitals NHS Foundation Trust | E70: 0 | F70: Active | G70: 01/01 | I70: 89

Sheet SE
A1: Region | B1: South East
A3: ICB | B3: Total Accounts
A4: South East | B4: 4
A5: NHS THAMES VALLEY INTEGRATED CARE BOARD | B5: 19
A6: NHS HAMPSHIRE AND ISLE OF WIGHT INTEGRATED CARE BOARD | B6: 8
A7: NHS KENT AND MEDWAY INTEGRATED CARE BOARD | B7: 1
A8: NHS SURREY AND SUSSEX INTEGRATED CARE BOARD | B8: 11
A9: Grand Total | B9: 43
A12: Please note the highlighted fields indicate PCNs where there are multiple practices (see PCN tab') however it is currently unknown which practices within that PCN are using which products so ICBs will need to confirm this with each PCN
A14: ICB | B14: Region | C14: Organisation Type | D14: Practices - Account Name | E14: ODS Code | F14: Status | G14: Licence Start | H14: SP Contract Type | I14: Source Row
A15: NHS THAMES VALLEY INTEGRATED CARE BOARD | B15: South East | C15: GP Practice | D15: Brookside Group Practice | E15: K81047 | F15: Active | G15: 01/05 | H15: Direct | I15: 514
A16: NHS THAMES VALLEY INTEGRATED CARE BOARD | B16: South East | C16: GP Practice | D16: Chancellor House and Tilehurst Village Surgery | E16: K81644 | F16: Active | G16: Monthly | H16: DFOCVC | I16: 622
A17: NHS THAMES VALLEY INTEGRATED CARE BOARD | B17: South East | C17: GP Practice | D17: Gosford Hill Medical Centre | E17: K84045 | F17: Active | G17: 26/05 | H17: Direct | I17: 555
A18: NHS THAMES VALLEY INTEGRATED CARE BOARD | B18: South East | C18: GP Practice | D18: The Downland Practice | E18: K81050 | F18: Active | G18: 01/01 | H18: Direct | I18: 580
A19: NHS THAMES VALLEY INTEGRATED CARE BOARD | B19: South East | C19: GP Practice | D19: The Key Medical Practice | E19: K84082 | F19: Active | G19: 03/12 | H19: Direct | I19: 526
A20: NHS THAMES VALLEY INTEGRATED CARE BOARD | B20: South East | C20: GP Practice | D20: Theale Medical Centre | E20: K81077 | F20: Active | G20: 01/01 | H20: Direct | I20: 583
A21: NHS THAMES VALLEY INTEGRATED CARE BOARD | B21: South East | C21: GP Practice | D21: Rosemead Surgery | E21: K81084 | F21: Active | G21: 11/04 | H21: Direct | I21: 501
A22: NHS HAMPSHIRE AND ISLE OF WIGHT INTEGRATED CARE BOARD | B22: South East | C22: GP Practice | D22: St Mary's Surgery (Andover) | E22: J82103 | F22: Active | G22: 16/05 | H22: Direct | I22: 547
A23: NHS HAMPSHIRE AND ISLE OF WIGHT INTEGRATED CARE BOARD | B23: South East | C23: GP Practice | D23: The Elms Practice | E23: J82210 | F23: Active | G23: 02/09 | H23: Direct | I23: 398
A24: NHS HAMPSHIRE AND ISLE OF WIGHT INTEGRATED CARE BOARD | B24: South East | C24: GP Practice | D24: Trafalgar Medical Group Practice | E24: J82028 | F24: Active | G24: 10/05 | H24: Direct | I24: 538
A25: NHS HAMPSHIRE AND ISLE OF WIGHT INTEGRATED CARE BOARD | B25: South East | C25: GP Practice | D25: Two Rivers Medical Partnership (Hampshire) | E25: J82214 | F25: Active | G25: 12/03 | H25: Direct | I25: 340
A26: NHS HAMPSHIRE AND ISLE OF WIGHT INTEGRATED CARE BOARD | B26: South East | C26: GP Practice | D26: Watership Down Health | E26: J82639 | F26: Active | G26: 05/07 | H26: Direct | I26: 619
... A46: NHS HAMPSHIRE AND ISLE OF WIGHT INTEGRATED CARE BOARD | B46: South East | C46: GP Practice | D46: Chineham Medical Practice | E46: J82218 | F46: Active | G46: 09/02 | H46: Direct | I46: 210
A47: NHS THAMES VALLEY INTEGRATED CARE BOARD | B47: South East | C47: NHS Trust | D47: Buckinghamshire Healthcare NHS Trust | E47: 0 | F47: Active | G47: 01/12 | I47: 37
A48: NHS THAMES VALLEY INTEGRATED CARE BOARD | B48: South East | C48: NHS Trust | D48: Buckinghamshire Healthcare NHS Trust | E48: 0 | F48: Active | G48: 01/04 | I48: 100
A49: South East | B49: South East | C49: Other | D49: NHS England - South East | E49: 0 | F49: Active | G49: 03/12 | I49: 8
A50: South East | B50: South East | C50: Other | D50: NHS England - South East | E50: 0 | F50: Active | G50: 03/12 | I50: 13
A51: South East | B51: South East | C51: Other | D51: NHS England - South East | E51: 0 | F51: Active | G51: 03/12 | I51: 19
A52: South East | B52: South East | C52: Other | D52: NHS England - South East | E52: 0 | F52: Active | G52: 03/12 | I52: 129
A53: NHS SURREY AND SUSSEX INTEGRATED CARE BOARD | B53: South East | C53: NHS Trust | D53: Royal Surrey NHS Foundation Trust | E53: 0 | F53: Active | G53: 01/01 | I53: 9
A54: NHS SURREY AND SUSSEX INTEGRATED CARE BOARD | B54: South East | C54: GP Practice | D54: CARDEN SURGERY | E54: G81014 | F54: Active | G54: Various - See Individual Practices | H54: Direct | I54: 469
A55: NHS SURREY AND SUSSEX INTEGRATED CARE BOARD | B55: South East | C55: GP Practice | D55: MONTPELIER SURGERY | E55: G81044 | F55: Active | G55: Various - See Individual Practices | H55: Direct | I55: 469
A56: NHS SURREY AND SUSSEX INTEGRATED CARE BOARD | B56: South East | C56: GP Practice | D56: SEVEN DIALS MEDICAL CENTRE | E56: G81047 | F56: Active | G56: Various - See Individual Practices | H56: Direct | I56: 469
A57: NHS SURREY AND SUSSEX INTEGRATED CARE BOARD | B57: South East | C57: GP Practice | D57: HC UNIVERSITY OF SUSSEX HEALTH CENTRE | E57: G81071 | F57: Active | G57: Various - See Individual Practices | H57: Direct | I57: 469

Sheet SW
A1: Region | B1: South West
A3: ICB | B3: Total Accounts
A4: NHS BATH AND NORTH EAST SOMERSET, SWINDON AND WILTSHIRE INTEGRATED CARE BOARD | B4: 20
A5: NHS BRISTOL, NORTH SOMERSET AND SOUTH GLOUCESTERSHIRE INTEGRATED CARE BOARD | B5: 4
A6: NHS CORNWALL AND THE ISLES OF SCILLY INTEGRATED CARE BOARD | B6: 13
A7: NHS DEVON INTEGRATED CARE BOARD | B7: 1
A8: NHS DORSET INTEGRATED CARE BOARD | B8: 3
A9: NHS GLOUCESTERSHIRE INTEGRATED CARE BOARD | B9: 65
A10: South West | B10: 7
A11: Grand Total | B11: 113
A14: Please note the highlighted fields indicate PCNs where there are multiple practices (see PCN tab') however it is currently unknown which practices within that PCN are using which products so ICBs will need to confirm this with each PCN
A16: ICB | B16: Region | C16: Organisation Type | D16: Practices - Account Name | E16: ODS Code | F16: Status | G16: Licence Start | H16: SP Contract Type | I16: Source Row
A17: NHS BATH AND NORTH EAST SOMERSET, SWINDON AND WILTSHIRE INTEGRATED CARE BOARD | B17: South West | C17: GP Practice | D17: Barcroft Medical Centre | E17: J83005 | F17: Active | G17: 01/04 | H17: Direct | I17: 396
A18: NHS BATH AND NORTH EAST SOMERSET, SWINDON AND WILTSHIRE INTEGRATED CARE BOARD | B18: South West | C18: GP Practice | D18: Cherry Orchard Surgery | E18: J83019001 | F18: Active | G18: 01/10 | H18: Direct | I18: 413
A19: NHS BATH AND NORTH EAST SOMERSET, SWINDON AND WILTSHIRE INTEGRATED CARE BOARD | B19: South West | C19: GP Practice | D19: Courtyard Surgery | E19: J83619 | F19: Active | G19: 01/10 | H19: Direct | I19: 418
A20: NHS BATH AND NORTH EAST SOMERSET, SWINDON AND WILTSHIRE INTEGRATED CARE BOARD | B20: South West | C20: GP Practice | D20: New Court Surgery | E20: J83055 | F20: Active | G20: 01/04 | H20: Direct | I20: 442
A21: NHS BATH AND NORTH EAST SOMERSET, SWINDON AND WILTSHIRE INTEGRATED CARE BOARD | B21: South West | C21: GP Practice | D21: Old Orchard Surgery | E21: J83019 | F21: Active | G21: 01/10 | H21: Direct | I21: 444
A22: NHS BATH AND NORTH EAST SOMERSET, SWINDON AND WILTSHIRE INTEGRATED CARE BOARD | B22: South West | C22: GP Practice | D22: Silton Surgery | E22: J83629 | F22: Active | G22: 01/10 | H22: Direct | I22: 457
A23: NHS BATH AND NORTH EAST SOMERSET, SWINDON AND WILTSHIRE INTEGRATED CARE BOARD | B23: South West | C23: GP Practice | D23: Spring Orchard Surgery | E23: J83019002 | F23: Active | G23: 01/10 | H23: Direct | I23: 459
A24: NHS BATH AND NORTH EAST SOMERSET, SWINDON AND WILTSHIRE INTEGRATED CARE BOARD | B24: South West | C24: GP Practice | D24: St Melor House Surgery | E24: J83048 | F24: Active | G24: 01/04 | H24: Direct | I24: 462
A25: NHS BATH AND NORTH EAST SOMERSET, SWINDON AND WILTSHIRE INTEGRATED CARE BOARD | B25: South West | C25: GP Practice | D25: The Castle Practice (Ludgershall) | E25: J83014 | F25: Active | G25: 01/04 | H25: Direct | I25: 465
A26: NHS BATH AND NORTH EAST SOMERSET, SWINDON AND WILTSHIRE INTEGRATED CARE BOARD | B26: South West | C26: GP Practice | D26: Till Orchard Surgery | E26: J83019003 | F26: Active | G26: 01/10 | H26: Direct | I26: 475
A27: NHS BRISTOL, NORTH SOMERSET AND SOUTH GLOUCESTERSHIRE INTEGRATED CARE BOARD | B27: South West | C27: GP Practice | D27: The Orchard Medical Centre (South Gloucestershire) | E27: L81055 | F27: Active | G27: 01/12 | H27: Direct | I27: 524
A28: NHS CORNWALL AND THE ISLES OF SCILLY INTEGRATED CARE BOARD | B28: South West | C28: GP Practice | D28: Bottreaux Surgery | E28: L82058 | F28: Active | G28: 13/05 | H28: Direct | I28: 542
... A94: NHS BATH AND NORTH EAST SOMERSET, SWINDON AND WILTSHIRE INTEGRATED CARE BOARD | B94: South West | C94: GP Practice | D94: University Medical Centre (Bath) | E94: L81617 | F94: Active | G94: 17/12 | H94: Direct | I94: 172
A95: NHS DORSET INTEGRATED CARE BOARD | B95: South West | C95: GP Practice | D95: Beaufort Road Surgery | E95: J81018 | F95: Active | H95: Direct | I95: 156
A96: NHS DORSET INTEGRATED CARE BOARD | B96: South West | C96: GP Practice | D96: South Coast Medical Group | E96: J81646 / J81634 / J81049 / J81633 | F96: Active | G96: 29/11 | H96: Direct | I96: 168
A97: NHS GLOUCESTERSHIRE INTEGRATED CARE BOARD | B97: South West | C97: GP Practice | D97: Forest Health Care | E97: L84028 | F97: Active | G97: 14/08 | H97: DFOCVC | I97: 138
A98: NHS GLOUCESTERSHIRE INTEGRATED CARE BOARD | B98: South West | C98: GP Practice | D98: Leckhampton Surgery | E98: L84040 | F98: Active | G98: 14/08 | H98: DFOCVC | I98: 143
A99: NHS BATH AND NORTH EAST SOMERSET, SWINDON AND WILTSHIRE INTEGRATED CARE BOARD | B99: South West | C99: GP Practice | D99: Elm Hayes Surgery | E99: L81059 | F99: Active | G99: 03/12 | H99: Direct | I99: 271
A100: NHS BATH AND NORTH EAST SOMERSET, SWINDON AND WILTSHIRE INTEGRATED CARE BOARD | B100: South West | C100: GP Practice | D100: Hillcrest Surgery (BANES) | E100: L81123 | F100: Active | G100: 03/10 & 03/04 | H100: Direct | I100: 228
A101: NHS BATH AND NORTH EAST SOMERSET, SWINDON AND WILTSHIRE INTEGRATED CARE BOARD | B101: South West | C101: GP Practice | D101: Hindon Surgery | E101: J83630 | F101: Active | G101: 01/10 | H101: Direct | I101: 225
A102: NHS BATH AND NORTH EAST SOMERSET, SWINDON AND WILTSHIRE INTEGRATED CARE BOARD | B102: South West | C102: GP Practice | D102: Mere Surgery | E102: J83060 | F102: Active | G102: 01/10 | H102: Direct | I102: 230
A103: NHS BATH AND NORTH EAST SOMERSET, SWINDON AND WILTSHIRE INTEGRATED CARE BOARD | B103: South West | C103: GP Practice | D103: Somer Valley Medical Group (St Chads and Somerton House) | E103: L81025 | F103: Active | G103: 17/04 | H103: Direct | I103: 264
A104: NHS BATH AND NORTH EAST SOMERSET, SWINDON AND WILTSHIRE INTEGRATED CARE BOARD | B104: South West | C104: GP Practice | D104: Tisbury Surgery | E104: J83058 | F104: Active | G104: 01/10 | H104: Direct | I104: 246
A105: NHS BRISTOL, NORTH SOMERSET AND SOUTH GLOUCESTERSHIRE INTEGRATED CARE BOARD | B105: South West | C105: GP Practice | D105: Air Balloon Surgery | E105: L81038 | F105: Active | G105: 19/02 | H105: Direct | I105: 211
A106: NHS BRISTOL, NORTH SOMERSET AND SOUTH GLOUCESTERSHIRE INTEGRATED CARE BOARD | B106: South West | C106: GP Practice | D106: Lawrence Hill Health Centre | E106: L81089 | F106: Active | G106: 07/01 | H106: Direct | I106: 285
A107: NHS CORNWALL AND THE ISLES OF SCILLY INTEGRATED CARE BOARD | B107: South West | C107: GP Practice | D107: Oak Tree Surgery | E107: L82016 | F107: Active | G107: 15/10 | H107: Direct | I107: 252
... A112: NHS DORSET INTEGRATED CARE BOARD | B112: South West | C112: GP Practice | D112: Shelley Manor & Holdenhurst Medical Centre | E112: J81021 | F112: Active | G112: 30/01 | H112: Direct | I112: 258
A113: NHS GLOUCESTERSHIRE INTEGRATED CARE BOARD | B113: South West | C113: PCN | D113: Forest Green PCN | E113: U16196 | F113: In Build | G113: TBC | I113: 241
A114: NHS CORNWALL AND THE ISLES OF SCILLY INTEGRATED CARE BOARD | B114: South West | C114: GP Practice | D114: Quay Lane Surgery | E114: L82043 | F114: In Preview | G114: TBC | I114: 275
A115: NHS BRISTOL, NORTH SOMERSET AND SOUTH GLOUCESTERSHIRE INTEGRATED CARE BOARD | B115: South West | C115: Other | D115: Care and Support West | E115: 0 | F115: Active | G115: 01/04 | I115: 106
A116: NHS CORNWALL AND THE ISLES OF SCILLY INTEGRATED CARE BOARD | B116: South West | C116: Local Authority | D116: Cornwall Council | E116: 0 | F116: Active | G116: 01/11 | I116: 24
A117: NHS GLOUCESTERSHIRE INTEGRATED CARE BOARD | B117: South West | C117: Other | D117: Gloucestershire Care Providers Association | E117: 0 | F117: Active | G117: 21/12 | I117: 43
A118: NHS BATH AND NORTH EAST SOMERSET, SWINDON AND WILTSHIRE INTEGRATED CARE BOARD | B118: South West | C118: NHS Trust | D118: Great Western Hospitals NHS Foundation Trust | E118: 0 | F118: Active | G118: 01/12 | I118: 26
A119: South West | B119: South West | C119: Other | D119: NHS England - South West | E119: 0 | F119: Active | G119: 18/09 | I119: 10
A120: South West | B120: South West | C120: Other | D120: NHS England - South West | E120: 0 | F120: In Preview | G120: 18/09 | I120: 18
A121: South West | B121: South West | C121: Other | D121: NHS England - South West | E121: 0 | F121: In Preview | G121: 18/09 | I121: 23
A122: South West | B122: South West | C122: Other | D122: NHS England - South West | E122: 0 | F122: In Preview | G122: 18/09 | I122: 25
A123: South West | B123: South West | C123: Other | D123: NHS England - South West | E123: 0 | F123: In Preview | G123: 18/09 | I123: 28
A124: South West | B124: South West | C124: Other | D124: NHS England - South West | E124: 0 | F124: Active | G124: 18/09 | I124: 47
A125: South West | B125: South West | C125: Other | D125: NHS England - South West | E125: 0 | F125: Active | G125: 18/09 | I125: 118
A126: NHS GLOUCESTERSHIRE INTEGRATED CARE BOARD | B126: South West | C126: GP Practice | D126: DRYBROOK SURGERY | E126: L84024 | F126: In Build | G126: TBC | I126: 241
A127: NHS GLOUCESTERSHIRE INTEGRATED CARE BOARD | B127: South West | C127: GP Practice | D127: FOREST HEALTH CARE | E127: L84028 | F127: In Build | G127: TBC | I127: 241
A128: NHS GLOUCESTERSHIRE INTEGRATED CARE BOARD | B128: South West | C128: GP Practice | D128: MITCHELDEAN SURGERY | E128: L84045 | F128: In Build | G128: TBC | I128: 241
A129: NHS GLOUCESTERSHIRE INTEGRATED CARE BOARD | B129: South West | C129: GP Practice | D129: DOCKHAM SURGERY | E129: L84046 | F129: In Build | G129: TBC | I129: 241
A130: NHS DORSET INTEGRATED CARE BOARD | B130: South West | C130: GP Practice | D130: GROVE SURGERY | E130: J81646 | F130: Active | G130: TBC
A131: NHS DORSET INTEGRATED CARE BOARD | B131: South West | C131: GP Practice | D131: CRESCENT PROVIDENCE SURGERY | E131: J81634 | F131: Active | G131: TBC
A132: NHS DORSET INTEGRATED CARE BOARD | B132: South West | C132: GP Practice | D132: THE MARINE & OAKRIDGE PARTNERSHIP | E132: J81049 | F132: Active | G132: TBC
A133: NHS DORSET INTEGRATED CARE BOARD | B133: South West | C133: GP Practice | D133: WOODLEA HOUSE SURGERY | E133: J81633 | F133: Active | G133: TBC

Sheet PCN data
B1: PCN Name | C1: Total unique practices joined | D1: Total practices left | E1: Current member practices
B2: Birmingham East Central PCN | C2: {=IFERROR(ROWS(_xlfn.UNIQUE(_xlfn._xlws.FILTER(Table3[Name],(Table3[PCN Name]=B2)*(Table3[Joined]<>"")*(Table3[Name]<>"")))),"no data")} -> 5 | D2: {=IFERROR(ROWS(_xlfn.UNIQUE(_xlfn._xlws.FILTER(Table3[Name],(Table3[PCN Name]=B2)*(Table3[Left]<>"")*(Table3[Name]<>""))))," ")} | E2: {=IFERROR(ROWS(_xlfn.UNIQUE(_xlfn._xlws.FILTER(Table3[Name],(Table3[PCN Name]=B2)*(Table3[Joined]<>"")*(Table3[Left]="")*(Table3[Name]<>"")))),"no data")} -> 5
B3: Gosk PCN | C3: {=IFERROR(ROWS(_xlfn.UNIQUE(_xlfn._xlws.FILTER(Table3[Name],(Table3[PCN Name]=B3)*(Table3[Joined]<>"")*(Table3[Name]<>"")))),"no data")} -> 6 | D3: {=IFERROR(ROWS(_xlfn.UNIQUE(_xlfn._xlws.FILTER(Table3[Name],(Table3[PCN Name]=B3)*(Table3[Left]<>"")*(Table3[Name]<>""))))," ")} | E3: {=IFERROR(ROWS(_xlfn.UNIQUE(_xlfn._xlws.FILTER(Table3[Name],(Table3[PCN Name]=B3)*(Table3[Joined]<>"")*(Table3[Left]="")*(Table3[Name]<>"")))),"no data")} -> 6
B4: North & Central Brighton PCN | C4: {=IFERROR(ROWS(_xlfn.UNIQUE(_xlfn._xlws.FILTER(Table3[Name],(Table3[PCN Name]=B4)*(Table3[Joined]<>"")*(Table3[Name]<>"")))),"no data")} -> 5 | D4: {=IFERROR(ROWS(_xlfn.UNIQUE(_xlfn._xlws.FILTER(Table3[Name],(Table3[PCN Name]=B4)*(Table3[Left]<>"")*(Table3[Name]<>""))))," ")} -> 1 | E4: {=IFERROR(ROWS(_xlfn.UNIQUE(_xlfn._xlws.FILTER(Table3[Name],(Table3[PCN Name]=B4)*(Table3[Joined]<>"")*(Table3[Left]="")*(Table3[Name]<>"")))),"no data")} -> 4
B5: Benfleet PCN | C5: {=IFERROR(ROWS(_xlfn.UNIQUE(_xlfn._xlws.FILTER(Table3[Name],(Table3[PCN Name]=B5)*(Table3[Joined]<>"")*(Table3[Name]<>"")))),"no data")} -> 7 | D5: {=IFERROR(ROWS(_xlfn.UNIQUE(_xlfn._xlws.FILTER(Table3[Name],(Table3[PCN Name]=B5)*(Table3[Left]<>"")*(Table3[Name]<>""))))," ")} | E5: {=IFERROR(ROWS(_xlfn.UNIQUE(_xlfn._xlws.FILTER(Table3[Name],(Table3[PCN Name]=B5)*(Table3[Joined]<>"")*(Table3[Left]="")*(Table3[Name]<>"")))),"no data")} -> 7
B6: Clacton PCN | C6: {=IFERROR(ROWS(_xlfn.UNIQUE(_xlfn._xlws.FILTER(Table3[Name],(Table3[PCN Name]=B6)*(Table3[Joined]<>"")*(Table3[Name]<>"")))),"no data")} -> 6 | D6: {=IFERROR(ROWS(_xlfn.UNIQUE(_xlfn._xlws.FILTER(Table3[Name],(Table3[PCN Name]=B6)*(Table3[Left]<>"")*(Table3[Name]<>""))))," ")} -> 2 | E6: {=IFERROR(ROWS(_xlfn.UNIQUE(_xlfn._xlws.FILTER(Table3[Name],(Table3[PCN Name]=B6)*(Table3[Joined]<>"")*(Table3[Left]="")*(Table3[Name]<>"")))),"no data")} -> 4
B7: HODDESDON & BROXBOURNE PCN | C7: {=IFERROR(ROWS(_xlfn.UNIQUE(_xlfn._xlws.FILTER(Table3[Name],(Table3[PCN Name]=B7)*(Table3[Joined]<>"")*(Table3[Name]<>"")))),"no data")} -> 5 | D7: {=IFERROR(ROWS(_xlfn.UNIQUE(_xlfn._xlws.FILTER(Table3[Name],(Table3[PCN Name]=B7)*(Table3[Left]<>"")*(Table3[Name]<>""))))," ")} -> 1 | E7: {=IFERROR(ROWS(_xlfn.UNIQUE(_xlfn._xlws.FILTER(Table3[Name],(Table3[PCN Name]=B7)*(Table3[Joined]<>"")*(Table3[Left]="")*(Table3[Name]<>"")))),"no data")} -> 4
B8: Forest Green PCN | C8: {=IFERROR(ROWS(_xlfn.UNIQUE(_xlfn._xlws.FILTER(Table3[Name],(Table3[PCN Name]=B8)*(Table3[Joined]<>"")*(Table3[Name]<>"")))),"no data")} -> 11 | D8: {=IFERROR(ROWS(_xlfn.UNIQUE(_xlfn._xlws.FILTER(Table3[Name],(Table3[PCN Name]=B8)*(Table3[Left]<>"")*(Table3[Name]<>""))))," ")} -> 7 | E8: {=IFERROR(ROWS(_xlfn.UNIQUE(_xlfn._xlws.FILTER(Table3[Name],(Table3[PCN Name]=B8)*(Table3[Joined]<>"")*(Table3[Left]="")*(Table3[Name]<>"")))),"no data")} -> 4
B12: PCN Name | C12: ODS Code | D12: Name | E12: Non Primary Role(s) | F12: Relationship | G12: Joined | H12: Left | I12: Link | N12: 43739
B13: Birmingham East Central PCN | C13: M85013 | D13: CHURCH LANE - KHAN | E13: GP PRACTICE | F13: IS PARTNER TO | G13: 43739 | I13: ODS Data Search and Export | N13: 45626
B14: Birmingham East Central PCN | C14: M85034 | D14: OMNIA PRACTICE | E14: GP PRACTICE | F14: IS PARTNER TO | G14: 43739 | N14: L84615
B15: Birmingham East Central PCN | C15: M85061 | D15: YARDLEY GREEN MEDICAL CENTRE | E15: GP PRACTICE | F15: IS PARTNER TO | G15: 43739 | N15: NEWNHAM SURGERY
B16: Birmingham East Central PCN | C16: M85113 | D16: BUCKLANDS END LANE SURGERY | E16: GP PRACTICE | F16: IS PARTNER TO | G16: 43739 | N16: GP PRACTICE
B17: Birmingham East Central PCN | C17: M85706 | D17: DRUID GROUP - EMC SURGERY | E17: GP PRACTICE | F17: IS PARTNER TO | G17: 43739 | N17: IS PARTNER TO
B18: Gosk PCN | C18: M85016 | D18: HILLCREST SURGERY | E18: GP PRACTICE | F18: IS PARTNER TO | G18: 43739 | I18: ODS Data Search and Export | N18: L84045
B19: Gosk PCN | C19: M85155 | D19: KINGSTANDING CIRCLE SURGERY | E19: GP PRACTICE | F19: IS PARTNER TO | G19: 43739 | N19: MITCHELDEAN SURGERY
B20: Gosk PCN | C20: M85158 | D20: APOLLO SURGERY | E20: GP PRACTICE | F20: IS PARTNER TO | G20: 43739 | N20: GP PRACTICE
B21: Gosk PCN | C21: M85624 | D21: PERRY PARK SURGERY | E21: GP PRACTICE | F21: IS PARTNER TO | G21: 43739 | N21: IS NOMINATED PAYEE FOR
B22: Gosk PCN | C22: M85669 | D22: TUDOR PRACTICE STOCKLAND GREEN | E22: GP PRACTICE | F22: IS PARTNER TO | G22: 43739 | N22: 43922
B23: Gosk PCN | C23: M85779 | D23: AYLESBURY SURGERY | E23: GP PRACTICE | F23: IS PARTNER TO | G23: 43739 | N23: 44012
B24: Benfleet PCN | C24: F81001 | D24: DR KHAN & PARTNERS | E24: GP PRACTICE | F24: IS PARTNER TO | G24: 43739 | I24: ODS Data Search and Export | N24: GP PRACTICE
B25: Benfleet PCN | C25: F81032 | D25: GRACE HOUSE SURGERY | E25: GP PRACTICE | F25: IS PARTNER TO | G25: 43739 | N25: IS NOMINATED PAYEE FOR
B26: Benfleet PCN | C26: F81075 | D26: THE HOLLIES | E26: GP PRACTICE | F26: IS PARTNER TO | G26: 43739 | N26: 44013
B27: Benfleet PCN | C27: F81101 | D27: ESSEX WAY SURGERY | E27: GP PRACTICE | F27: IS PARTNER TO | G27: 43739 | N27: 45626
B28: Benfleet PCN | C28: F81142 | D28: ST GEORGES MEDICAL PRACTICE | E28: GP PRACTICE | F28: IS PARTNER TO | G28: 43739 | N28: L84071
B29: Benfleet PCN | C29: F81618 | D29: HIGH ROAD FAMILY DOCTORS | E29: GP PRACTICE | F29: IS PARTNER TO | G29: 43739 | N29: BRUNSTON PRACTICE
B30: Benfleet PCN | C30: F81713 | D30: BENFLEET SURGERY | E30: GP PRACTICE | F30: IS PARTNER TO | G30: 44383 | N30: 45488
B31: Clacton PCN | C31: F81037 | D31: EAST LYNNE MEDICAL CENTRE | E31: GP PRACTICE | F31: IS PARTNER TO | G31: 43922 | I31: ODS Data Search and Export | N31: L84028
B32: Clacton PCN | C32: F81741 | D32: NORTH CLACTON MEDICAL PRACTICE | E32: GP PRACTICE | F32: IS PARTNER TO | G32: 43922 | N32: GP PRACTICE
B33: Clacton PCN | C33: F81212 | D33: OLD ROAD SURGERY | E33: GP PRACTICE | F33: IS PARTNER TO | G33: 43922 | N33: IS NOMINATED PAYEE FOR
B34: Clacton PCN | C34: F81213 | D34: THORPE SURGERY | E34: GP PRACTICE | F34: IS PARTNER TO | G34: 44287
B35: Clacton PCN | C35: F81221 | D35: FRONKS RD FAMILY SURGERY | E35: GP PRACTICE | F35: IS PARTNER TO | G35: 44287 | H35: 46112
B36: Clacton PCN | C36: F81606 | D36: HAREWOOD SURGERY | E36: GP PRACTICE | F36: IS PARTNER TO | G36: 44287 | H36: 46112
B37: Forest Green PCN | C37: L84011 | D37: LYDNEY PRACTICE | E37: GP PRACTICE | F37: IS PARTNER TO | G37: 43739 | H37: 45626 | I37: ODS Data Search and Export
B38: Forest Green PCN | C38: L84021 | D38: YORKLEY HEALTH CENTRE(WG) | E38: GP PRACTICE | F38: IS PARTNER TO | G38: 43739 | H38: 45626
B39: Forest Green PCN | C39: L84024 | D39: DRYBROOK SURGERY | E39: GP PRACTICE | F39: IS PARTNER TO | G39: 43739
B40: Forest Green PCN | C40: L84028 | D40: FOREST HEALTH CARE | E40: GP PRACTICE | F40: IS PARTNER TO | G40: 43739
B41: Forest Green PCN | C41: L84029 | D41: DEAN MEDICAL PRACTICE | E41: GP PRACTICE | F41: IS PARTNER TO | G41: 43739 | H41: 45626
B42: Forest Green PCN | C42: L84045 | D42: MITCHELDEAN SURGERY | E42: GP PRACTICE | F42: IS PARTNER TO | G42: 43739
B43: Forest Green PCN | C43: L84046 | D43: DOCKHAM SURGERY | E43: GP PRACTICE | F43: IS PARTNER TO | G43: 43739
B44: Forest Green PCN | C44: L84069 | D44: COLEFORD MEDICAL PRACTICE | E44: GP PRACTICE | F44: IS PARTNER TO | G44: 43739 | H44: 45626
B45: Forest Green PCN | C45: L84071 | D45: BRUNSTON PRACTICE | E45: GP PRACTICE | F45: IS PARTNER TO | G45: 43739 | H45: 45382
B46: Forest Green PCN | C46: L84085 | D46: SEVERNBANK SURGERY | E46: GP PRACTICE | F46: IS PARTNER TO | G46: 43739 | H46: 45626
B47: Forest Green PCN | C47: L84615 | D47: NEWNHAM SURGERY | E47: GP PRACTICE | F47: IS PARTNER TO | G47: 43739 | H47: 45138
B48: HODDESDON & BROXBOURNE PCN | C48: E82006 | D48: THE LIMES SURGERY | E48: GP PRACTICE | F48: IS PARTNER TO | G48: 43739 | I48: ODS Data Search and Export
B49: HODDESDON & BROXBOURNE PCN | C49: E82061 | D49: AMWELL SURGERY | E49: GP PRACTICE | F49: IS PARTNER TO | G49: 43739
B50: HODDESDON & BROXBOURNE PCN | C50: E82088 | D50: HAILEY VIEW SURGERY | E50: GP PRACTICE | F50: IS PARTNER TO | G50: 43739
B51: HODDESDON & BROXBOURNE PCN | C51: E82090 | D51: PARK LANE SURGERY | E51: GP PRACTICE | F51: IS PARTNER TO | G51: 43739
B52: HODDESDON & BROXBOURNE PCN | C52: E82620 | D52: HAILEYBURY COLLEGE | E52: GP PRACTICE | F52: IS PARTNER TO | G52: 43739 | H52: 43921
B53: North & Central Brighton PCN | C53: G81014 | D53: CARDEN SURGERY | E53: GP PRACTICE | F53: IS PARTNER TO | G53: 43739 | I53: ODS Data Search and Export
B54: North & Central Brighton PCN | C54: G81044 | D54: MONTPELIER SURGERY | E54: GP PRACTICE | F54: IS PARTNER TO | G54: 43739
B55: North & Central Brighton PCN | C55: G81047 | D55: SEVEN DIALS MEDICAL CENTRE | E55: GP PRACTICE | F55: IS PARTNER TO | G55: 43739
B56: North & Central Brighton PCN | C56: G81071 | D56: HC UNIVERSITY OF SUSSEX HEALTH CENTRE | E56: GP PRACTICE | F56: IS PARTNER TO | G56: 43739
B57: North & Central Brighton PCN | C57: Y02676 | D57: BRIGHTON STATION HEALTH CENTRE | E57: GP PRACTICE | F57: IS PARTNER TO | G57: 43739 | H57: 44652
B58: South Coast Medical Group PCN | C58: J81646 | D58: GROVE SURGERY | E58: GP PRACTICE | F58: IS PARTNER TO | G58: 43739
B59: South Coast Medical Group PCN | C59: J81634 | D59: CRESCENT PROVIDENCE SURGERY | E59: GP PRACTICE | F59: IS PARTNER TO | G59: 43739
B60: South Coast Medical Group PCN | C60: J81049 | D60: THE MARINE & OAKRIDGE PARTNERSHIP | E60: GP PRACTICE | F60: IS PARTNER TO | G60: 43739
B61: South Coast Medical Group PCN | C61: J81633 | D61: WOODLEA HOUSE SURGERY | E61: GP PRACTICE | F61: IS PARTNER TO | G61: 43739

Sheet Master Practice List
A1: Run Datetime | B1: Practice Code | C1: Practice Name | D1: Practice Postcode | E1: PCN Code | F1: PCN Name | G1: SUBICB Code ONS | H1: SUBICB Code | I1: SUBICB Name | J1: ICB Code | K1: ICB Name | L1: Region Code ONS | M1: Region Code | N1: Region Name | O1: Registered Patient Size | P1: Registered Patient Period
A2: 46296.293 | B2: P87657 | C2: (IRLAM) SALFORD CARE CTRS MEDICAL PRACTI | D2: M44 6DP | E2: U00203 | F2: ECCLES & IRLAM PCN | G2: E38000143 | H2: 01G | I2: NHS Greater Manchester ICB - 01G | J2: QOP | K2: NHS Greater Manchester ICB | L2: E40000014 | M2: Y62 | N2: North West | O2: 4451 | P2: 2026-09-01
A3: 46296.293 | B3: P87620 | C3: 1/MONTON MEDICAL PRACTICE | D3: M30 8AR | E3: U00203 | F3: ECCLES & IRLAM PCN | G3: E38000143 | H3: 01G | I3: NHS Greater Manchester ICB - 01G | J3: QOP | K3: NHS Greater Manchester ICB | L3: E40000014 | M3: Y62 | N3: North West | O3: 9376 | P3: 2026-09-01
A4: 46296.293 | B4: P87004 | C4: 1/SALFORD MEDICAL PRACTICE | D4: M6 5PP | E4: U60510 | F4: SALFORD SOUTH EAST PCN | G4: E38000143 | H4: 01G | I4: NHS Greater Manchester ICB - 01G | J4: QOP | K4: NHS Greater Manchester ICB | L4: E40000014 | M4: Y62 | N4: North West | O4: 16224 | P4: 2026-09-01
A5: 46296.293 | B5: N84035 | C5: 15 SEFTON ROAD | D5: L21 9HA | E5: U | F5: Unallocated | G5: E38000161 | H5: 01T | I5: NHS Cheshire and Merseyside ICB - 01T | J5: QYG | K5: NHS Cheshire and Merseyside ICB | L5: E40000014 | M5: Y62 | N5: North West | O5: 3529 | P5: 2026-09-01
A6: 46296.293 | B6: L81051 | C6: 168 MEDICAL GROUP | D6: BS23 3HQ | E6: U63843 | F6: PIER HEALTH PCN | G6: E38000222 | H6: 15C | I6: NHS Bristol, North Somerset and South Gloucestershire ICB - 15C | J6: QUY | K6: NHS Bristol, North Somerset and South Gloucestershire ICB | L6: E40000006 | M6: Y58 | N6: South West | O6: 25037 | P6: 2026-09-01
A7: 46296.293 | B7: K81645 | C7: 240 WEXHAM ROAD | D7: SL2 5JP | E7: U14694 | F7: CENTRAL SLOUGH NETWORK PCN | G7: E38000268 | H7: U2G6B | I7: NHS Thames Valley ICB - U2G6B | J7: S0E4D | K7: NHS Thames Valley ICB | L7: E40000005 | M7: Y59 | N7: South East | O7: 7332 | P7: 2026-09-01
A8: 46296.293 | B8: P87024 | C8: 3/SPRINGFIELD HOUSE MEDICAL PRACTICE | D8: M30 8QD | E8: U00203 | F8: ECCLES & IRLAM PCN | G8: E38000143 | H8: 01G | I8: NHS Greater Manchester ICB - 01G | J8: QOP | K8: NHS Greater Manchester ICB | L8: E40000014 | M8: Y62 | N8: North West | O8: 11470 | P8: 2026-09-01
A9: 46296.293 | B9: Y00186 | C9: 3D MEDICAL CENTRE | D9: BL3 5DP | E9: U65316 | F9: BOLTON CENTRAL PCN | G9: E38000016 | H9: 00T | I9: NHS Greater Manchester ICB - 00T | J9: QOP | K9: NHS Greater Manchester ICB | L9: E40000014 | M9: Y62 | N9: North West | O9: 1589 | P9: 2026-09-01
A10: 46296.293 | B10: K82070 | C10: 3W HEALTH | D10: LU7 0NE | E10: U77200 | F10: NORTH BUCKS PCN | G10: E38000223 | H10: 14Y | I10: NHS Thames Valley ICB - 14Y | J10: S0E4D | K10: NHS Thames Valley ICB | L10: E40000005 | M10: Y59 | N10: South East | O10: 19781 | P10: 2026-09-01
A11: 46296.293 | B11: N81645 | C11: 4 SEASONS MEDICAL CENTRE | D11: WA2 8HE | E11: U45014 | F11: WARRINGTON INNOVATION PCN | G11: E38000194 | H11: 02E | I11: NHS Cheshire and Merseyside ICB - 02E | J11: QYG | K11: NHS Cheshire and Merseyside ICB | L11: E40000014 | M11: Y62 | N11: North West | O11: 2229 | P11: 2026-09-01
A12: 46296.293 | B12: N84001 | C12: 42 KINGSWAY | D12: L22 4RQ | E12: U37618 | F12: SOUTH SEFTON PCN | G12: E38000161 | H12: 01T | I12: NHS Cheshire and Merseyside ICB - 01T | J12: QYG | K12: NHS Cheshire and Merseyside ICB | L12: E40000014 | M12: Y62 | N12: North West | O12: 9028 | P12: 2026-09-01
A13: 46296.293 | B13: F82670 | C13: ABBAMOOR SURGERY | D13: RM3 9SU | E13: U55939 | F13: HAVERING NORTH PCN | G13: E38000255 | H13: A3A8R | I13: NHS North East London ICB - A3A8R | J13: QMF | K13: NHS North East London ICB | L13: E40000003 | M13: Y56 | N13: London | O13: 6234 | P13: 2026-09-01
... A6129: 46296.293 | B6129: A81048 | C6129: ZETLAND MEDICAL PRACTICE | D6129: TS11 7BL | E6129: U23714 | F6129: REDCAR COASTAL PCN | G6129: E38000247 | H6129: 16C | I6129: NHS North East and North Cumbria ICB - 16C | J6129: QHM | K6129: NHS North East and North Cumbria ICB | L6129: E40000012 | M6129: Y63 | N6129: North East and Yorkshire | O6129: 7208 | P6129: 2026-09-01

Sheet gp-reg-pat-prac-map
A1: PUBLICATION | B1: EXTRACT_DATE | C1: PRACTICE_CODE | D1: PRACTICE_NAME | E1: PRACTICE_POSTCODE | F1: PCN_CODE | G1: PCN_NAME | H1: ONS_SUB_ICB_LOCATION_CODE | I1: SUB_ICB_LOCATION_CODE | J1: SUB_ICB_LOCATION_NAME | K1: ONS_ICB_CODE | L1: ICB_CODE | M1: ICB_NAME | N1: ONS_COMM_REGION_CODE | O1: COMM_REGION_CODE | P1: COMM_REGION_NAME | Q1: SUPPLIER_NAME
A2: GP_PRAC_PAT_LIST | B2: 46296 | C2: A81001 | D2: THE DENSHAM SURGERY | E2: TS18 1HU | F2: U89141 | G2: STOCKTON PCN | H2: E38000247 | I2: 16C | J2: NHS North East and North Cumbria ICB - 16C | K2: E54000050 | L2: QHM | M2: NHS North East and North Cumbria Integrated Care Board | N2: E40000012 | O2: Y63 | P2: North East and Yorkshire | Q2: TPP
A3: GP_PRAC_PAT_LIST | B3: 46296 | C3: A81002 | D3: QUEENS PARK MEDICAL CENTRE | E3: TS18 2AW | F3: U07032 | G3: NORTH STOCKTON PCN | H3: E38000247 | I3: 16C | J3: NHS North East and North Cumbria ICB - 16C | K3: E54000050 | L3: QHM | M3: NHS North East and North Cumbria Integrated Care Board | N3: E40000012 | O3: Y63 | P3: North East and Yorkshire | Q3: TPP
A4: GP_PRAC_PAT_LIST | B4: 46296 | C4: A81004 | D4: ACKLAM MEDICAL CENTRE | E4: TS5 8SB | F4: U02671 | G4: GREATER MIDDLESBROUGH PCN | H4: E38000247 | I4: 16C | J4: NHS North East and North Cumbria ICB - 16C | K4: E54000050 | L4: QHM | M4: NHS North East and North Cumbria Integrated Care Board | N4: E40000012 | O4: Y63 | P4: North East and Yorkshire | Q4: TPP
A5: GP_PRAC_PAT_LIST | B5: 46296 | C5: A81005 | D5: SPRINGWOOD SURGERY | E5: TS14 7DJ | F5: U07842 | G5: EAST CLEVELAND PCN | H5: E38000247 | I5: 16C | J5: NHS North East and North Cumbria ICB - 16C | K5: E54000050 | L5: QHM | M5: NHS North East and North Cumbria Integrated Care Board | N5: E40000012 | O5: Y63 | P5: North East and Yorkshire | Q5: TPP
A6: GP_PRAC_PAT_LIST | B6: 46296 | C6: A81006 | D6: TENNANT STREET MEDICAL PRACTICE | E6: TS18 2AT | F6: U07032 | G6: NORTH STOCKTON PCN | H6: E38000247 | I6: 16C | J6: NHS North East and North Cumbria ICB - 16C | K6: E54000050 | L6: QHM | M6: NHS North East and North Cumbria Integrated Care Board | N6: E40000012 | O6: Y63 | P6: North East and Yorkshire | Q6: TPP
A7: GP_PRAC_PAT_LIST | B7: 46296 | C7: A81007 | D7: BANKHOUSE SURGERY | E7: TS24 7PW | F7: U27349 | G7: ONE LIFE HARTLEPOOL PCN | H7: E38000247 | I7: 16C | J7: NHS North East and North Cumbria ICB - 16C | K7: E54000050 | L7: QHM | M7: NHS North East and North Cumbria Integrated Care Board | N7: E40000012 | O7: Y63 | P7: North East and Yorkshire | Q7: TPP
A8: GP_PRAC_PAT_LIST | B8: 46296 | C8: A81009 | D8: VILLAGE MEDICAL CENTRE | E8: TS5 6HF | F8: U85008 | G8: HOLGATE PCN | H8: E38000247 | I8: 16C | J8: NHS North East and North Cumbria ICB - 16C | K8: E54000050 | L8: QHM | M8: NHS North East and North Cumbria Integrated Care Board | N8: E40000012 | O8: Y63 | P8: North East and Yorkshire | Q8: TPP
A9: GP_PRAC_PAT_LIST | B9: 46296 | C9: A81011 | D9: CHADWICK PRACTICE | E9: TS24 7PW | F9: U27349 | G9: ONE LIFE HARTLEPOOL PCN | H9: E38000247 | I9: 16C | J9: NHS North East and North Cumbria ICB - 16C | K9: E54000050 | L9: QHM | M9: NHS North East and North Cumbria Integrated Care Board | N9: E40000012 | O9: Y63 | P9: North East and Yorkshire | Q9: TPP
A10: GP_PRAC_PAT_LIST | B10: 46296 | C10: A81012 | D10: WESTBOURNE MEDICAL CENTRE | E10: TS3 6AL | F10: U02671 | G10: GREATER MIDDLESBROUGH PCN | H10: E38000247 | I10: 16C | J10: NHS North East and North Cumbria ICB - 16C | K10: E54000050 | L10: QHM | M10: NHS North East and North Cumbria Integrated Care Board | N10: E40000012 | O10: Y63 | P10: North East and Yorkshire | Q10: TPP
A11: GP_PRAC_PAT_LIST | B11: 46296 | C11: A81013 | D11: BROTTON SURGERY | E11: TS12 2FF | F11: U07842 | G11: EAST CLEVELAND PCN | H11: E38000247 | I11: 16C | J11: NHS North East and North Cumbria ICB - 16C | K11: E54000050 | L11: QHM | M11: NHS North East and North Cumbria Integrated Care Board | N11: E40000012 | O11: Y63 | P11: North East and Yorkshire | Q11: TPP
A12: GP_PRAC_PAT_LIST | B12: 46296 | C12: A81014 | D12: QUEENSTREE PRACTICE | E12: TS23 2LA | F12: U94460 | G12: BILLINGHAM & NORTON PCN | H12: E38000247 | I12: 16C | J12: NHS North East and North Cumbria ICB - 16C | K12: E54000050 | L12: QHM | M12: NHS North East and North Cumbria Integrated Care Board | N12: E40000012 | O12: Y63 | P12: North East and Yorkshire | Q12: TPP
A13: GP_PRAC_PAT_LIST | B13: 46296 | C13: A81016 | D13: PARK SURGERY | E13: TS1 3QY | F13: U55830 | G13: CENTRAL MIDDLESBROUGH PCN LTD | H13: E38000247 | I13: 16C | J13: NHS North East and North Cumbria ICB - 16C | K13: E54000050 | L13: QHM | M13: NHS North East and North Cumbria Integrated Care Board | N13: E40000012 | O13: Y63 | P13: North East and Yorkshire | Q13: TPP
... A6125: GP_PRAC_PAT_LIST | B6125: 46296 | C6125: Y08411 | D6125: ONE CARE LEWISHAM | E6125: SE23 1RJ | F6125: U53896 | G6125: NORTH LEWISHAM PCN | H6125: E38000244 | I6125: 72Q | J6125: NHS South East London ICB - 72Q | K6125: E54000030 | L6125: QKK | M6125: NHS South East London Integrated Care Board | N6125: E40000003 | O6125: Y56 | P6125: London | Q6125: EMIS

Sheet gp-reg-pat-prac-all
A1: PUBLICATION | B1: EXTRACT_DATE | C1: TYPE | D1: SUB_ICB_LOCATION_CODE | E1: ONS_SUB_ICB_LOCATION_CODE | F1: CODE | G1: POSTCODE | H1: SEX | I1: AGE | J1: NUMBER_OF_PATIENTS
A2: GP_PRAC_PAT_LIST | B2: 46296 | C2: GP | D2: 16C | E2: E38000247 | F2: A81001 | G2: TS18 1HU | H2: ALL | I2: ALL | J2: 3684
A3: GP_PRAC_PAT_LIST | B3: 46296 | C3: GP | D3: 16C | E3: E38000247 | F3: A81002 | G3: TS18 2AW | H3: ALL | I3: ALL | J3: 18448
A4: GP_PRAC_PAT_LIST | B4: 46296 | C4: GP | D4: 16C | E4: E38000247 | F4: A81004 | G4: TS5 8SB | H4: ALL | I4: ALL | J4: 11369
A5: GP_PRAC_PAT_LIST | B5: 46296 | C5: GP | D5: 16C | E5: E38000247 | F5: A81005 | G5: TS14 7DJ | H5: ALL | I5: ALL | J5: 7447
A6: GP_PRAC_PAT_LIST | B6: 46296 | C6: GP | D6: 16C | E6: E38000247 | F6: A81006 | G6: TS18 2AT | H6: ALL | I6: ALL | J6: 14562
A7: GP_PRAC_PAT_LIST | B7: 46296 | C7: GP | D7: 16C | E7: E38000247 | F7: A81007 | G7: TS24 7PW | H7: ALL | I7: ALL | J7: 10337
A8: GP_PRAC_PAT_LIST | B8: 46296 | C8: GP | D8: 16C | E8: E38000247 | F8: A81009 | G8: TS5 6HF | H8: ALL | I8: ALL | J8: 7619
A9: GP_PRAC_PAT_LIST | B9: 46296 | C9: GP | D9: 16C | E9: E38000247 | F9: A81011 | G9: TS24 7PW | H9: ALL | I9: ALL | J9: 11918
A10: GP_PRAC_PAT_LIST | B10: 46296 | C10: GP | D10: 16C | E10: E38000247 | F10: A81012 | G10: TS3 6AL | H10: ALL | I10: ALL | J10: 5493
A11: GP_PRAC_PAT_LIST | B11: 46296 | C11: GP | D11: 16C | E11: E38000247 | F11: A81013 | G11: TS12 2FF | H11: ALL | I11: ALL | J11: 7857
A12: GP_PRAC_PAT_LIST | B12: 46296 | C12: GP | D12: 16C | E12: E38000247 | F12: A81014 | G12: TS23 2LA | H12: ALL | I12: ALL | J12: 4033
A13: GP_PRAC_PAT_LIST | B13: 46296 | C13: GP | D13: 16C | E13: E38000247 | F13: A81016 | G13: TS1 3QY | H13: ALL | I13: ALL | J13: 12683
... A6125: GP_PRAC_PAT_LIST | B6125: 46296 | C6125: GP | D6125: 72Q | E6125: E38000244 | F6125: Y08411 | G6125: SE23 1RJ | H6125: ALL | I6125: ALL | J6125: 320

Sheet ICB Reference
A1: ICB Reference and Regional Mapping
A3: Current ICB | B3: Previous ICB / Alias | C3: ICB26CD | D3: ICB26CDH | E3: ObjectId | F3: ODS Code | G3: Cluster | H3: Region
A4: NHS CENTRAL EAST INTEGRATED CARE BOARD | B4: NHS CENTRAL EAST INTEGRATED CARE BOARD; NHS BEDFORDSHIRE, LUTON AND MILTON KEYNES ICB | C4: E54000065 | D4: S1Y5D | E4: 30 | F4: S1Y5D | G4: NHS CENTRAL EAST INTEGRATED CARE BOARD | H4: East of England
A5: NHS ESSEX INTEGRATED CARE BOARD | B5: NHS ESSEX INTEGRATED CARE BOARD | C5: E54000066 | D5: D7T5G | E5: 31 | F5: D7T5G | G5: NHS ESSEX INTEGRATED CARE BOARD | H5: East of England
A6: NHS NORFOLK AND SUFFOLK INTEGRATED CARE BOARD | B6: NHS NORFOLK AND SUFFOLK INTEGRATED CARE BOARD | C6: E54000068 | D6: T6Y0W | E6: 33 | F6: T6Y0W | G6: NHS NORFOLK AND SUFFOLK INTEGRATED CARE BOARD | H6: East of England
A7: NHS NORTH EAST LONDON INTEGRATED CARE BOARD | B7: NHS NORTH EAST LONDON INTEGRATED CARE BOARD | C7: E54000029 | D7: QMF | E7: 8 | F7: QMF | G7: NHS NORTH EAST LONDON INTEGRATED CARE BOARD | H7: London
A8: NHS SOUTH EAST LONDON INTEGRATED CARE BOARD | B8: NHS SOUTH EAST LONDON INTEGRATED CARE BOARD | C8: E54000030 | D8: QKK | E8: 9 | F8: QKK | G8: South East London ICB With South West London ICB | H8: London
A9: NHS SOUTH WEST LONDON INTEGRATED CARE BOARD | B9: NHS SOUTH WEST LONDON INTEGRATED CARE BOARD | C9: E54000031 | D9: QWE | E9: 10 | F9: QWE | G9: South East London ICB With South West London ICB | H9: London
A10: NHS WEST AND NORTH LONDON INTEGRATED CARE BOARD | B10: NHS WEST AND NORTH LONDON INTEGRATED CARE BOARD | C10: E54000071 | D10: Z9B2Z | E10: 36 | F10: Z9B2Z | G10: NHS WEST AND NORTH LONDON INTEGRATED CARE BOARD | H10: London
A11: NHS BIRMINGHAM AND SOLIHULL INTEGRATED CARE BOARD | B11: NHS BIRMINGHAM AND SOLIHULL INTEGRATED CARE BOARD | C11: E54000055 | D11: QHL | E11: 23 | F11: QHL | G11: Birmingham and Solihull ICB with Black Country ICB | H11: Midlands
A12: NHS BLACK COUNTRY INTEGRATED CARE BOARD | B12: NHS BLACK COUNTRY INTEGRATED CARE BOARD | C12: E54000062 | D12: QUA | E12: 29 | F12: QUA | G12: Birmingham and Solihull ICB with Black Country ICB | H12: Midlands
A13: NHS COVENTRY AND WARWICKSHIRE INTEGRATED CARE BOARD | B13: NHS COVENTRY AND WARWICKSHIRE INTEGRATED CARE BOARD | C13: E54000018 | D13: QWU | E13: 6 | F13: QWU | G13: Coventry and Warwickshire ICB with Herefordshire and Worcestershire ICB | H13: Midlands
A14: NHS DERBY AND DERBYSHIRE INTEGRATED CARE BOARD | B14: NHS DERBY AND DERBYSHIRE ICB | C14: E54000058 | D14: QJ2 | E14: 25 | F14: QJ2 | G14: Derby and Derbyshire ICB with Lincolnshire ICB and with Nottingham and Nottinghamshire ICB | H14: Midlands
A15: NHS HEREFORDSHIRE AND WORCESTERSHIRE INTEGRATED CARE BOARD | B15: NHS HEREFORDSHIRE AND WORCESTERSHIRE INTEGRATED CARE BOARD | C15: E54000019 | D15: QGH | E15: 7 | F15: QGH | G15: Coventry and Warwickshire ICB with Herefordshire and Worcestershire ICB | H15: Midlands
... A39: NHS SOMERSET INTEGRATED CARE BOARD | B39: NHS SOMERSET INTEGRATED CARE BOARD | C39: E54000038 | D39: QSL | E39: 14 | F39: QSL | G39: Bath and North East Somerset, Swindon and Wiltshire ICB with Dorset ICB and with Somerset ICB | H39: South West
A40: NHS THAMES VALLEY INTEGRATED CARE BOARD | B40: NHS Buckinghamshire, Oxfordshire and Berkshire West ICB | D40: QU9 | F40: S0E4D | H40: South East
A41: NHS CENTRAL EAST INTEGRATED CARE BOARD | B41: NHS Hertfordshire and West Essex ICB | D41: QM7 | H41: East of England
A42: NHS NORFOLK AND SUFFOLK INTEGRATED CARE BOARD | B42: NHS Norfolk and Waveney ICB | D42: QMM | F42: T6Y0W | H42: East of England
A43: NHS WEST AND NORTH LONDON INTEGRATED CARE BOARD | B43: NHS North Central London ICB | D43: QMJ | F43: Z9B2Z | H43: London
A44: NHS SURREY AND SUSSEX INTEGRATED CARE BOARD | B44: NHS Sussex ICB | D44: QNX | F44: S9B9J | H44: South East
A45: NHS NORFOLK AND SUFFOLK INTEGRATED CARE BOARD | B45: NHS Suffolk and North East Essex ICB | D45: QJG | F45: T6Y0W | H45: East of England
A46: NHS WEST AND NORTH LONDON INTEGRATED CARE BOARD | B46: NHS North West London ICB | D46: QRV | F46: Z9B2Z | H46: London
A47: NHS THAMES VALLEY INTEGRATED CARE BOARD | B47: NHS Frimley ICB | D47: QNQ | F47: S0E4D | H47: South East
A48: NHS CENTRAL EAST INTEGRATED CARE BOARD | B48: NHS Hertfordshire and West Essex ICB | C48: Everest House Surgery | H48: East of England
A49: NHS ESSEX INTEGRATED CARE BOARD | B49: NHS Mid and South Essex ICB | D49: QH8 | F49: D7T5G | H49: East of England
A50: NHS Greater Glasgow and Clyde | C50: Crookston Medical Centre | H50: Scotland
A51: Powys Teaching Health Board | C51: Haygarth Medical Centres | H51: Wales
A52: Powys Teaching Health Board | C52: Castle Surgery | H52: Wales
A53: Swansea Bay University Health Board | C53: Victoria Gardens Surgery | H53: Wales
A54: Swansea Bay University Health Board
A55: NHS Trust | B55: NHS Trust | H55: NHS Trust
B56: London | H56: London
B57: Midlands | H57: Midlands
A58: South East | B58: South East | H58: South East
A59: South West | B59: South West | H59: South West
A60: Betsi Cadwaladr University Health Board | C60: Queensferry Medical Practice | H60: Wales
A61: Cardiff | H61: Wales
